BEGIN:VCALENDAR
VERSION:2.0
PRODID:-//AQUA DOC® - ECPv6.15.20//NONSGML v1.0//EN
CALSCALE:GREGORIAN
METHOD:PUBLISH
X-WR-CALNAME:AQUA DOC®
X-ORIGINAL-URL:https://www.aquadocinc.com
X-WR-CALDESC:Events for AQUA DOC®
REFRESH-INTERVAL;VALUE=DURATION:PT1H
X-Robots-Tag:noindex
X-PUBLISHED-TTL:PT1H
BEGIN:VTIMEZONE
TZID:America/Detroit
BEGIN:DAYLIGHT
TZOFFSETFROM:-0500
TZOFFSETTO:-0400
TZNAME:EDT
DTSTART:20250309T070000
END:DAYLIGHT
BEGIN:STANDARD
TZOFFSETFROM:-0400
TZOFFSETTO:-0500
TZNAME:EST
DTSTART:20251102T060000
END:STANDARD
BEGIN:DAYLIGHT
TZOFFSETFROM:-0500
TZOFFSETTO:-0400
TZNAME:EDT
DTSTART:20260308T070000
END:DAYLIGHT
BEGIN:STANDARD
TZOFFSETFROM:-0400
TZOFFSETTO:-0500
TZNAME:EST
DTSTART:20261101T060000
END:STANDARD
BEGIN:DAYLIGHT
TZOFFSETFROM:-0500
TZOFFSETTO:-0400
TZNAME:EDT
DTSTART:20270314T070000
END:DAYLIGHT
BEGIN:STANDARD
TZOFFSETFROM:-0400
TZOFFSETTO:-0500
TZNAME:EST
DTSTART:20271107T060000
END:STANDARD
END:VTIMEZONE
BEGIN:VEVENT
DTSTART;TZID=America/Detroit:20260225T080000
DTEND;TZID=America/Detroit:20260226T170000
DTSTAMP:20260425T073408
CREATED:20260106T180342Z
LAST-MODIFIED:20260106T180342Z
UID:13908-1772006400-1772125200@www.aquadocinc.com
SUMMARY:PALMS Annual Conference
DESCRIPTION:
URL:https://www.aquadocinc.com/event/palms-annual-conference-3/
LOCATION:Wyndham Garden State College\, 310 Elks Club Rd\, Boalsburg\, PA\, 16827\, United States
END:VEVENT
END:VCALENDAR