BEGIN:VCALENDAR
VERSION:2.0
PRODID:-//AQUA DOC® - ECPv6.15.20//NONSGML v1.0//EN
CALSCALE:GREGORIAN
METHOD:PUBLISH
X-ORIGINAL-URL:https://www.aquadocinc.com
X-WR-CALDESC:Events for AQUA DOC®
REFRESH-INTERVAL;VALUE=DURATION:PT1H
X-Robots-Tag:noindex
X-PUBLISHED-TTL:PT1H
BEGIN:VTIMEZONE
TZID:America/Detroit
BEGIN:DAYLIGHT
TZOFFSETFROM:-0500
TZOFFSETTO:-0400
TZNAME:EDT
DTSTART:20250309T070000
END:DAYLIGHT
BEGIN:STANDARD
TZOFFSETFROM:-0400
TZOFFSETTO:-0500
TZNAME:EST
DTSTART:20251102T060000
END:STANDARD
BEGIN:DAYLIGHT
TZOFFSETFROM:-0500
TZOFFSETTO:-0400
TZNAME:EDT
DTSTART:20260308T070000
END:DAYLIGHT
BEGIN:STANDARD
TZOFFSETFROM:-0400
TZOFFSETTO:-0500
TZNAME:EST
DTSTART:20261101T060000
END:STANDARD
BEGIN:DAYLIGHT
TZOFFSETFROM:-0500
TZOFFSETTO:-0400
TZNAME:EDT
DTSTART:20270314T070000
END:DAYLIGHT
BEGIN:STANDARD
TZOFFSETFROM:-0400
TZOFFSETTO:-0500
TZNAME:EST
DTSTART:20271107T060000
END:STANDARD
END:VTIMEZONE
BEGIN:VEVENT
DTSTART;TZID=America/Detroit:20260509T090000
DTEND;TZID=America/Detroit:20260509T110000
DTSTAMP:20260425T072756
CREATED:20260305T160132Z
LAST-MODIFIED:20260305T160132Z
UID:14053-1778317200-1778324400@www.aquadocinc.com
SUMMARY:Duck Race Chagrin Falls
DESCRIPTION:The Chagrin Valley Chamber of Commerce is thrilled to announce  our 6th Annual Rubber Ducky Race\, happening Saturday\, May 9th! 💦 \nWhat is a Rubber Ducky Race\, you ask?  A rubber ducky’s journey down the river\, under the bridge and over the falls to the finish line.  If your adoption paper’s number matches the number on the bottom of the winning duck… you win!\n\nAQUA DOC will make sure that no duck is left behind and will be handling everything in the River with the assistance of the Chagrin Valley Fire Department.
URL:https://www.aquadocinc.com/event/duck-race-chagrin-falls/
LOCATION:Chagrin River in Downtown Chagrin Falls\, 100 N Main St\, Chagrin Falls\, 44022\, United States
END:VEVENT
END:VCALENDAR