BEGIN:VCALENDAR
VERSION:2.0
PRODID:-//AQUA DOC® - ECPv6.15.20//NONSGML v1.0//EN
CALSCALE:GREGORIAN
METHOD:PUBLISH
X-WR-CALNAME:AQUA DOC®
X-ORIGINAL-URL:https://www.aquadocinc.com
X-WR-CALDESC:Events for AQUA DOC®
REFRESH-INTERVAL;VALUE=DURATION:PT1H
X-Robots-Tag:noindex
X-PUBLISHED-TTL:PT1H
BEGIN:VTIMEZONE
TZID:America/Detroit
BEGIN:DAYLIGHT
TZOFFSETFROM:-0500
TZOFFSETTO:-0400
TZNAME:EDT
DTSTART:20240310T070000
END:DAYLIGHT
BEGIN:STANDARD
TZOFFSETFROM:-0400
TZOFFSETTO:-0500
TZNAME:EST
DTSTART:20241103T060000
END:STANDARD
BEGIN:DAYLIGHT
TZOFFSETFROM:-0500
TZOFFSETTO:-0400
TZNAME:EDT
DTSTART:20250309T070000
END:DAYLIGHT
BEGIN:STANDARD
TZOFFSETFROM:-0400
TZOFFSETTO:-0500
TZNAME:EST
DTSTART:20251102T060000
END:STANDARD
BEGIN:DAYLIGHT
TZOFFSETFROM:-0500
TZOFFSETTO:-0400
TZNAME:EDT
DTSTART:20260308T070000
END:DAYLIGHT
BEGIN:STANDARD
TZOFFSETFROM:-0400
TZOFFSETTO:-0500
TZNAME:EST
DTSTART:20261101T060000
END:STANDARD
BEGIN:DAYLIGHT
TZOFFSETFROM:-0500
TZOFFSETTO:-0400
TZNAME:EDT
DTSTART:20270314T070000
END:DAYLIGHT
BEGIN:STANDARD
TZOFFSETFROM:-0400
TZOFFSETTO:-0500
TZNAME:EST
DTSTART:20271107T060000
END:STANDARD
END:VTIMEZONE
BEGIN:VEVENT
DTSTART;TZID=America/Detroit:20251219T110000
DTEND;TZID=America/Detroit:20260105T080000
DTSTAMP:20260425T103927
CREATED:20251202T183632Z
LAST-MODIFIED:20251217T180953Z
UID:13836-1766142000-1767600000@www.aquadocinc.com
SUMMARY:Holiday Shut Down
DESCRIPTION:AQUA DOC will be closed for our annual holiday shutdown starting December 19\, 2025 @ 11am\, and will return to the office on January 5\, 2026. We wish you and your loved ones a happy\, safe holiday season\, and may the new year bring joy and brighter days ahead!
URL:https://www.aquadocinc.com/event/holiday-shut-down/
LOCATION:PA
ATTACH;FMTTYPE=image/png:https://www.aquadocinc.com/wp-content/uploads/2025/12/AQUA-DOC-Logo-with-Elves.png
END:VEVENT
BEGIN:VEVENT
DTSTART;TZID=America/Detroit:20260115T080000
DTEND;TZID=America/Detroit:20260116T170000
DTSTAMP:20260425T103927
CREATED:20251217T174226Z
LAST-MODIFIED:20251217T174226Z
UID:13857-1768464000-1768582800@www.aquadocinc.com
SUMMARY:Aquatic Control Annual Workshop
DESCRIPTION:
URL:https://www.aquadocinc.com/event/aquatic-control-annual-workshop-2/
LOCATION:Embassy Suites\, 4955 Kyngs Heath Rd.\, Kissimmee\, Florida\, 34746\, United States
END:VEVENT
BEGIN:VEVENT
DTSTART;TZID=America/Detroit:20260115T090000
DTEND;TZID=America/Detroit:20260117T160000
DTSTAMP:20260425T103927
CREATED:20251217T174622Z
LAST-MODIFIED:20251217T174622Z
UID:13859-1768467600-1768665600@www.aquadocinc.com
SUMMARY:NE Ohio Sportsman Show
DESCRIPTION:Experience the largest annual gathering of hunting and fishing enthusiasts in Northeast Ohio at The Northeast Ohio Sportsman Show. The show grounds\, spanning over a staggering 120\,000+ sq ft\, are a sight to behold.
URL:https://www.aquadocinc.com/event/ne-ohio-sportsman-show-2/
LOCATION:Mount Hope Event Center\, 8076 OH-241\, Millersburg\, OH\, 44654\, United States
END:VEVENT
BEGIN:VEVENT
DTSTART;TZID=America/Detroit:20260119T080000
DTEND;TZID=America/Detroit:20260122T170000
DTSTAMP:20260425T103927
CREATED:20251217T175114Z
LAST-MODIFIED:20251217T175114Z
UID:13862-1768809600-1769101200@www.aquadocinc.com
SUMMARY:SLMP (Society of Lake Management Professionals) Annual Summit
DESCRIPTION:
URL:https://www.aquadocinc.com/event/slmp-society-of-lake-management-professionals-annual-summit/
LOCATION:Embassy Suites\, 4955 Kyngs Heath Rd.\, Kissimmee\, Florida\, 34746\, United States
END:VEVENT
BEGIN:VEVENT
DTSTART;TZID=America/Detroit:20260123T080000
DTEND;TZID=America/Detroit:20260124T170000
DTSTAMP:20260425T103927
CREATED:20251217T180504Z
LAST-MODIFIED:20251217T180504Z
UID:13868-1769155200-1769274000@www.aquadocinc.com
SUMMARY:Ohio Aquaculture Association (OAA) Conference
DESCRIPTION:
URL:https://www.aquadocinc.com/event/ohio-aquaculture-association-oaa-conference/
LOCATION:Quest Center\, 9200 Wortington Rd\, Westerville\, OH\, 43082\, United States
END:VEVENT
BEGIN:VEVENT
DTSTART;TZID=America/Detroit:20260123T080000
DTEND;TZID=America/Detroit:20260125T170000
DTSTAMP:20260425T103927
CREATED:20251217T175530Z
LAST-MODIFIED:20251217T175530Z
UID:13864-1769155200-1769360400@www.aquadocinc.com
SUMMARY:Cincinnati Travel\, Sports & Boat Show
DESCRIPTION:From travel destinations to boating\, fishing\nand hunting – your next adventures can be\nfound right here under one roof.
URL:https://www.aquadocinc.com/event/cincinnati-travel-sports-boat-show-3/
LOCATION:Duke Energy Convention Center\, 525 Elm Street\, Cincinnati\, OH\, 45202\, United States
END:VEVENT
BEGIN:VEVENT
DTSTART;TZID=America/Detroit:20260123T100000
DTEND;TZID=America/Detroit:20260125T180000
DTSTAMP:20260425T103927
CREATED:20251217T180119Z
LAST-MODIFIED:20251217T180119Z
UID:13866-1769162400-1769364000@www.aquadocinc.com
SUMMARY:North Atlanta Home Show
DESCRIPTION:Search for home improvement experts\, from flooring to roofing and everything in-between.
URL:https://www.aquadocinc.com/event/north-atlanta-home-show-3/
LOCATION:Gas South Convention Center\, 6400 Sugarloaf Pkwy\, Duluth\, OH\, 30097\, United States
END:VEVENT
BEGIN:VEVENT
DTSTART;TZID=America/Detroit:20260130T100000
DTEND;TZID=America/Detroit:20260208T180000
DTSTAMP:20260425T103927
CREATED:20251217T180811Z
LAST-MODIFIED:20251217T180811Z
UID:13871-1769767200-1770573600@www.aquadocinc.com
SUMMARY:Great Big Home & Garden Show
DESCRIPTION:
URL:https://www.aquadocinc.com/event/great-big-home-garden-show-2/
LOCATION:I-X Center\, 1 I-X Center\, Cleveland\, OH\, 44135\, United States
END:VEVENT
BEGIN:VEVENT
DTSTART;TZID=America/Detroit:20260201T080000
DTEND;TZID=America/Detroit:20260204T170000
DTSTAMP:20260425T103927
CREATED:20260106T174628Z
LAST-MODIFIED:20260106T174859Z
UID:13885-1769932800-1770224400@www.aquadocinc.com
SUMMARY:OPRA Conference & Trade Show
DESCRIPTION:
URL:https://www.aquadocinc.com/event/opra-conference-trade-show-6/
LOCATION:Kalahari Resorts & Conventions\, 7000 Kalahari Dr\, Sandusky\, OH\, 44870\, United States
END:VEVENT
BEGIN:VEVENT
DTSTART;TZID=America/Detroit:20260204T080000
DTEND;TZID=America/Detroit:20260206T170000
DTSTAMP:20260425T103927
CREATED:20260106T174805Z
LAST-MODIFIED:20260106T174805Z
UID:13887-1770192000-1770397200@www.aquadocinc.com
SUMMARY:OTA Ohio Township Association
DESCRIPTION:
URL:https://www.aquadocinc.com/event/ota-ohio-township-association-2/
LOCATION:Greater Columbus Convention Center\, 400 N. High St\, Columbus\, OH\, 43215\, United States
END:VEVENT
BEGIN:VEVENT
DTSTART;TZID=America/Detroit:20260209T080000
DTEND;TZID=America/Detroit:20260211T170000
DTSTAMP:20260425T103927
CREATED:20260106T175126Z
LAST-MODIFIED:20260106T175126Z
UID:13891-1770624000-1770829200@www.aquadocinc.com
SUMMARY:OFSWCD Annual Partnership Meeting
DESCRIPTION:
URL:https://www.aquadocinc.com/event/ofswcd-annual-partnership-meeting/
LOCATION:Columbus Hilton Downtown\, 402 North High St\, Columbus\, OH\, 43215\, United States
END:VEVENT
BEGIN:VEVENT
DTSTART;TZID=America/Detroit:20260209T080000
DTEND;TZID=America/Detroit:20260212T170000
DTSTAMP:20260425T103927
CREATED:20260106T180238Z
LAST-MODIFIED:20260106T180238Z
UID:13905-1770624000-1770915600@www.aquadocinc.com
SUMMARY:MAPMS
DESCRIPTION:
URL:https://www.aquadocinc.com/event/mapms-2/
LOCATION:Hyatt Regency Indianapolis\, 1 S Capitol Ave.\, Indianapolis\, IN\, 46204
END:VEVENT
BEGIN:VEVENT
DTSTART;TZID=America/Detroit:20260210T110000
DTEND;TZID=America/Detroit:20260210T140000
DTSTAMP:20260425T103927
CREATED:20260106T175011Z
LAST-MODIFIED:20260106T175011Z
UID:13889-1770721200-1770732000@www.aquadocinc.com
SUMMARY:Hocking College Hiring Event
DESCRIPTION:
URL:https://www.aquadocinc.com/event/hocking-college-hiring-event-3/
LOCATION:Student Center at the Nelsonville Campus
END:VEVENT
BEGIN:VEVENT
DTSTART;TZID=America/Detroit:20260214T080000
DTEND;TZID=America/Detroit:20260222T170000
DTSTAMP:20260425T103927
CREATED:20260106T175620Z
LAST-MODIFIED:20260106T175620Z
UID:13899-1771056000-1771779600@www.aquadocinc.com
SUMMARY:Central OH Home & Garden Show
DESCRIPTION:
URL:https://www.aquadocinc.com/event/central-oh-home-garden-show/
LOCATION:Ohio Expo Center\, 717 E. 17th Ave.\, Columbus\, OH\, 43211\, United States
END:VEVENT
BEGIN:VEVENT
DTSTART;TZID=America/Detroit:20260218T130000
DTEND;TZID=America/Detroit:20260218T160000
DTSTAMP:20260425T103927
CREATED:20260106T175304Z
LAST-MODIFIED:20260106T175304Z
UID:13893-1771419600-1771430400@www.aquadocinc.com
SUMMARY:Career Fair Food\, Agricultural\, and Environmental Sciences
DESCRIPTION:
URL:https://www.aquadocinc.com/event/career-fair-food-agricultural-and-environmental-sciences-2/
LOCATION:The Ohio Union\, 1739 N High St\, Columbus\, OH\, United States
END:VEVENT
BEGIN:VEVENT
DTSTART;TZID=America/Detroit:20260219T080000
DTEND;TZID=America/Detroit:20260219T160000
DTSTAMP:20260425T103927
CREATED:20260106T175402Z
LAST-MODIFIED:20260106T175402Z
UID:13895-1771488000-1771516800@www.aquadocinc.com
SUMMARY:Clean Water Contractor Expo
DESCRIPTION:
URL:https://www.aquadocinc.com/event/clean-water-contractor-expo-5/
LOCATION:Cedar Point Sports Center\, 2701 Cleveland Rd W\, Sandusky\, OH\, 44870\, United States
END:VEVENT
BEGIN:VEVENT
DTSTART;TZID=America/Detroit:20260220T080000
DTEND;TZID=America/Detroit:20260222T170000
DTSTAMP:20260425T103927
CREATED:20260106T175524Z
LAST-MODIFIED:20260106T175524Z
UID:13897-1771574400-1771779600@www.aquadocinc.com
SUMMARY:Cincinnati Home + Garden Show
DESCRIPTION:
URL:https://www.aquadocinc.com/event/cincinnati-home-garden-show-5/
LOCATION:Duke Energy Convention Center\, 525 Elm Street\, Cincinnati\, OH\, 45202\, United States
END:VEVENT
BEGIN:VEVENT
DTSTART;TZID=America/Detroit:20260220T080000
DTEND;TZID=America/Detroit:20260222T170000
DTSTAMP:20260425T103927
CREATED:20260106T175754Z
LAST-MODIFIED:20260106T175754Z
UID:13901-1771574400-1771779600@www.aquadocinc.com
SUMMARY:Indianapolis Boat\, Sport & Travel Show
DESCRIPTION:
URL:https://www.aquadocinc.com/event/indianapolis-boat-sport-travel-show-2/
LOCATION:Indiana State Fairgrounds/Blue Ribbon Pavillion
END:VEVENT
BEGIN:VEVENT
DTSTART;TZID=America/Detroit:20260220T080000
DTEND;TZID=America/Detroit:20260222T170000
DTSTAMP:20260425T103927
CREATED:20260106T180030Z
LAST-MODIFIED:20260106T180030Z
UID:13903-1771574400-1771779600@www.aquadocinc.com
SUMMARY:PRO Home & Garden Show
DESCRIPTION:
URL:https://www.aquadocinc.com/event/pro-home-garden-show-5/
LOCATION:Glass City Centre\, 401 Jefferson Ave.\, Toledo\, 43604\, United States
END:VEVENT
BEGIN:VEVENT
DTSTART;TZID=America/Detroit:20260225T080000
DTEND;TZID=America/Detroit:20260226T170000
DTSTAMP:20260425T103927
CREATED:20260106T180342Z
LAST-MODIFIED:20260106T180342Z
UID:13908-1772006400-1772125200@www.aquadocinc.com
SUMMARY:PALMS Annual Conference
DESCRIPTION:
URL:https://www.aquadocinc.com/event/palms-annual-conference-3/
LOCATION:Wyndham Garden State College\, 310 Elks Club Rd\, Boalsburg\, PA\, 16827\, United States
END:VEVENT
BEGIN:VEVENT
DTSTART;TZID=America/Detroit:20260228T080000
DTEND;TZID=America/Detroit:20260301T170000
DTSTAMP:20260425T103927
CREATED:20260106T180433Z
LAST-MODIFIED:20260106T180433Z
UID:13910-1772265600-1772384400@www.aquadocinc.com
SUMMARY:Medina County Home & Garden Show
DESCRIPTION:
URL:https://www.aquadocinc.com/event/medina-county-home-garden-show-2/
LOCATION:Medina County Community Center\, 735 Lafayette Rd\, Medina\, OH\, 44256\, United States
END:VEVENT
BEGIN:VEVENT
DTSTART;TZID=America/Detroit:20260306T080000
DTEND;TZID=America/Detroit:20260307T170000
DTSTAMP:20260425T103927
CREATED:20260305T134843Z
LAST-MODIFIED:20260305T134843Z
UID:13998-1772784000-1772902800@www.aquadocinc.com
SUMMARY:OCOA Spring Trade Show
DESCRIPTION:
URL:https://www.aquadocinc.com/event/ocoa-spring-trade-show-2/
LOCATION:Embassy Suites Columbus Airport\, 2886 Airport Dr.\, Columbus\, 43219\, United States
END:VEVENT
BEGIN:VEVENT
DTSTART;TZID=America/Detroit:20260306T100000
DTEND;TZID=America/Detroit:20260306T170000
DTSTAMP:20260425T103927
CREATED:20260305T134545Z
LAST-MODIFIED:20260305T134545Z
UID:13995-1772791200-1772816400@www.aquadocinc.com
SUMMARY:CAI Indiana Annual Educational Conference & Expo
DESCRIPTION:
URL:https://www.aquadocinc.com/event/cai-indiana-annual-educational-conference-expo/
LOCATION:Biltwell Event Center\, 950 S. White Parkway W. Dr.\, Indianapolis\, IN\, 46221\, United States
END:VEVENT
BEGIN:VEVENT
DTSTART;TZID=America/Detroit:20260307T180000
DTEND;TZID=America/Detroit:20260307T200000
DTSTAMP:20260425T103927
CREATED:20260305T135154Z
LAST-MODIFIED:20260305T135154Z
UID:14001-1772906400-1772913600@www.aquadocinc.com
SUMMARY:Emerald Ball Leadership Geauga
DESCRIPTION:The Emerald Ball is Leadership Geauga’s annual celebration and fundraiser\, bringing together alumni\, community leaders\, and supporters for an evening of dining\, entertainment\, and connection. A highlight of the event is the presentation of the Emerald Leader Award\, which honors an individual making a lasting impact in Geauga County. Proceeds support Leadership Geauga’s programs and mission to develop informed\, engaged leaders.
URL:https://www.aquadocinc.com/event/emerald-ball-leadership-geauga/
LOCATION:Landerhaven\, 6111 Landerhaven Dr.\, Mayfield Heights\, OH\, 44124\, United States
END:VEVENT
BEGIN:VEVENT
DTSTART;TZID=America/Detroit:20260309T080000
DTEND;TZID=America/Detroit:20260311T170000
DTSTAMP:20260425T103928
CREATED:20260305T140324Z
LAST-MODIFIED:20260305T140324Z
UID:14007-1773043200-1773248400@www.aquadocinc.com
SUMMARY:American Fisheries Society and The Wildlife Society
DESCRIPTION:
URL:https://www.aquadocinc.com/event/american-fisheries-society-and-the-wildlife-society/
LOCATION:Virginia Military Institute : Lexington\, Virginia\, VA\, 24450\, United States
END:VEVENT
BEGIN:VEVENT
DTSTART;TZID=America/Detroit:20260310T160000
DTEND;TZID=America/Detroit:20260310T180000
DTSTAMP:20260425T103928
CREATED:20260305T135441Z
LAST-MODIFIED:20260305T135441Z
UID:14004-1773158400-1773165600@www.aquadocinc.com
SUMMARY:AAA Reverse Trade Show
DESCRIPTION:
URL:https://www.aquadocinc.com/event/aaa-reverse-trade-show/
LOCATION:Cobb Convention Center\, 2 Galleria Parkway\, Atlanta\, GA\, 30339\, United States
END:VEVENT
BEGIN:VEVENT
DTSTART;TZID=America/Detroit:20260311T100000
DTEND;TZID=America/Detroit:20260311T130000
DTSTAMP:20260425T103928
CREATED:20260305T141041Z
LAST-MODIFIED:20260305T141041Z
UID:14013-1773223200-1773234000@www.aquadocinc.com
SUMMARY:CAI SC Outdoor Expo
DESCRIPTION:
URL:https://www.aquadocinc.com/event/cai-sc-outdoor-expo/
LOCATION:Myrtle Beach Sports Center\, 2115 Farlow St.\, Myrtle Beach\, SC\, 29577\, United States
END:VEVENT
BEGIN:VEVENT
DTSTART;TZID=America/Detroit:20260311T130000
DTEND;TZID=America/Detroit:20260311T180000
DTSTAMP:20260425T103928
CREATED:20260305T140755Z
LAST-MODIFIED:20260305T140755Z
UID:14010-1773234000-1773252000@www.aquadocinc.com
SUMMARY:CAI Central VA & CAI Southwest VA
DESCRIPTION:
URL:https://www.aquadocinc.com/event/cai-central-va-cai-southwest-va/
LOCATION:The Bradbury\, 300 E. Main St.\, Charlottesville\, VA\, 22902\, United States
END:VEVENT
BEGIN:VEVENT
DTSTART;TZID=America/Detroit:20260313T080000
DTEND;TZID=America/Detroit:20260313T163000
DTSTAMP:20260425T103928
CREATED:20260305T141812Z
LAST-MODIFIED:20260305T141812Z
UID:14015-1773388800-1773419400@www.aquadocinc.com
SUMMARY:CAI Michigan Annual Conference
DESCRIPTION:
URL:https://www.aquadocinc.com/event/cai-michigan-annual-conference-2/
LOCATION:Vibe Credit Union Showplace\, 46100 Grand River Ave.\, Novi\, MI\, 48374\, United States
END:VEVENT
BEGIN:VEVENT
DTSTART;TZID=America/Detroit:20260313T080000
DTEND;TZID=America/Detroit:20260314T170000
DTSTAMP:20260425T103928
CREATED:20260305T142023Z
LAST-MODIFIED:20260305T142023Z
UID:14018-1773388800-1773507600@www.aquadocinc.com
SUMMARY:Stark County Home & Garden Show
DESCRIPTION:
URL:https://www.aquadocinc.com/event/stark-county-home-garden-show-3/
LOCATION:Hall of Fame Village Center for Performance\, 1901 Champions Gateway\, Canton\, OH\, 44708\, United States
END:VEVENT
END:VCALENDAR