BEGIN:VCALENDAR
VERSION:2.0
PRODID:-//AQUA DOC® - ECPv6.15.20//NONSGML v1.0//EN
CALSCALE:GREGORIAN
METHOD:PUBLISH
X-WR-CALNAME:AQUA DOC®
X-ORIGINAL-URL:https://www.aquadocinc.com
X-WR-CALDESC:Events for AQUA DOC®
REFRESH-INTERVAL;VALUE=DURATION:PT1H
X-Robots-Tag:noindex
X-PUBLISHED-TTL:PT1H
BEGIN:VTIMEZONE
TZID:America/Detroit
BEGIN:DAYLIGHT
TZOFFSETFROM:-0500
TZOFFSETTO:-0400
TZNAME:EDT
DTSTART:20190310T070000
END:DAYLIGHT
BEGIN:STANDARD
TZOFFSETFROM:-0400
TZOFFSETTO:-0500
TZNAME:EST
DTSTART:20191103T060000
END:STANDARD
BEGIN:DAYLIGHT
TZOFFSETFROM:-0500
TZOFFSETTO:-0400
TZNAME:EDT
DTSTART:20200308T070000
END:DAYLIGHT
BEGIN:STANDARD
TZOFFSETFROM:-0400
TZOFFSETTO:-0500
TZNAME:EST
DTSTART:20201101T060000
END:STANDARD
BEGIN:DAYLIGHT
TZOFFSETFROM:-0500
TZOFFSETTO:-0400
TZNAME:EDT
DTSTART:20210314T070000
END:DAYLIGHT
BEGIN:STANDARD
TZOFFSETFROM:-0400
TZOFFSETTO:-0500
TZNAME:EST
DTSTART:20211107T060000
END:STANDARD
BEGIN:DAYLIGHT
TZOFFSETFROM:-0500
TZOFFSETTO:-0400
TZNAME:EDT
DTSTART:20220313T070000
END:DAYLIGHT
BEGIN:STANDARD
TZOFFSETFROM:-0400
TZOFFSETTO:-0500
TZNAME:EST
DTSTART:20221106T060000
END:STANDARD
BEGIN:DAYLIGHT
TZOFFSETFROM:-0500
TZOFFSETTO:-0400
TZNAME:EDT
DTSTART:20230312T070000
END:DAYLIGHT
BEGIN:STANDARD
TZOFFSETFROM:-0400
TZOFFSETTO:-0500
TZNAME:EST
DTSTART:20231105T060000
END:STANDARD
END:VTIMEZONE
BEGIN:VEVENT
DTSTART;VALUE=DATE:20220211
DTEND;VALUE=DATE:20220214
DTSTAMP:20260424T024225
CREATED:20220207T152115Z
LAST-MODIFIED:20220207T152115Z
UID:9996-1644537600-1644796799@www.aquadocinc.com
SUMMARY:Columbus Fishing Expo
DESCRIPTION:Get ready to explore over 150\,000 square feet of indoor exhibit space featuring nearly 300 vendors representing every corner of fishing — from national trusted brands to custom-made items. Don’t miss this exclusive product showcase!
URL:https://www.aquadocinc.com/event/columbus-fishing-expo-2/
LOCATION:Bricker Building\, Ohio Expo Center\, 717 E. 17th Ave.\, Columbus\, OH\, 43211\, United States
END:VEVENT
BEGIN:VEVENT
DTSTART;TZID=America/Detroit:20220206T080000
DTEND;TZID=America/Detroit:20220209T170000
DTSTAMP:20260424T024225
CREATED:20220207T150522Z
LAST-MODIFIED:20220207T150522Z
UID:9984-1644134400-1644426000@www.aquadocinc.com
SUMMARY:OPRA Conference & Trade Show
DESCRIPTION:The 2022 OPRA Conference & Trade Show will take place February 6-9\, 2022 at the Kalahari Convention Center in Sandusky\, Ohio.  This year’s Conference Committee is made up of professionals from around the state and is led by Conference Board Liaison Kristin Otley.
URL:https://www.aquadocinc.com/event/opra-conference-trade-show-2/
LOCATION:Kalahari Convention Center\, 7000 Kalahari Dr.\, Sandusky\, OH\, 44870\, United States
END:VEVENT
BEGIN:VEVENT
DTSTART;VALUE=DATE:20220204
DTEND;VALUE=DATE:20220214
DTSTAMP:20260424T024225
CREATED:20220207T145843Z
LAST-MODIFIED:20220207T151521Z
UID:9974-1643932800-1644796799@www.aquadocinc.com
SUMMARY:The Great Big Home & Garden Show
DESCRIPTION:ADMISSION\nAdults (at the door)  $15.00\nAdults (online only)  $13.00 \nSeniors (65+ Mon-Thurs) with ID $11.00 (Monday-Thursday only\, tickets must be purchased at show box office)\nGroups (min. 20) $10.00\nChildren Ages 6-12  $5.00\nChildren Ages 5 & Under FREE\n\nDiscount tickets available at Petitti Garden Center \nGroup Discounts \nFor more information on group ticket discounts and eligibility please contact Scott McGorty\, Group Sales Specialist at ScottM@mpeshows.com or 440.373.8218. \nI’m unable to find my tickets!\nYou may have your ticket confirmation email resent to you by visiting the following link: https://www.microspec.com/tix123/Resend.cfm \nClick here to contact a representative if you still need assistance. \nInterested in Corporate Tickets?\nClick here to contact a representative about the Corporate Ticket Program. \n\n\n\n\nTHEME DAYS\nHERO DAY – Friday\, February 4th and Friday\, February 11th. All active military personnel\, veterans\, fire\, police\, and first responders receive FREE admission to the show with valid ID. For your service and sacrifice\, we thank you. \nRED HAT SOCIETY DAYS – Friday\, February 4th and Friday\, February 11th. Wear your Red Hat Society attire on either of those days and purchase a discounted ticket for $10.00/4 ticket max. per Red Hat purchase. \nOHIO LOTTERY DAY – Thursday\, February 10th. Visitors bringing in a non-winning OH Lottery ticket will receive $5.00 off at the Box Office. ohiolottery.com
URL:https://www.aquadocinc.com/event/the-great-big-home-garden-show/
LOCATION:I-X Center\, 1 I-X Center\, Cleveland\, OH\, 44135\, United States
END:VEVENT
BEGIN:VEVENT
DTSTART;TZID=America/Detroit:20211209T170000
DTEND;TZID=America/Detroit:20211209T200000
DTSTAMP:20260424T024225
CREATED:20210825T185634Z
LAST-MODIFIED:20210825T185634Z
UID:9011-1639069200-1639080000@www.aquadocinc.com
SUMMARY:Weatherhead 100 Award Ceremony
DESCRIPTION:Spirited black-tie event\, held to honor the 33rd Annual Weatherhead 100. The ceremony is always a rewarding and memorable event that puts Northeast Ohio’s best companies center stage.
URL:https://www.aquadocinc.com/event/weatherhead-100-award-ceremony/
LOCATION:Hilton Cleveland Downtown\, 100 Lakeside Ave.\, East Cleveland\, OH\, 44114\, United States
ATTACH;FMTTYPE=image/png:https://www.aquadocinc.com/wp-content/uploads/2021/08/Weatherhead-logo.png
END:VEVENT
BEGIN:VEVENT
DTSTART;TZID=America/Detroit:20211206T073000
DTEND;TZID=America/Detroit:20211208T170000
DTSTAMP:20260424T024225
CREATED:20210825T181603Z
LAST-MODIFIED:20210825T181603Z
UID:9006-1638775800-1638982800@www.aquadocinc.com
SUMMARY:58th Annual Pennsylvania Camp Trade Show
DESCRIPTION:
URL:https://www.aquadocinc.com/event/58th-annual-pennsylvania-camp-trade-show/
LOCATION:The Penn Stater Hotel & Conference Center\, 215 Innovation Blvd.\, State College\, PA\, 16803\, United States
ATTACH;FMTTYPE=image/png:https://www.aquadocinc.com/wp-content/uploads/2021/08/PCOA-Logo.png
END:VEVENT
BEGIN:VEVENT
DTSTART;TZID=America/Detroit:20211103T080000
DTEND;TZID=America/Detroit:20211104T170000
DTSTAMP:20260424T024225
CREATED:20210825T173349Z
LAST-MODIFIED:20210825T173636Z
UID:8999-1635926400-1636045200@www.aquadocinc.com
SUMMARY:50th Annual WMAO Meeting & Symposium
DESCRIPTION:We invite all who work in water resources to join us for this networking event as a special breakfast that will include a chef hosted omelet bar to officially kick-off the start of the 50th Annual WMAO Conference. In particular\, WMAO Water Buffalo are encouraged to attend. Let us reconnect and share our reminiscent stories about WMAO and past efforts to be agents of change towards the betterment of Ohio’s water quality throughout five decades. Early career professionals will also enjoy the lively conversation that is always welcomed as we gather annually. This event requires a separate registration from conference attendance.
URL:https://www.aquadocinc.com/event/50th-annual-amao-meeting-symposium/
LOCATION:Crowne Plaza Columbus North\, Worthington\, 6500 Doubletree Ave.\, Columbus\, OH\, 43229\, United States
ATTACH;FMTTYPE=image/png:https://www.aquadocinc.com/wp-content/uploads/2021/08/wmao_logo_originalsmall_1298605967.png
END:VEVENT
BEGIN:VEVENT
DTSTART;TZID=America/Detroit:20211006T100000
DTEND;TZID=America/Detroit:20211006T140000
DTSTAMP:20260424T024225
CREATED:20210825T161905Z
LAST-MODIFIED:20210825T161905Z
UID:8985-1633514400-1633528800@www.aquadocinc.com
SUMMARY:South Carolina Community Association Institute Networking Expo
DESCRIPTION:
URL:https://www.aquadocinc.com/event/south-carolina-community-association-institute-networking-expo/
LOCATION:Myrtle Beach Sports Center\, 2115 Farlow St.\, Myrtle Beach\, SC\, 29577\, United States
ATTACH;FMTTYPE=image/jpeg:https://www.aquadocinc.com/wp-content/uploads/2021/08/CAI-Networking.jpeg
END:VEVENT
BEGIN:VEVENT
DTSTART;TZID=America/Detroit:20210930T150000
DTEND;TZID=America/Detroit:20210930T190000
DTSTAMP:20260424T024225
CREATED:20210825T155407Z
LAST-MODIFIED:20210825T160018Z
UID:8979-1633014000-1633028400@www.aquadocinc.com
SUMMARY:AQUA DOC: Columbus Open House
DESCRIPTION:
URL:https://www.aquadocinc.com/event/aqua-doc-columbus-open-house/
LOCATION:AQUA DOC Lake & Pond Management\, 255 Enterprise Dr\, Columbus\, OH\, 43035
ATTACH;FMTTYPE=image/jpeg:https://www.aquadocinc.com/wp-content/uploads/2021/08/COLUMBUS-BUILDING-1-scaled.jpg
END:VEVENT
BEGIN:VEVENT
DTSTART;TZID=America/Detroit:20210929T150000
DTEND;TZID=America/Detroit:20210929T190000
DTSTAMP:20260424T024225
CREATED:20210825T154405Z
LAST-MODIFIED:20210825T154405Z
UID:8975-1632927600-1632942000@www.aquadocinc.com
SUMMARY:AQUA DOC: Cincinnati Open House
DESCRIPTION:
URL:https://www.aquadocinc.com/event/aqua-doc-cincinnati-open-house/
LOCATION:AQUA DOC Lake & Pond Management\, 255 Enterprise Dr\, Columbus\, OH\, 43035
ATTACH;FMTTYPE=image/png:https://www.aquadocinc.com/wp-content/uploads/2021/08/Cinci-Home.png
END:VEVENT
BEGIN:VEVENT
DTSTART;TZID=America/Detroit:20210924T110000
DTEND;TZID=America/Detroit:20210924T133000
DTSTAMP:20260424T024225
CREATED:20210825T153623Z
LAST-MODIFIED:20210825T163932Z
UID:8969-1632481200-1632490200@www.aquadocinc.com
SUMMARY:Northern Community Association Institute Trade Show
DESCRIPTION:Habits of Success \nCraig Huntington\, Alliance Association Bank\, Speaker
URL:https://www.aquadocinc.com/event/community-association-institute-trade-show/
LOCATION:Embassy Suites\, 4955 Kyngs Heath Rd.\, Kissimmee\, Florida\, 34746\, United States
ATTACH;FMTTYPE=image/jpeg:https://www.aquadocinc.com/wp-content/uploads/2021/08/CAI-Logo.jpg
END:VEVENT
BEGIN:VEVENT
DTSTART;TZID=America/Detroit:20210922T163000
DTEND;TZID=America/Detroit:20210922T193000
DTSTAMP:20260424T024225
CREATED:20210824T195102Z
LAST-MODIFIED:20210824T195102Z
UID:8958-1632328200-1632339000@www.aquadocinc.com
SUMMARY:Greater Dayton Apartment Association
DESCRIPTION:Wild\, Wild West Trade Show and Education Roundup!\nThe conference mission is to connecting and advancing the multifamily industry through partnerships\, education and advocacy.
URL:https://www.aquadocinc.com/event/greater-dayton-apartment-association/
LOCATION:Sinclair Conference Center\, 444 West Third Street\, Dayton\, 45402\, United States
ATTACH;FMTTYPE=image/png:https://www.aquadocinc.com/wp-content/uploads/2021/08/Greater-Day-Apartment.png
END:VEVENT
BEGIN:VEVENT
DTSTART;TZID=America/Detroit:20210921T080000
DTEND;TZID=America/Detroit:20210923T170000
DTSTAMP:20260424T024225
CREATED:20210824T193005Z
LAST-MODIFIED:20210824T193005Z
UID:8951-1632211200-1632416400@www.aquadocinc.com
SUMMARY:Farm Science Review
DESCRIPTION:LONDON\, Ohio—This year’s Farm Science Review from Sept. 21–23 offers numerous events\, exhibits\, and presentations of interest to members of the media. \nSponsored by The Ohio State University College of Food\, Agricultural\, and Environmental Sciences (CFAES)\, the annual farm show in its 59th year takes place at the Molly Caren Agricultural Center near London\, Ohio. The event draws more than 100\,000 people.
URL:https://www.aquadocinc.com/event/farm-science-review/
LOCATION:Molly Caren Agricultal Center\, 135 OH-38\, London\, 43140\, United States
ATTACH;FMTTYPE=image/jpeg:https://www.aquadocinc.com/wp-content/uploads/2021/08/Farm-Science-2021.jpg
END:VEVENT
BEGIN:VEVENT
DTSTART;TZID=America/Detroit:20210910T110000
DTEND;TZID=America/Detroit:20210912T180000
DTSTAMP:20260424T024225
CREATED:20210824T163612Z
LAST-MODIFIED:20210824T185547Z
UID:8945-1631271600-1631469600@www.aquadocinc.com
SUMMARY:Dispatch  Fall Columbus Home & Garden Show
DESCRIPTION:Join us for three days of inspiration and ideas where you can connect in-person with local experts and know-how for every space to make your home more functional and beautiful. Safety is our top priority\, but we are looking forward to bringing back our regular stage programming with celebrity guest appearances for the 2021 Fall Dispatch Home & Garden Show. Save the dates – September 10\, 11\, 12 and check back soon for more information! 
URL:https://www.aquadocinc.com/event/fall-columbus-dispatch-home-garden-show/
LOCATION:Spring Dispatch Home & Garden Show\, 717 E. 17th Ave.\, Columbus\, OH\, 43211\, United States
ATTACH;FMTTYPE=image/png:https://www.aquadocinc.com/wp-content/uploads/2021/08/Fall-Columbus-Dispatch-Home-garrden-Show.png
END:VEVENT
BEGIN:VEVENT
DTSTART;TZID=America/Detroit:20210910T100000
DTEND;TZID=America/Detroit:20210912T180000
DTSTAMP:20260424T024225
CREATED:20210824T153838Z
LAST-MODIFIED:20210824T200140Z
UID:8940-1631268000-1631469600@www.aquadocinc.com
SUMMARY:Atlanta Fall Home Show
DESCRIPTION:The Atlanta Home Show is a vibrant marketplace where you can shop for home-related products and services\, experience stunning displays to help inspire your next home project\, connect with industry experts\, and enjoy informative presentations from renowned local and international home professionals. \nWhether you’re joining us at the Cobb Galleria Center with a specific project in mind or just looking for some inspiration\, our local home professionals have you covered. With 300+ booths to explore and several unique feature displays to enjoy\, this is a valuable event for all Atlanta homeowners.
URL:https://www.aquadocinc.com/event/atlanta-fall-home-show/
LOCATION:Atlanta Home Show (Spring)\, 2 Galleria Parkway\, Atlanta\, OH\, 30339\, United States
ATTACH;FMTTYPE=image/png:https://www.aquadocinc.com/wp-content/uploads/2021/08/Atlanta-Home-Show.png
END:VEVENT
BEGIN:VEVENT
DTSTART;TZID=America/Detroit:20210908T180000
DTEND;TZID=America/Detroit:20210908T210000
DTSTAMP:20260424T024225
CREATED:20210824T153057Z
LAST-MODIFIED:20210824T153211Z
UID:8935-1631124000-1631134800@www.aquadocinc.com
SUMMARY:NOAA Key Awards Gala
DESCRIPTION:The Key Awards are an acknowledgement of excellence within the apartment industry throughout Northern Ohio. Recognition is awarded to property owners\, managers and staff of those communities that achieve the highest standards of property management professionalism. \nWinners of the Key Awards demonstrate to their communities\, residents\, and peers that their property has the physical qualities\, marketing creativity and management caliber necessary to be named one of Northern Ohio’s best!
URL:https://www.aquadocinc.com/event/noaa-key-awards-gala/
LOCATION:Holiday Inn Cleveland – S Independence\, 6001 Rockside Road\, Independence\, 44131\, United States
ATTACH;FMTTYPE=image/jpeg:https://www.aquadocinc.com/wp-content/uploads/2021/08/NOAA-Gala-Awards.jpg
END:VEVENT
BEGIN:VEVENT
DTSTART;TZID=America/Detroit:20210903T073000
DTEND;TZID=America/Detroit:20210903T120000
DTSTAMP:20260424T024225
CREATED:20210824T151024Z
LAST-MODIFIED:20210825T173530Z
UID:8930-1630654200-1630670400@www.aquadocinc.com
SUMMARY:PPANO 2021 REVERSE TRADE SHOW
DESCRIPTION:The Public Purchasers Association of Northern Ohio (PPANO) invites you to join us for a very unique event. \nOur members serve agencies from a wide array of local government agencies including cities\, state agencies\, public school systems\, state colleges and universities\, park districts\, county agencies\, federal\, and other political subdivisions of the state.  Local government officals will be on hand to explain the public procurement process for their respective agencies and offer educational information regarding public procurement.  We will take the mystery out of the bidding process. \nRepresentatives from an array of Northern Ohio local government entities will provide valuable procurement information on “how to do business with government agencies”.
URL:https://www.aquadocinc.com/event/ppano-2021-reverse-trade-show/
LOCATION:THE PUBLIC PURCHASERS ASSOCIATION OF NORTHERN OHIO 2021 REVERSE TRADE SHOW\, 4400 Richmond Rd.\, Warrensville\, 44128\, United States
ATTACH;FMTTYPE=image/jpeg:https://www.aquadocinc.com/wp-content/uploads/2021/08/PPANO-Logo.jpg
END:VEVENT
BEGIN:VEVENT
DTSTART;TZID=America/Detroit:20210825T100000
DTEND;TZID=America/Detroit:20210825T170000
DTSTAMP:20260424T024225
CREATED:20210824T150132Z
LAST-MODIFIED:20210824T150132Z
UID:8923-1629885600-1629910800@www.aquadocinc.com
SUMMARY:Chagrin Valley Chamber Golf Outing 2021
DESCRIPTION:Golfing for good causes\, is why we host this each year. This is our annual fundraiser which supports our 3 student scholarships\, our Non Profit of the Year\, and other charitable donations around the Chagrin Valley.\nIf you don’t golf\, no worries… there are TONS of ways that you can support!\nHole Sponsor\, Live Hole Sponsor\, Auction Sponsor\, Skills Game Sponsor\, Cart Sponsor\, Cart Card Sponsor\, Hop in the Bag\, Volunteer or Donation. We hope every Chamber member can do their part and be a part of something good!
URL:https://www.aquadocinc.com/event/chagrin-valley-chamber-golf-outing-2021/
LOCATION:Tanglewood Golf Course\, 8745 Tanglewood Trail\, CF\, Chagrin Falls
ATTACH;FMTTYPE=image/png:https://www.aquadocinc.com/wp-content/uploads/2021/08/Chagrin-Valley-2021-Golf-Banner.png
END:VEVENT
BEGIN:VEVENT
DTSTART;TZID=America/Detroit:20210825T080000
DTEND;TZID=America/Detroit:20210825T170000
DTSTAMP:20260424T024225
CREATED:20210825T164410Z
LAST-MODIFIED:20210825T164410Z
UID:8995-1629878400-1629910800@www.aquadocinc.com
SUMMARY:Rescue Village Woofstock
DESCRIPTION:Woofstock is Northeast Ohio’s biggest outdoor dog and family friendly festival and FUN-draiser. \nEvery year we welcome thousands of people and pups to the Cleveland Metroparks Polo Field for this outdoor party to benefit the homeless animals at Rescue Village.
URL:https://www.aquadocinc.com/event/rescue-village-woofstock/
LOCATION:Cleveland Metroparks Polo Field\, 41324 Woodland Rd.\, Chagrin Falls\, OH\, 44022\, United States
ATTACH;FMTTYPE=image/jpeg:https://www.aquadocinc.com/wp-content/uploads/2021/08/Rescue-Village-2021.jpg
END:VEVENT
BEGIN:VEVENT
DTSTART;VALUE=DATE:20200723
DTEND;VALUE=DATE:20200725
DTSTAMP:20260424T024225
CREATED:20200710T174643Z
LAST-MODIFIED:20200710T174643Z
UID:7943-1595462400-1595635199@www.aquadocinc.com
SUMMARY:North Carolina CAI Annual Conference
DESCRIPTION:Annual Conference Online!    \nLive learning\, expo booths\, entertainment\, networking & fun – virtually. \nTwo-Day Conference At a Glance: \n\nMore learning topics than ever\nMore education credits than ever\nExhibitors host virtual booths to showcase their solutions and interact with attendees\nFive ways to network online with fellow participants\nUnique and engaging event sponsorships offer brand visibility\nSpecial entertainment headlines our virtual afternoon ‘happy time’
URL:https://www.aquadocinc.com/event/north-carolina-cai-annual-conference/
LOCATION:OH
ORGANIZER;CN="North Carolina CAI":MAILTO:office@cai-nc.org
END:VEVENT
BEGIN:VEVENT
DTSTART;VALUE=DATE:20200228
DTEND;VALUE=DATE:20200303
DTSTAMP:20260424T024225
CREATED:20200103T180922Z
LAST-MODIFIED:20200103T180922Z
UID:7305-1582855200-1583114399@www.aquadocinc.com
SUMMARY:Cincinnati Fishing Expo
DESCRIPTION:Visit us in Booth #519
URL:https://www.aquadocinc.com/event/cincinnati-fishing-expo/
LOCATION:Sharonville Convention Center\, 11355 Chester Rd\, Sharonville\, OH\, 45246\, United States
END:VEVENT
BEGIN:VEVENT
DTSTART;VALUE=DATE:20200222
DTEND;VALUE=DATE:20200303
DTSTAMP:20260424T024225
CREATED:20200103T180718Z
LAST-MODIFIED:20200103T180718Z
UID:7303-1582336800-1583114399@www.aquadocinc.com
SUMMARY:Columbus Dispatch Spring Home & Garden Show
DESCRIPTION:Visit us in Booth #2712
URL:https://www.aquadocinc.com/event/columbus-dispatch-spring-home-garden-show/
LOCATION:Spring Dispatch Home & Garden Show\, 717 E. 17th Ave.\, Columbus\, OH\, 43211\, United States
END:VEVENT
BEGIN:VEVENT
DTSTART;VALUE=DATE:20200222
DTEND;VALUE=DATE:20200303
DTSTAMP:20260424T024225
CREATED:20200103T180607Z
LAST-MODIFIED:20200103T180607Z
UID:7301-1582336800-1583114399@www.aquadocinc.com
SUMMARY:Cincinnati Home & Garden Show
DESCRIPTION:Visit us in Booth #328
URL:https://www.aquadocinc.com/event/cincinnati-home-garden-show/
LOCATION:Duke Energy Convention Center\, 525 Elm Street\, Cincinnati\, OH\, 45202\, United States
END:VEVENT
BEGIN:VEVENT
DTSTART;VALUE=DATE:20200214
DTEND;VALUE=DATE:20200218
DTSTAMP:20260424T024225
CREATED:20200103T180348Z
LAST-MODIFIED:20200103T180348Z
UID:7298-1581645600-1581904799@www.aquadocinc.com
SUMMARY:Kentucky Home Improvement Expo
DESCRIPTION:Visit us in Booth #126
URL:https://www.aquadocinc.com/event/kentucky-home-improvement-expo/
LOCATION:Triple Crown Pavilion\, 1780 Plantside Dr.\, Jeffersontown\, KY\, 40299
END:VEVENT
BEGIN:VEVENT
DTSTART;VALUE=DATE:20200213
DTEND;VALUE=DATE:20200215
DTSTAMP:20260424T024225
CREATED:20200103T175701Z
LAST-MODIFIED:20200103T175701Z
UID:7295-1581559200-1581645599@www.aquadocinc.com
SUMMARY:Clean Water Contractor Expo
DESCRIPTION:
URL:https://www.aquadocinc.com/event/clean-water-contractor-expo/
LOCATION:Erie County Fairgrounds\, 3110 Columbus Ave\, Sandusky\, Ohio\, 44870
END:VEVENT
BEGIN:VEVENT
DTSTART;VALUE=DATE:20200207
DTEND;VALUE=DATE:20200211
DTSTAMP:20260424T024225
CREATED:20200103T175255Z
LAST-MODIFIED:20200103T175255Z
UID:7292-1581040800-1581299999@www.aquadocinc.com
SUMMARY:Kentucky Sport Boat and Recreation Show
DESCRIPTION:Visit us in Booth #A33
URL:https://www.aquadocinc.com/event/kentucky-sport-boat-and-recreation-show/
LOCATION:Lexington Convention Center\, 430 W. Vine St\, Lexington\, Kentucky\, 40507
END:VEVENT
BEGIN:VEVENT
DTSTART;VALUE=DATE:20200207
DTEND;VALUE=DATE:20200211
DTSTAMP:20260424T024225
CREATED:20200103T174554Z
LAST-MODIFIED:20200103T174554Z
UID:7289-1581040800-1581299999@www.aquadocinc.com
SUMMARY:Columbus Fishing Expo
DESCRIPTION:Visit us in Booth #930
URL:https://www.aquadocinc.com/event/columbus-fishing-expo/
LOCATION:Bricker Building\, Ohio Expo Center\, 717 E. 17th Ave.\, Columbus\, OH\, 43211\, United States
END:VEVENT
BEGIN:VEVENT
DTSTART;VALUE=DATE:20200202
DTEND;VALUE=DATE:20200207
DTSTAMP:20260424T024225
CREATED:20200103T174240Z
LAST-MODIFIED:20200103T174240Z
UID:7286-1580608800-1580954399@www.aquadocinc.com
SUMMARY:OPRA Conference & Trade Show
DESCRIPTION:Visit us in Booth #317
URL:https://www.aquadocinc.com/event/opra-conference-trade-show/
LOCATION:Kalahari Convention Center\, 7000 Kalahari Dr.\, Sandusky\, OH\, 44870\, United States
END:VEVENT
BEGIN:VEVENT
DTSTART;VALUE=DATE:20200131
DTEND;VALUE=DATE:20200211
DTSTAMP:20260424T024225
CREATED:20200103T173944Z
LAST-MODIFIED:20200103T173944Z
UID:7284-1580436000-1581299999@www.aquadocinc.com
SUMMARY:Great Big Home & Garden Show
DESCRIPTION:Visit us in Booth #357
URL:https://www.aquadocinc.com/event/great-big-home-garden-show/
LOCATION:Cleveland IX Center\, 1 I-X Center Drive\, Cleveland\, OH\, 44135\, United States
END:VEVENT
BEGIN:VEVENT
DTSTART;VALUE=DATE:20200124
DTEND;VALUE=DATE:20200128
DTSTAMP:20260424T024225
CREATED:20200103T173814Z
LAST-MODIFIED:20200103T173814Z
UID:7282-1579831200-1580090399@www.aquadocinc.com
SUMMARY:Akron Home & Garden Show
DESCRIPTION:Visit us in Booth #400
URL:https://www.aquadocinc.com/event/akron-home-garden-show-2/
LOCATION:John S. Knight Center\, 77 E Mill St\, Akron\, OH\, 44308\, United States
END:VEVENT
BEGIN:VEVENT
DTSTART;VALUE=DATE:20200117
DTEND;VALUE=DATE:20200128
DTSTAMP:20260424T024225
CREATED:20200103T173509Z
LAST-MODIFIED:20200103T173509Z
UID:7279-1579226400-1580090399@www.aquadocinc.com
SUMMARY:Cincinnati Travel Sports & Boat Show
DESCRIPTION:Visit us in Booth #237
URL:https://www.aquadocinc.com/event/cincinnati-travel-sports-boat-show/
LOCATION:Duke Energy Convention Center\, 525 Elm Street\, Cincinnati\, OH\, 45202\, United States
END:VEVENT
END:VCALENDAR