BEGIN:VCALENDAR
VERSION:2.0
PRODID:-//AQUA DOC® - ECPv6.15.20//NONSGML v1.0//EN
CALSCALE:GREGORIAN
METHOD:PUBLISH
X-WR-CALNAME:AQUA DOC®
X-ORIGINAL-URL:https://www.aquadocinc.com
X-WR-CALDESC:Events for AQUA DOC®
REFRESH-INTERVAL;VALUE=DURATION:PT1H
X-Robots-Tag:noindex
X-PUBLISHED-TTL:PT1H
BEGIN:VTIMEZONE
TZID:America/Detroit
BEGIN:DAYLIGHT
TZOFFSETFROM:-0500
TZOFFSETTO:-0400
TZNAME:EDT
DTSTART:20250309T070000
END:DAYLIGHT
BEGIN:STANDARD
TZOFFSETFROM:-0400
TZOFFSETTO:-0500
TZNAME:EST
DTSTART:20251102T060000
END:STANDARD
BEGIN:DAYLIGHT
TZOFFSETFROM:-0500
TZOFFSETTO:-0400
TZNAME:EDT
DTSTART:20260308T070000
END:DAYLIGHT
BEGIN:STANDARD
TZOFFSETFROM:-0400
TZOFFSETTO:-0500
TZNAME:EST
DTSTART:20261101T060000
END:STANDARD
BEGIN:DAYLIGHT
TZOFFSETFROM:-0500
TZOFFSETTO:-0400
TZNAME:EDT
DTSTART:20270314T070000
END:DAYLIGHT
BEGIN:STANDARD
TZOFFSETFROM:-0400
TZOFFSETTO:-0500
TZNAME:EST
DTSTART:20271107T060000
END:STANDARD
END:VTIMEZONE
BEGIN:VEVENT
DTSTART;TZID=America/Detroit:20260313T100000
DTEND;TZID=America/Detroit:20260315T170000
DTSTAMP:20260425T121315
CREATED:20260305T144229Z
LAST-MODIFIED:20260305T144229Z
UID:14020-1773396000-1773594000@www.aquadocinc.com
SUMMARY:Summit County JDM Fishing and Outdoor Show
DESCRIPTION:
URL:https://www.aquadocinc.com/event/summit-county-jdm-fishing-and-outdoor-show/
LOCATION:Summit County Fairgrounds\, 105 North Ave.\, Tallmadge\, OH\, 44278\, United States
END:VEVENT
BEGIN:VEVENT
DTSTART;TZID=America/Detroit:20260314T080000
DTEND;TZID=America/Detroit:20260315T170000
DTSTAMP:20260425T121315
CREATED:20260305T151246Z
LAST-MODIFIED:20260305T151246Z
UID:14025-1773475200-1773594000@www.aquadocinc.com
SUMMARY:HBA House & Home Show
DESCRIPTION:
URL:https://www.aquadocinc.com/event/hba-house-home-show/
LOCATION:Sylvania Tam-O-Shanter\, Sylvania\, OH\, 7060 W. Sylvania\, Sylvania\, OH\, 43560\, United States
END:VEVENT
BEGIN:VEVENT
DTSTART;TZID=America/Detroit:20260314T100000
DTEND;TZID=America/Detroit:20260315T160000
DTSTAMP:20260425T121315
CREATED:20260305T151448Z
LAST-MODIFIED:20260305T151448Z
UID:14029-1773482400-1773590400@www.aquadocinc.com
SUMMARY:Mid-Ohio Home Show
DESCRIPTION:
URL:https://www.aquadocinc.com/event/mid-ohio-home-show-3/
LOCATION:Richland County Fair Grounds\, 750 Home Rd\, Mansfield\, OH\, 44903\, United States
END:VEVENT
BEGIN:VEVENT
DTSTART;TZID=America/Detroit:20260319T120000
DTEND;TZID=America/Detroit:20260321T170000
DTSTAMP:20260425T121315
CREATED:20260305T152210Z
LAST-MODIFIED:20260305T152210Z
UID:14034-1773921600-1774112400@www.aquadocinc.com
SUMMARY:Amish Home and Garden Show
DESCRIPTION:
URL:https://www.aquadocinc.com/event/amish-home-and-garden-show-2/
LOCATION:Mount Hope Event Center\, 8076 OH-241\, Millersburg\, OH\, 44654\, United States
END:VEVENT
BEGIN:VEVENT
DTSTART;TZID=America/Detroit:20260319T153000
DTEND;TZID=America/Detroit:20260319T193000
DTSTAMP:20260425T121315
CREATED:20260305T151924Z
LAST-MODIFIED:20260305T151924Z
UID:14031-1773934200-1773948600@www.aquadocinc.com
SUMMARY:Greater Charlotte Apartment Association Trade Show
DESCRIPTION:
URL:https://www.aquadocinc.com/event/greater-charlotte-apartment-association-trade-show/
LOCATION:The Park Expo & Conference\, 800 Briar Creek Rd.\, Charlotte\, NC\, 28205\, United States
END:VEVENT
BEGIN:VEVENT
DTSTART;TZID=America/Detroit:20260320T100000
DTEND;TZID=America/Detroit:20260322T170000
DTSTAMP:20260425T121315
CREATED:20260305T144532Z
LAST-MODIFIED:20260305T144532Z
UID:14023-1774000800-1774198800@www.aquadocinc.com
SUMMARY:Spring Atlanta Home Show
DESCRIPTION:
URL:https://www.aquadocinc.com/event/spring-atlanta-home-show/
LOCATION:Cobb Convention Center\, 2 Galleria Parkway\, Atlanta\, GA\, 30339\, United States
END:VEVENT
BEGIN:VEVENT
DTSTART;TZID=America/Detroit:20260320T100000
DTEND;TZID=America/Detroit:20260322T180000
DTSTAMP:20260425T121315
CREATED:20260305T152431Z
LAST-MODIFIED:20260305T152431Z
UID:14036-1774000800-1774202400@www.aquadocinc.com
SUMMARY:Cleveland Home & Remodeling Expo
DESCRIPTION:
URL:https://www.aquadocinc.com/event/cleveland-home-remodeling-expo/
LOCATION:Cleveland IX Center\, 1 I-X Center Drive\, Cleveland\, OH\, 44135\, United States
END:VEVENT
BEGIN:VEVENT
DTSTART;TZID=America/Detroit:20260320T100000
DTEND;TZID=America/Detroit:20260322T190000
DTSTAMP:20260425T121315
CREATED:20260305T152805Z
LAST-MODIFIED:20260305T152805Z
UID:14038-1774000800-1774206000@www.aquadocinc.com
SUMMARY:Erie Home & Garden Expo
DESCRIPTION:
URL:https://www.aquadocinc.com/event/erie-home-garden-expo/
LOCATION:Bayfront Convention Center\, 1 Sassafras Pier\, Erie\, PA\, 16507\, United States
END:VEVENT
BEGIN:VEVENT
DTSTART;TZID=America/Detroit:20260321T100000
DTEND;TZID=America/Detroit:20260321T150000
DTSTAMP:20260425T121315
CREATED:20260305T153129Z
LAST-MODIFIED:20260305T153129Z
UID:14040-1774087200-1774105200@www.aquadocinc.com
SUMMARY:Mercer County Home Show
DESCRIPTION:
URL:https://www.aquadocinc.com/event/mercer-county-home-show/
LOCATION:Hickory VFW\, 550 East State St.\, Hermitage\, PA\, 16148\, United States
END:VEVENT
BEGIN:VEVENT
DTSTART;TZID=America/Detroit:20260415T080000
DTEND;TZID=America/Detroit:20260416T170000
DTSTAMP:20260425T121315
CREATED:20260305T153604Z
LAST-MODIFIED:20260305T153604Z
UID:14043-1776240000-1776358800@www.aquadocinc.com
SUMMARY:CAI VIrginia
DESCRIPTION:
URL:https://www.aquadocinc.com/event/cai-virginia/
LOCATION:Omni Richmond Hotel\, 100 S. 12th St.\, Richmond\, VA\, 23219\, United States
END:VEVENT
BEGIN:VEVENT
DTSTART;TZID=America/Detroit:20260425T100000
DTEND;TZID=America/Detroit:20260425T170000
DTSTAMP:20260425T121315
CREATED:20260305T154002Z
LAST-MODIFIED:20260305T154322Z
UID:14046-1777111200-1777136400@www.aquadocinc.com
SUMMARY:Maple Festival Parade
DESCRIPTION:
URL:https://www.aquadocinc.com/event/maple-festival-parade-2/
LOCATION:Charon Square\, OH\, 44024\, United States
END:VEVENT
BEGIN:VEVENT
DTSTART;TZID=America/Detroit:20260426T120000
DTEND;TZID=America/Detroit:20260426T160000
DTSTAMP:20260425T121315
CREATED:20260305T154423Z
LAST-MODIFIED:20260305T154449Z
UID:14049-1777204800-1777219200@www.aquadocinc.com
SUMMARY:Lake Metroparks Earth Day
DESCRIPTION:
URL:https://www.aquadocinc.com/event/lake-metroparks-earth-day/
LOCATION:Penitentiary Glen Reservation\, 8668 Kirtland Chardon Rd\, Kirtland\, 44094\, United States
END:VEVENT
BEGIN:VEVENT
DTSTART;TZID=America/Detroit:20260506T080000
DTEND;TZID=America/Detroit:20260508T170000
DTSTAMP:20260425T121315
CREATED:20260305T154617Z
LAST-MODIFIED:20260305T154617Z
UID:14051-1778054400-1778259600@www.aquadocinc.com
SUMMARY:Ohio Stormwater
DESCRIPTION:
URL:https://www.aquadocinc.com/event/ohio-stormwater-2/
LOCATION:Kalahari Resorts & Conventions\, 7000 Kalahari Dr\, Sandusky\, OH\, 44870\, United States
END:VEVENT
BEGIN:VEVENT
DTSTART;TZID=America/Detroit:20260509T090000
DTEND;TZID=America/Detroit:20260509T110000
DTSTAMP:20260425T121315
CREATED:20260305T160132Z
LAST-MODIFIED:20260305T160132Z
UID:14053-1778317200-1778324400@www.aquadocinc.com
SUMMARY:Duck Race Chagrin Falls
DESCRIPTION:The Chagrin Valley Chamber of Commerce is thrilled to announce  our 6th Annual Rubber Ducky Race\, happening Saturday\, May 9th! 💦 \nWhat is a Rubber Ducky Race\, you ask?  A rubber ducky’s journey down the river\, under the bridge and over the falls to the finish line.  If your adoption paper’s number matches the number on the bottom of the winning duck… you win!\n\nAQUA DOC will make sure that no duck is left behind and will be handling everything in the River with the assistance of the Chagrin Valley Fire Department.
URL:https://www.aquadocinc.com/event/duck-race-chagrin-falls/
LOCATION:Chagrin River in Downtown Chagrin Falls\, 100 N Main St\, Chagrin Falls\, 44022\, United States
END:VEVENT
BEGIN:VEVENT
DTSTART;TZID=America/Detroit:20260513T130000
DTEND;TZID=America/Detroit:20260513T173000
DTSTAMP:20260425T121315
CREATED:20260305T162653Z
LAST-MODIFIED:20260305T162653Z
UID:14055-1778677200-1778693400@www.aquadocinc.com
SUMMARY:Atlanta Apartment Association Trade Show
DESCRIPTION:
URL:https://www.aquadocinc.com/event/atlanta-apartment-association-trade-show/
LOCATION:Cobb Convention Center\, 2 Galleria Parkway\, Atlanta\, GA\, 30339\, United States
END:VEVENT
BEGIN:VEVENT
DTSTART;TZID=America/Detroit:20260524T080000
DTEND;TZID=America/Detroit:20260524T170000
DTSTAMP:20260425T121315
CREATED:20260305T162909Z
LAST-MODIFIED:20260305T162909Z
UID:14057-1779609600-1779642000@www.aquadocinc.com
SUMMARY:Blossom Time Parade
DESCRIPTION:
URL:https://www.aquadocinc.com/event/blossom-time-parade/
LOCATION:IN
END:VEVENT
BEGIN:VEVENT
DTSTART;TZID=America/Detroit:20260619T183000
DTEND;TZID=America/Detroit:20260619T193000
DTSTAMP:20260425T121315
CREATED:20260305T211710Z
LAST-MODIFIED:20260305T211710Z
UID:14059-1781893800-1781897400@www.aquadocinc.com
SUMMARY:Kirtland Strawberry Festival Parade
DESCRIPTION:
URL:https://www.aquadocinc.com/event/kirtland-strawberry-festival-parade/
LOCATION:Kirtland\, Ohio
END:VEVENT
BEGIN:VEVENT
DTSTART;TZID=America/Detroit:20260620T090000
DTEND;TZID=America/Detroit:20260620T130000
DTSTAMP:20260425T121315
CREATED:20260409T132846Z
LAST-MODIFIED:20260409T132846Z
UID:14411-1781946000-1781960400@www.aquadocinc.com
SUMMARY:Moreland Hills Fishing Derby
DESCRIPTION:
URL:https://www.aquadocinc.com/event/moreland-hills-fishing-derby-2/
LOCATION:Potts Pier\, 3800 Chagrin River Road\, OH\, 44022\, United States
END:VEVENT
BEGIN:VEVENT
DTSTART;TZID=America/Detroit:20260704T110000
DTEND;TZID=America/Detroit:20260704T120000
DTSTAMP:20260425T121315
CREATED:20260409T133640Z
LAST-MODIFIED:20260409T133657Z
UID:14414-1783162800-1783166400@www.aquadocinc.com
SUMMARY:Chesterland 4th of July Parade
DESCRIPTION:
URL:https://www.aquadocinc.com/event/chesterland-parade/
LOCATION:St. Anselm Catholic Church\, 12969 Chillicothe Road\, Chesterland\, OH\, 44026\, United States
END:VEVENT
BEGIN:VEVENT
DTSTART;TZID=America/Detroit:20260709T110000
DTEND;TZID=America/Detroit:20260709T163000
DTSTAMP:20260425T121315
CREATED:20260409T133947Z
LAST-MODIFIED:20260409T133947Z
UID:14418-1783594800-1783614600@www.aquadocinc.com
SUMMARY:NOAA Trade Show
DESCRIPTION:
URL:https://www.aquadocinc.com/event/noaa-trade-show/
LOCATION:Holiday Inn Rockside\, 6001 Rockside Road\, Independence\, OH\, 44131\, United States
END:VEVENT
BEGIN:VEVENT
DTSTART;TZID=America/Detroit:20260717T150000
DTEND;TZID=America/Detroit:20260717T190000
DTSTAMP:20260425T121315
CREATED:20260409T134954Z
LAST-MODIFIED:20260409T134954Z
UID:14424-1784300400-1784314800@www.aquadocinc.com
SUMMARY:CAI Northeast OH
DESCRIPTION:
URL:https://www.aquadocinc.com/event/cai-northeast-oh/
LOCATION:IN
END:VEVENT
BEGIN:VEVENT
DTSTART;TZID=America/Detroit:20260725T120000
DTEND;TZID=America/Detroit:20260725T130000
DTSTAMP:20260425T121315
CREATED:20260409T135723Z
LAST-MODIFIED:20260409T135757Z
UID:14441-1784980800-1784984400@www.aquadocinc.com
SUMMARY:City of Solon Summer Festival Parade
DESCRIPTION:Weekend Schedule Highlights\nSaturday\, July 25\n\n8 AM – 11:30 AM – Kiwanis Club of Solon | Pancake Breakfast\n12 PM – Parade\n\nSunday\, July 26\n\n12 PM – 6 PM – Festival\n\nFood Trucks\nCLE Cotton Candy\nKona Ice\nCheesy Dave’s\nKellz Diner\nThe Crooked Kettle Popcorn Co.
URL:https://www.aquadocinc.com/event/city-of-solon-summer-festival/
LOCATION:Orchard Middle School\, 6800 Som Center Road\, Solon\, OH\, 44139\, United States
END:VEVENT
BEGIN:VEVENT
DTSTART;TZID=America/Detroit:20260801T120000
DTEND;TZID=America/Detroit:20260801T153000
DTSTAMP:20260425T121315
CREATED:20260409T150112Z
LAST-MODIFIED:20260409T150112Z
UID:14448-1785585600-1785598200@www.aquadocinc.com
SUMMARY:Munson Township Community Day Picnic
DESCRIPTION:
URL:https://www.aquadocinc.com/event/munson-township-community-day-picnic/
LOCATION:Munson Township Community Hall\, 12210 Auburn Road\, Chardon\, OH\, 44024\, United States
END:VEVENT
BEGIN:VEVENT
DTSTART;TZID=America/Detroit:20260809T100000
DTEND;TZID=America/Detroit:20260809T130000
DTSTAMP:20260425T121315
CREATED:20260409T152059Z
LAST-MODIFIED:20260409T152115Z
UID:14457-1786269600-1786280400@www.aquadocinc.com
SUMMARY:Huron Fishing Derby
DESCRIPTION:
URL:https://www.aquadocinc.com/event/huron-fishing-derby/
LOCATION:City of Huron\, 624 Berlin Road\, Huron\, OH\, 44839\, United States
END:VEVENT
BEGIN:VEVENT
DTSTART;TZID=America/Detroit:20260809T130000
DTEND;TZID=America/Detroit:20260809T210000
DTSTAMP:20260425T121315
CREATED:20260409T150639Z
LAST-MODIFIED:20260409T150639Z
UID:14454-1786280400-1786309200@www.aquadocinc.com
SUMMARY:Richfield Community Day Frog Jump
DESCRIPTION:FRIDAY: August 7\, 2026 \n\nThe Community Day Parade kicks off at Village Hall\, moving west on Rt. 303\, north on Broadview Rd. to Richfield Woods Park. Parade assembles at 6:00 pm and steps off at 6:30 pm. \nFollowing the Parade\, enjoy hamburgers\, hotdogs\, snacks & beverages available for purchase at Richfield Woods Park!\nAMVETS will have a beer truck onsite\nLive music from 7:15pm – 10:00pm in the tent\n\nSATURDAY: August 8\, 2026 \n\nAMVET & Mason’s Annual Steak Fry is from 4:00 pm – 8:00 pm at Richfield Woods Park.  Tickets are $20.00 in advance or $22.00 at the door.  Benefiting Revere High School Scholarships.\n\nSUNDAY: August 9\, 2026 \nIn celebration of the 250th Anniversary of the USA! \n\nActivities start at 1:00 pm\nActivities\, Food Trucks and Entertainment sponsored by Bath Richfield Kiwanis\nFireworks at dusk
URL:https://www.aquadocinc.com/event/richfield-community-day-frog-jump-2/
LOCATION:Village of Richfield\, 4410 West Streetsboro Road\, Richfield\, OH\, 44286\, United States
END:VEVENT
BEGIN:VEVENT
DTSTART;TZID=America/Detroit:20260813T160000
DTEND;TZID=America/Detroit:20260814T193000
DTSTAMP:20260425T121315
CREATED:20260409T152651Z
LAST-MODIFIED:20260409T152651Z
UID:14460-1786636800-1786735800@www.aquadocinc.com
SUMMARY:NC CAI Conference & Expo
DESCRIPTION:
URL:https://www.aquadocinc.com/event/nc-cai-conference-expo/
LOCATION:Benton Convention Center\, 301 West 5th Street\, Winston-Salem\, NC\, 27101\, United States
END:VEVENT
BEGIN:VEVENT
DTSTART;TZID=America/Detroit:20260920T100000
DTEND;TZID=America/Detroit:20260920T160000
DTSTAMP:20260425T121315
CREATED:20260409T153336Z
LAST-MODIFIED:20260409T153336Z
UID:14463-1789898400-1789920000@www.aquadocinc.com
SUMMARY:Rescue Village Woofstock
DESCRIPTION:
URL:https://www.aquadocinc.com/event/rescue-village-woofstock-3/
LOCATION:Cleveland Metroparks Polo Field\, 41324 Woodland Rd.\, Chagrin Falls\, OH\, 44022\, United States
END:VEVENT
BEGIN:VEVENT
DTSTART;TZID=America/Detroit:20260922T080000
DTEND;TZID=America/Detroit:20260924T170000
DTSTAMP:20260425T121315
CREATED:20260409T153834Z
LAST-MODIFIED:20260409T153834Z
UID:14465-1790064000-1790269200@www.aquadocinc.com
SUMMARY:Farm Science Review
DESCRIPTION:
URL:https://www.aquadocinc.com/event/farm-science-review-3/
LOCATION:Molly Caren Agricultal Center\, 135 OH-38\, London\, 43140\, United States
END:VEVENT
END:VCALENDAR