BEGIN:VCALENDAR
VERSION:2.0
PRODID:-//AQUA DOC® - ECPv6.15.20//NONSGML v1.0//EN
CALSCALE:GREGORIAN
METHOD:PUBLISH
X-WR-CALNAME:AQUA DOC®
X-ORIGINAL-URL:https://www.aquadocinc.com
X-WR-CALDESC:Events for AQUA DOC®
REFRESH-INTERVAL;VALUE=DURATION:PT1H
X-Robots-Tag:noindex
X-PUBLISHED-TTL:PT1H
BEGIN:VTIMEZONE
TZID:America/Detroit
BEGIN:DAYLIGHT
TZOFFSETFROM:-0500
TZOFFSETTO:-0400
TZNAME:EDT
DTSTART:20240310T070000
END:DAYLIGHT
BEGIN:STANDARD
TZOFFSETFROM:-0400
TZOFFSETTO:-0500
TZNAME:EST
DTSTART:20241103T060000
END:STANDARD
BEGIN:DAYLIGHT
TZOFFSETFROM:-0500
TZOFFSETTO:-0400
TZNAME:EDT
DTSTART:20250309T070000
END:DAYLIGHT
BEGIN:STANDARD
TZOFFSETFROM:-0400
TZOFFSETTO:-0500
TZNAME:EST
DTSTART:20251102T060000
END:STANDARD
BEGIN:DAYLIGHT
TZOFFSETFROM:-0500
TZOFFSETTO:-0400
TZNAME:EDT
DTSTART:20260308T070000
END:DAYLIGHT
BEGIN:STANDARD
TZOFFSETFROM:-0400
TZOFFSETTO:-0500
TZNAME:EST
DTSTART:20261101T060000
END:STANDARD
END:VTIMEZONE
BEGIN:VEVENT
DTSTART;TZID=America/Detroit:20251209T080000
DTEND;TZID=America/Detroit:20251211T170000
DTSTAMP:20260423T130703
CREATED:20251013T205526Z
LAST-MODIFIED:20251013T205526Z
UID:13705-1765267200-1765472400@www.aquadocinc.com
SUMMARY:Ohio Turfgrass Foundation Conference & Show
DESCRIPTION:
URL:https://www.aquadocinc.com/event/ohio-turfgrass-foundation-conference-show/
END:VEVENT
BEGIN:VEVENT
DTSTART;TZID=America/Detroit:20251119T090000
DTEND;TZID=America/Detroit:20251119T120000
DTSTAMP:20260423T130703
CREATED:20251013T205316Z
LAST-MODIFIED:20251013T205316Z
UID:13703-1763542800-1763553600@www.aquadocinc.com
SUMMARY:Greater Dayton Association Networking Event
DESCRIPTION:
URL:https://www.aquadocinc.com/event/greater-dayton-association-networking-event/
END:VEVENT
BEGIN:VEVENT
DTSTART;TZID=America/Detroit:20251117T080000
DTEND;TZID=America/Detroit:20251119T170000
DTSTAMP:20260423T130703
CREATED:20251013T205110Z
LAST-MODIFIED:20251013T205110Z
UID:13701-1763366400-1763571600@www.aquadocinc.com
SUMMARY:Carolinas Golf Course Superintendents Association Conference & Trade Show
DESCRIPTION:
URL:https://www.aquadocinc.com/event/carolinas-golf-course-superintendents-association-conference-trade-show/
END:VEVENT
BEGIN:VEVENT
DTSTART;TZID=America/Detroit:20251112T080000
DTEND;TZID=America/Detroit:20251113T170000
DTSTAMP:20260423T130703
CREATED:20251013T204613Z
LAST-MODIFIED:20251013T204624Z
UID:13697-1762934400-1763053200@www.aquadocinc.com
SUMMARY:Water Management Association of Ohio 2025 Conference
DESCRIPTION:
URL:https://www.aquadocinc.com/event/water-management-association-of-ohio/
END:VEVENT
BEGIN:VEVENT
DTSTART;TZID=America/Detroit:20251104T080000
DTEND;TZID=America/Detroit:20251107T170000
DTSTAMP:20260423T130703
CREATED:20251013T204415Z
LAST-MODIFIED:20251013T204820Z
UID:13695-1762243200-1762534800@www.aquadocinc.com
SUMMARY:North American Lake Management Society Conference
DESCRIPTION:
URL:https://www.aquadocinc.com/event/north-american-lake-management-society/
END:VEVENT
BEGIN:VEVENT
DTSTART;TZID=America/Detroit:20251021T110000
DTEND;TZID=America/Detroit:20251021T140000
DTSTAMP:20260423T130703
CREATED:20251013T204324Z
LAST-MODIFIED:20251013T204324Z
UID:13693-1761044400-1761055200@www.aquadocinc.com
SUMMARY:Hocking College Hiring Event
DESCRIPTION:
URL:https://www.aquadocinc.com/event/hocking-college-hiring-event-2/
END:VEVENT
BEGIN:VEVENT
DTSTART;TZID=America/Detroit:20251013T080000
DTEND;TZID=America/Detroit:20251015T170000
DTSTAMP:20260423T130703
CREATED:20251013T204122Z
LAST-MODIFIED:20251013T204122Z
UID:13691-1760342400-1760547600@www.aquadocinc.com
SUMMARY:South Carolina Aquatic Plant Management Society 2025 Annual Meeting
DESCRIPTION:
URL:https://www.aquadocinc.com/event/south-carolina-aquatic-plant-management-society-2025-annual-meeting/
END:VEVENT
BEGIN:VEVENT
DTSTART;VALUE=DATE:20250227
DTEND;VALUE=DATE:20250302
DTSTAMP:20260423T130703
CREATED:20241211T194353Z
LAST-MODIFIED:20241211T194353Z
UID:13154-1740614400-1740873599@www.aquadocinc.com
SUMMARY:Amish Home & Garden Show
DESCRIPTION:
URL:https://www.aquadocinc.com/event/amish-home-garden-show/
LOCATION:Mt. Hope Event Center\, 8076 Oh-241\, Millersburg\, OH\, 44654\, United States
END:VEVENT
BEGIN:VEVENT
DTSTART;VALUE=DATE:20250226
DTEND;VALUE=DATE:20250302
DTSTAMP:20260423T130703
CREATED:20241211T194308Z
LAST-MODIFIED:20241211T194308Z
UID:13151-1740528000-1740873599@www.aquadocinc.com
SUMMARY:MAPMS
DESCRIPTION:
URL:https://www.aquadocinc.com/event/mapms/
LOCATION:Hyatt Regency Columbus
END:VEVENT
BEGIN:VEVENT
DTSTART;VALUE=DATE:20250223
DTEND;VALUE=DATE:20250226
DTSTAMP:20260423T130703
CREATED:20241211T194208Z
LAST-MODIFIED:20241211T194208Z
UID:13149-1740268800-1740527999@www.aquadocinc.com
SUMMARY:PRO Home & Garden Show
DESCRIPTION:
URL:https://www.aquadocinc.com/event/pro-home-garden-show-4/
LOCATION:Glass City Centre\, 401 Jefferson Ave.\, Toledo\, 43604\, United States
END:VEVENT
BEGIN:VEVENT
DTSTART;TZID=America/Detroit:20250221T170000
DTEND;TZID=America/Detroit:20250221T190000
DTSTAMP:20260423T130703
CREATED:20241211T194116Z
LAST-MODIFIED:20241211T194116Z
UID:13146-1740157200-1740164400@www.aquadocinc.com
SUMMARY:Columbus Job Fair
DESCRIPTION:
URL:https://www.aquadocinc.com/event/columbus-job-fair-2/
LOCATION:Jessing Center
END:VEVENT
BEGIN:VEVENT
DTSTART;VALUE=DATE:20250220
DTEND;VALUE=DATE:20250222
DTSTAMP:20260423T130703
CREATED:20241211T194020Z
LAST-MODIFIED:20241211T194020Z
UID:13143-1740009600-1740182399@www.aquadocinc.com
SUMMARY:CAI South Carolina
DESCRIPTION:
URL:https://www.aquadocinc.com/event/cai-south-carolina-2/
LOCATION:Sheraton Myrtle Beach Convention Center Hall
END:VEVENT
BEGIN:VEVENT
DTSTART;VALUE=DATE:20250215
DTEND;VALUE=DATE:20250224
DTSTAMP:20260423T130703
CREATED:20241211T193851Z
LAST-MODIFIED:20241211T193851Z
UID:13141-1739577600-1740355199@www.aquadocinc.com
SUMMARY:Columbus Dispatch Spring H & G
DESCRIPTION:
URL:https://www.aquadocinc.com/event/columbus-dispatch-spring-h-g/
LOCATION:Ohio Expo Center\, 717 E. 17th Ave.\, Columbus\, OH\, 43211\, United States
END:VEVENT
BEGIN:VEVENT
DTSTART;VALUE=DATE:20250215
DTEND;VALUE=DATE:20250216
DTSTAMP:20260423T130703
CREATED:20241211T192409Z
LAST-MODIFIED:20241211T192409Z
UID:13136-1739577600-1739663999@www.aquadocinc.com
SUMMARY:Clean Water Contractor Expo
DESCRIPTION:
URL:https://www.aquadocinc.com/event/clean-water-contractor-expo-4/
LOCATION:Cedar Point Sports Center\, 2701 Cleveland Rd W\, Sandusky\, OH\, 44870\, United States
END:VEVENT
BEGIN:VEVENT
DTSTART;VALUE=DATE:20250215
DTEND;VALUE=DATE:20250216
DTSTAMP:20260423T130703
CREATED:20241211T192246Z
LAST-MODIFIED:20241211T192246Z
UID:13133-1739577600-1739663999@www.aquadocinc.com
SUMMARY:Hocking College Hiring Event
DESCRIPTION:
URL:https://www.aquadocinc.com/event/hocking-college-hiring-event/
LOCATION:Student Center at the Nelsonville Campus
END:VEVENT
BEGIN:VEVENT
DTSTART;VALUE=DATE:20250214
DTEND;VALUE=DATE:20250224
DTSTAMP:20260423T130703
CREATED:20241211T192658Z
LAST-MODIFIED:20241211T194445Z
UID:13138-1739491200-1740355199@www.aquadocinc.com
SUMMARY:Indianapolis Boat\, Sport & Travel Show
DESCRIPTION:
URL:https://www.aquadocinc.com/event/indianapolis-boat-sport-travel-show/
LOCATION:Indiana State Fairgrounds/Blue Ribbon Pavillion
END:VEVENT
BEGIN:VEVENT
DTSTART;VALUE=DATE:20250212
DTEND;VALUE=DATE:20250213
DTSTAMP:20260423T130703
CREATED:20241211T192144Z
LAST-MODIFIED:20241211T192144Z
UID:13129-1739318400-1739404799@www.aquadocinc.com
SUMMARY:Career Fair Food\, Agricultural\, and Environmental Sciences
DESCRIPTION:
URL:https://www.aquadocinc.com/event/career-fair-food-agricultural-and-environmental-sciences/
LOCATION:The Ohio Union\, 1739 N High St\, Columbus\, OH\, United States
END:VEVENT
BEGIN:VEVENT
DTSTART;VALUE=DATE:20250212
DTEND;VALUE=DATE:20250213
DTSTAMP:20260423T130703
CREATED:20241211T174810Z
LAST-MODIFIED:20241211T174810Z
UID:13125-1739318400-1739404799@www.aquadocinc.com
SUMMARY:Cygnet Aquatic Applicator & Lake Managers Symposium
DESCRIPTION:
URL:https://www.aquadocinc.com/event/cygnet-aquatic-applicator-lake-managers-symposium/
LOCATION:The MTG Place\, Lansing\, MI\, United States
END:VEVENT
BEGIN:VEVENT
DTSTART;VALUE=DATE:20250207
DTEND;VALUE=DATE:20250210
DTSTAMP:20260423T130703
CREATED:20241211T174401Z
LAST-MODIFIED:20241211T174401Z
UID:13123-1738886400-1739145599@www.aquadocinc.com
SUMMARY:National Fishing Expo
DESCRIPTION:
URL:https://www.aquadocinc.com/event/national-fishing-expo-2/
LOCATION:Bricker Building\, Ohio Expo Center\, 717 E. 17th Ave.\, Columbus\, OH\, 43211\, United States
END:VEVENT
BEGIN:VEVENT
DTSTART;VALUE=DATE:20250203
DTEND;VALUE=DATE:20250205
DTSTAMP:20260423T130703
CREATED:20241211T174315Z
LAST-MODIFIED:20241211T174315Z
UID:13120-1738540800-1738713599@www.aquadocinc.com
SUMMARY:OPRA Conference & Trade Show
DESCRIPTION:
URL:https://www.aquadocinc.com/event/opra-conference-trade-show-5/
LOCATION:Kalahari Convention Center\, 7000 Kalahari Dr.\, Sandusky\, OH\, 44870\, United States
END:VEVENT
BEGIN:VEVENT
DTSTART;VALUE=DATE:20250131
DTEND;VALUE=DATE:20250210
DTSTAMP:20260423T130703
CREATED:20241111T191951Z
LAST-MODIFIED:20241111T192547Z
UID:13060-1738281600-1739145599@www.aquadocinc.com
SUMMARY:2025 Cleveland Great Big Home and Garden Show
DESCRIPTION:Get ready for the GREAT BIG Home and Garden Show at the Cleveland I-X Center from January 31 to February 9! This highly anticipated event is one of the largest and best-attended home and garden expos in the U.S.\, drawing over 112\,000+ attendees and featuring more than 600+ exhibitors! Whether you’re a gardening enthusiast\, a home improvement DIYer\, or just looking for inspiration\, this is the place to be.\n\n\n\n\n\nAQUA DOC will be at Booth 2930 showcasing our top-tier lake and pond care services\, solutions for water features\, and expert advice on maintaining beautiful outdoor spaces year-round. Stop by our booth to meet our team\, learn more about how we can enhance your backyard oasis\, and even snag some special offers! From water gardens to pond care to stormwater\, we’ve got you covered with expert advice and tailored solutions for every need. Don’t miss your chance to be part of this incredible event – join us for a splash of excitement at the GREAT BIG Home and Garden Show! \n  \nEvent Hours: \n\nFriday\, January 31: 10am – 9pm\nSaturday\, February 1: 10am – 9pm\nSunday\, February 2: 10am – 6pm\nMonday\, February 3: 10am – 8pm\nTuesday\, February 4: 10am – 8pm\nWednesday\, February 5: 10am – 8pm\nThursday\, February 6: 10am – 8pm\nFriday\, February 7: 10am – 9pm\nSaturday\, February 8: 10am – 9pm\nSunday\, February 9: 10am – 5pm\n\n  \nTicket Selection \n\n\nFree admission for children ages 5 & Under. \nChildren (Ages 6-12)  $5.00 (Tickets available at box office). \nAdults (Age 13+) $13.00 when ordered online $15.00 at the box office. \nSeniors (Ages 65+\, with ID) $11.00 (Monday-Thursday only\, tickets available at box office).
URL:https://www.aquadocinc.com/event/13060/
LOCATION:Cleveland IX Center\, 1 I-X Center Drive\, Cleveland\, OH\, 44135\, United States
END:VEVENT
BEGIN:VEVENT
DTSTART;VALUE=DATE:20250129
DTEND;VALUE=DATE:20250201
DTSTAMP:20260423T130703
CREATED:20241211T171949Z
LAST-MODIFIED:20241211T171949Z
UID:13116-1738108800-1738367999@www.aquadocinc.com
SUMMARY:OTA Ohio Township Association
DESCRIPTION:
URL:https://www.aquadocinc.com/event/ota-ohio-township-association/
LOCATION:Greater Columbus Convention Center\, 400 N. High St\, Columbus\, OH\, 43215\, United States
END:VEVENT
BEGIN:VEVENT
DTSTART;VALUE=DATE:20250124
DTEND;VALUE=DATE:20250127
DTSTAMP:20260423T130703
CREATED:20241111T185358Z
LAST-MODIFIED:20241111T192201Z
UID:13055-1737676800-1737935999@www.aquadocinc.com
SUMMARY:Join us at the 27th Annual North Atlanta Home Show
DESCRIPTION:Join AQUA DOC at the 27th Annual North Atlanta Home Show\, taking place January 24-26\, 2025\, at the Gas South Convention Center! This exciting event is the perfect opportunity to explore the latest in home improvement and water feature solutions. AQUA DOC will be showcasing our expertise in pond care and water management at Booth 417. Whether you’re a homeowner looking to enhance your outdoor space or a professional seeking innovative solutions\, our team will be available to provide valuable advice and answer your questions. \nEvent Details: \n\nFriday\, January 24\, 2025: 10:00 AM – 6:00 PM\nSaturday\, January 25\, 2025: 10:00 AM – 7:00 PM\nSunday\, January 26\, 2025: 11:00 AM – 5:00 PM\n\nTicket Information: \n\nAdults (Ages 13+): $9.00 at the box office; $7.00 online (save $2)\nSeniors (Ages 65+): FREE with ID\nChildren (Ages 12 and under): FREE\nHero Day (Friday): FREE for Veterans\, Active & Retired Military\, Teachers\, Fire\, Police\, and Healthcare Workers (with ID)\nTrade Day (Friday): FREE for home-related tradespeople and members of industry organizations (with ID)\n\nDon’t miss out on this opportunity to connect with AQUA DOC and discover how we can enhance your home with expert maintenance services. We look forward to seeing you at the show!
URL:https://www.aquadocinc.com/event/join-us-at-the-27th-annual-north-atlanta-home-show/
LOCATION:Gas South Convention Center\, 6400 Sugarloaf Pkwy\, Duluth\, OH\, 30097\, United States
END:VEVENT
BEGIN:VEVENT
DTSTART;VALUE=DATE:20250124
DTEND;VALUE=DATE:20250126
DTSTAMP:20260423T130703
CREATED:20241211T171900Z
LAST-MODIFIED:20241211T171900Z
UID:13114-1737676800-1737849599@www.aquadocinc.com
SUMMARY:Ohio Aquaculture Association
DESCRIPTION:
URL:https://www.aquadocinc.com/event/ohio-aquaculture-association-2/
LOCATION:Quest Conference Center\, 9200 Worthington Rd\, Westerville\, OH\, 43082\, United States
END:VEVENT
BEGIN:VEVENT
DTSTART;VALUE=DATE:20250122
DTEND;VALUE=DATE:20250127
DTSTAMP:20260423T130703
CREATED:20241111T181717Z
LAST-MODIFIED:20241111T181717Z
UID:13049-1737504000-1737935999@www.aquadocinc.com
SUMMARY:Join AQUA DOC at the 2025 Louisville Boat\, RV\, & Sportshow!
DESCRIPTION:📅 When: January 22-26\, 2025\n📍 Where: Kentucky Exposition Center\, Louisville\, KY \nAQUA DOC is excited to be part of the ultimate showcase for boating\, RVs\, and outdoor fun! Visit our booth to learn how we can help you maintain pristine waters and enjoy your lake lifestyle to the fullest. Whether you’re a seasoned boat owner or just discovering life on the water\, we’re here to help make your aquatic adventures stress-free and enjoyable. \nWhile you’re at the show\, check out these incredible activities:\n🌊 Discover Boating Lake Life Lounge – Dive into tips and inspiration for enjoying the lake life.\n🍳 NEW! Cooking Demonstrations by Tim Farmer – Savor expert cooking tips and delicious recipes.\n🚤 Wake Zone – Explore the latest in wake sports gear and activities.\n🚣 Paddle Sports Pool – Test your paddling skills with demo rides.\n🔧 Fred’s Shed – How-To-Center Presented by Progressive – Get hands-on repair and maintenance tips.\n🎣 Kids’ Trout Pond – FREE fishing fun for kids 12 and under!\n🦖 NEW! Dinosaur Dimensions – A roaring good time for the whole family.\n🐶 NEW! Puppy Pals – Enjoy an exciting canine performance.\n🥃 Four Roses Bourbon Lounge – Relax and sample iconic Kentucky bourbon.\n🎶 Live Music with Roger Weber – Unwind with great tunes.\n🚤 Hydroplane Boat Displays – See high-speed watercraft up close.\n🚤 FREE Boating Safety Courses – Ensure you’re ready for safe adventures on the water. \nDon’t forget to stop by AQUA DOC’s booth to chat with our experts about water management and services tailored to your outdoor lifestyle. We can’t wait to see you there! \n🎟 Learn more and get your tickets: https://www.louisvilleboatshow.com/ \nLet’s make 2025 your best year on the water! 🌊
URL:https://www.aquadocinc.com/event/join-aqua-doc-at-the-2025-louisville-boat-rv-sportshow/
LOCATION:Kentucky Exposition Center\, 937 Phillips Ln\, Louisville\, KY\, 40209\, United States
END:VEVENT
BEGIN:VEVENT
DTSTART;VALUE=DATE:20250121
DTEND;VALUE=DATE:20250124
DTSTAMP:20260423T130703
CREATED:20241211T170942Z
LAST-MODIFIED:20241211T170942Z
UID:13106-1737417600-1737676799@www.aquadocinc.com
SUMMARY:OFSWCD
DESCRIPTION:
URL:https://www.aquadocinc.com/event/ofswcd-2/
LOCATION:Columbus Hilton Downtown\, 402 North High St\, Columbus\, OH\, 43215\, United States
END:VEVENT
BEGIN:VEVENT
DTSTART;VALUE=DATE:20250120
DTEND;VALUE=DATE:20250124
DTSTAMP:20260423T130703
CREATED:20241211T171157Z
LAST-MODIFIED:20241211T171157Z
UID:13110-1737331200-1737676799@www.aquadocinc.com
SUMMARY:SLMP (Society of Lake Management Professionals)
DESCRIPTION:
URL:https://www.aquadocinc.com/event/slmp-society-of-lake-management-professionals/
LOCATION:Embassy Suites Myrtle Beach Oceanfront\, Myrtle Beach\, SC\, United States
END:VEVENT
BEGIN:VEVENT
DTSTART;VALUE=DATE:20250116
DTEND;VALUE=DATE:20250119
DTSTAMP:20260423T130703
CREATED:20241111T180019Z
LAST-MODIFIED:20241111T180019Z
UID:13045-1736985600-1737244799@www.aquadocinc.com
SUMMARY:2025 NE OH Sportsman Show
DESCRIPTION:Join AQUA DOC at the 2025 Northeast Ohio Sportsman Show! From January 16-18\, we’ll be at the largest gathering of hunting and fishing enthusiasts in the area\, held in the massive 79\,000+ sq ft venue of Mt. Hope Event Center. \nSwing by our booth to learn about our top services for pond and lake management\, fish stocking\, and water feature maintenance. Our experts are here to help you enhance your outdoor spaces\, keeping them in pristine condition year-round. We’ll also have insider tips on water care\, fish habitat management\, and equipment to improve the health and beauty of your lakes and ponds. \nShow Hours: \n\nThursday\, Jan. 16: 2 pm – 8 pm\nFriday\, Jan. 17: 9 am – 9 pm\nSaturday\, Jan. 18: 9 am – 4 pm\n\nAdmission: \n\nAdults: $15/day\nChildren 12 & under: Free\n2-Day Pass: $25\nFree parking and shuttle services!\n\n📍 Where: Mt. Hope Event Center\, Millersburg\, OH \nDiscover everything from seminars on fishing techniques using the Giant Hawg Trough\, to hundreds of exhibitors showcasing the latest innovations in hunting and fishing gear. It’s a fantastic family-friendly event with food\, amenities\, and a welcoming outdoor-loving community. \nWe can’t wait to see you there—visit AQUA DOC and let’s talk about your outdoor water needs!
URL:https://www.aquadocinc.com/event/2025-ne-oh-sportsman-show/
LOCATION:Mt. Hope Event Center\, 8076 Oh-241\, Millersburg\, OH\, 44654\, United States
END:VEVENT
BEGIN:VEVENT
DTSTART;VALUE=DATE:20250116
DTEND;VALUE=DATE:20250118
DTSTAMP:20260423T130703
CREATED:20241211T170314Z
LAST-MODIFIED:20241211T170314Z
UID:13098-1736985600-1737158399@www.aquadocinc.com
SUMMARY:Aquatic Control Annual Workshop
DESCRIPTION:
URL:https://www.aquadocinc.com/event/aquatic-control-annual-workshop/
LOCATION:Embassy Suites Noblesville Indianapolis Conference Center\, 13700 Conference Ctr Dr\, Noblesville\, IN\, 46060\, United States
END:VEVENT
BEGIN:VEVENT
DTSTART;VALUE=DATE:20250109
DTEND;VALUE=DATE:20250113
DTSTAMP:20260423T130703
CREATED:20241111T175127Z
LAST-MODIFIED:20241111T175127Z
UID:13041-1736380800-1736726399@www.aquadocinc.com
SUMMARY:🎣🚤 Catch Us at the 2025 Atlanta Boat Show! 🚤🎣
DESCRIPTION:AQUA DOC is excited to kick off the new year at the 2025 Atlanta Boat Show\, happening January 9-12 at the Georgia World Congress Center! \nWhether you’re a seasoned boater or just dipping your toes into waterfront living\, this is your chance to connect with us and learn how we can help you ensure your aquatic adventures are smooth sailing all year long. \n🌊 What to Expect:\n✅ Expert advice on pond and lake care\n✅ Insights on keeping your waterfront property in top shape\n✅ Exclusive show specials and giveaways \n📍 Visit Our Booth: Find us among the industry’s best to talk all things water management and discover how AQUA DOC can elevate your aquatic lifestyle. \nWe can’t wait to meet you! Mark your calendars and join us at the 2025 Atlanta Boat Show for a splash-tacular experience. \nFor more details about the event\, visit www.atlantaboatshow.com
URL:https://www.aquadocinc.com/event/%f0%9f%8e%a3%f0%9f%9a%a4-catch-us-at-the-2025-atlanta-boat-show-%f0%9f%9a%a4%f0%9f%8e%a3/
LOCATION:Georgia World Congress Center Hall C\, 285 Andrew Young International Blvd NW\, Atlanta\, GA\, 30313\, United States
END:VEVENT
END:VCALENDAR