BEGIN:VCALENDAR
VERSION:2.0
PRODID:-//AQUA DOC® - ECPv6.15.20//NONSGML v1.0//EN
CALSCALE:GREGORIAN
METHOD:PUBLISH
X-WR-CALNAME:AQUA DOC®
X-ORIGINAL-URL:https://www.aquadocinc.com
X-WR-CALDESC:Events for AQUA DOC®
REFRESH-INTERVAL;VALUE=DURATION:PT1H
X-Robots-Tag:noindex
X-PUBLISHED-TTL:PT1H
BEGIN:VTIMEZONE
TZID:America/Detroit
BEGIN:DAYLIGHT
TZOFFSETFROM:-0500
TZOFFSETTO:-0400
TZNAME:EDT
DTSTART:20220313T070000
END:DAYLIGHT
BEGIN:STANDARD
TZOFFSETFROM:-0400
TZOFFSETTO:-0500
TZNAME:EST
DTSTART:20221106T060000
END:STANDARD
BEGIN:DAYLIGHT
TZOFFSETFROM:-0500
TZOFFSETTO:-0400
TZNAME:EDT
DTSTART:20230312T070000
END:DAYLIGHT
BEGIN:STANDARD
TZOFFSETFROM:-0400
TZOFFSETTO:-0500
TZNAME:EST
DTSTART:20231105T060000
END:STANDARD
BEGIN:DAYLIGHT
TZOFFSETFROM:-0500
TZOFFSETTO:-0400
TZNAME:EDT
DTSTART:20240310T070000
END:DAYLIGHT
BEGIN:STANDARD
TZOFFSETFROM:-0400
TZOFFSETTO:-0500
TZNAME:EST
DTSTART:20241103T060000
END:STANDARD
BEGIN:DAYLIGHT
TZOFFSETFROM:-0500
TZOFFSETTO:-0400
TZNAME:EDT
DTSTART:20250309T070000
END:DAYLIGHT
BEGIN:STANDARD
TZOFFSETFROM:-0400
TZOFFSETTO:-0500
TZNAME:EST
DTSTART:20251102T060000
END:STANDARD
END:VTIMEZONE
BEGIN:VEVENT
DTSTART;VALUE=DATE:20240308
DTEND;VALUE=DATE:20240311
DTSTAMP:20260425T232931
CREATED:20240219T195256Z
LAST-MODIFIED:20240219T195256Z
UID:12363-1709856000-1710115199@www.aquadocinc.com
SUMMARY:Summit County JDM Fishing & Outdoor Show
DESCRIPTION:
URL:https://www.aquadocinc.com/event/summit-county-jdm-fishing-outdoor-show/
LOCATION:Summit County Fairgrounds Arena Complex\, 1050 North Ave\, Tallmadge\, OH\, 44278\, United States
END:VEVENT
BEGIN:VEVENT
DTSTART;VALUE=DATE:20240306
DTEND;VALUE=DATE:20240307
DTSTAMP:20260425T232931
CREATED:20240219T195122Z
LAST-MODIFIED:20240219T195122Z
UID:12361-1709683200-1709769599@www.aquadocinc.com
SUMMARY:Ohio Woodland Water and Wildlife Conference
DESCRIPTION:
URL:https://www.aquadocinc.com/event/ohio-woodland-water-and-wildlife-conference/
LOCATION:Mid-Ohio Conference Center\, 890 West 4th\, Ste # 100\, Mansfield
END:VEVENT
BEGIN:VEVENT
DTSTART;VALUE=DATE:20240305
DTEND;VALUE=DATE:20240306
DTSTAMP:20260425T232931
CREATED:20240219T195037Z
LAST-MODIFIED:20240219T195037Z
UID:12358-1709596800-1709683199@www.aquadocinc.com
SUMMARY:GGP Career Exploration Open House
DESCRIPTION:
URL:https://www.aquadocinc.com/event/ggp-career-exploration-open-house/
LOCATION:Kent State University at Geauga\, 14111 Claridon-Troy Rd\, Burton\, OH\, 44021\, United States
END:VEVENT
BEGIN:VEVENT
DTSTART;VALUE=DATE:20240302
DTEND;VALUE=DATE:20240304
DTSTAMP:20260425T232931
CREATED:20240219T191649Z
LAST-MODIFIED:20240219T191649Z
UID:12355-1709337600-1709510399@www.aquadocinc.com
SUMMARY:Medina County Home & Garden Show
DESCRIPTION:
URL:https://www.aquadocinc.com/event/medina-county-home-garden-show/
LOCATION:Medina County Community Center\, 735 Lafayette Rd\, Medina\, OH\, 44256\, United States
END:VEVENT
BEGIN:VEVENT
DTSTART;VALUE=DATE:20240301
DTEND;VALUE=DATE:20240303
DTSTAMP:20260425T232931
CREATED:20240219T191449Z
LAST-MODIFIED:20240219T191508Z
UID:12353-1709251200-1709423999@www.aquadocinc.com
SUMMARY:OCOA Spring Trade Show
DESCRIPTION:
URL:https://www.aquadocinc.com/event/ocoa-spring-trade-show/
LOCATION:Embassy Suites Columbus-Airport\, 2886 Airport Dr\, Columbus\, OH\, United States
END:VEVENT
BEGIN:VEVENT
DTSTART;VALUE=DATE:20240224
DTEND;VALUE=DATE:20240305
DTSTAMP:20260425T232931
CREATED:20230630T183700Z
LAST-MODIFIED:20230630T183700Z
UID:12128-1708732800-1709596799@www.aquadocinc.com
SUMMARY:Cincinnati Home & Garden Show
DESCRIPTION:
URL:https://www.aquadocinc.com/event/cincinnati-home-garden-show-4/
LOCATION:Duke Energy Convention Center\, 525 Elm Street\, Cincinnati\, OH\, 45202\, United States
END:VEVENT
BEGIN:VEVENT
DTSTART;VALUE=DATE:20240223
DTEND;VALUE=DATE:20240226
DTSTAMP:20260425T232931
CREATED:20230630T183244Z
LAST-MODIFIED:20230630T183244Z
UID:12125-1708646400-1708905599@www.aquadocinc.com
SUMMARY:PRO Home & Garden Show
DESCRIPTION:
URL:https://www.aquadocinc.com/event/pro-home-garden-show-3/
LOCATION:Glass City Centre\, 401 Jefferson Ave.\, Toledo\, 43604\, United States
END:VEVENT
BEGIN:VEVENT
DTSTART;VALUE=DATE:20240217
DTEND;VALUE=DATE:20240226
DTSTAMP:20260425T232931
CREATED:20230630T180521Z
LAST-MODIFIED:20230630T180521Z
UID:12123-1708128000-1708905599@www.aquadocinc.com
SUMMARY:Columbus Dispatch Spring Home & Garden
DESCRIPTION:
URL:https://www.aquadocinc.com/event/columbus-dispatch-spring-home-garden/
LOCATION:Ohio Expo Center\, 717 E. 17th Ave.\, Columbus\, OH\, 43211\, United States
END:VEVENT
BEGIN:VEVENT
DTSTART;VALUE=DATE:20240205
DTEND;VALUE=DATE:20240207
DTSTAMP:20260425T232931
CREATED:20230630T175738Z
LAST-MODIFIED:20230630T175738Z
UID:12121-1707091200-1707263999@www.aquadocinc.com
SUMMARY:OPRA Conference & Trade Show
DESCRIPTION:The 2024 OPRA Conference & Trade Show will take place February 4-7\, 2024 at the Kalahari Convention Center in Sandusky\, Ohio.  This year’s Conference Committee is made up of professionals from around the state and is led by Conference Board Liaison Addie Weaver.
URL:https://www.aquadocinc.com/event/opra-conference-trade-show-4/
LOCATION:Kalahari Convention Center\, 7000 Kalahari Dr.\, Sandusky\, OH\, 44870\, United States
END:VEVENT
BEGIN:VEVENT
DTSTART;VALUE=DATE:20240202
DTEND;VALUE=DATE:20240212
DTSTAMP:20260425T232931
CREATED:20230630T175124Z
LAST-MODIFIED:20230630T175124Z
UID:12119-1706832000-1707695999@www.aquadocinc.com
SUMMARY:The Great Big Home & Garden Show
DESCRIPTION:The Great Big Home + Garden Show is a vibrant marketplace where you can shop for home-related products and services\, experience stunning displays to help inspire your next home project\, connect with industry experts\, and enjoy informative presentations from renowned local and international home professionals. \nWhether you’re joining us at the Cleveland’s I-X Center with a specific project in mind or just looking for some inspiration\, our local home professionals have you covered. With 450+ booths to explore and several unique feature displays to enjoy\, this is a valuable event for all Cleveland homeowners.
URL:https://www.aquadocinc.com/event/the-great-big-home-garden-show-3/
LOCATION:Cleveland IX Center\, 1 I-X Center Drive\, Cleveland\, OH\, 44135\, United States
END:VEVENT
BEGIN:VEVENT
DTSTART;VALUE=DATE:20240124
DTEND;VALUE=DATE:20240129
DTSTAMP:20260425T232931
CREATED:20231122T145222Z
LAST-MODIFIED:20231122T145222Z
UID:12292-1706054400-1706486399@www.aquadocinc.com
SUMMARY:Louisville Boat\, RV & Sportshow
DESCRIPTION:
URL:https://www.aquadocinc.com/event/louisville-boat-rv-sportshow/
LOCATION:Kentucky Exposition Center\, 937 Phillips Ln\, Louisville\, KY\, 40209\, United States
ORGANIZER;CN="Louisville Boat%2C RV%2C & Sportshow":MAILTO:info@louisvilleboatshow.com
END:VEVENT
BEGIN:VEVENT
DTSTART;VALUE=DATE:20240119
DTEND;VALUE=DATE:20240129
DTSTAMP:20260425T232931
CREATED:20231122T144438Z
LAST-MODIFIED:20231122T144438Z
UID:12289-1705622400-1706486399@www.aquadocinc.com
SUMMARY:Cincinnati Boat\, Sport\, & Travel Show
DESCRIPTION:Find us at booth 313 \nJan 19-21 & Jan 24-28
URL:https://www.aquadocinc.com/event/cincinnati-boat-sport-travel-show/
LOCATION:Duke Energy Convention Center\, 525 Elm Street\, Cincinnati\, OH\, 45202\, United States
END:VEVENT
BEGIN:VEVENT
DTSTART;VALUE=DATE:20240118
DTEND;VALUE=DATE:20240121
DTSTAMP:20260425T232931
CREATED:20231122T143802Z
LAST-MODIFIED:20231122T143802Z
UID:12283-1705536000-1705795199@www.aquadocinc.com
SUMMARY:NE Ohio Sportsman Show
DESCRIPTION:
URL:https://www.aquadocinc.com/event/ne-ohio-sportsman-show/
LOCATION:Mt. Hope Event Center\, 8076 Oh-241\, Millersburg\, OH\, 44654\, United States
END:VEVENT
BEGIN:VEVENT
DTSTART;VALUE=DATE:20240111
DTEND;VALUE=DATE:20240115
DTSTAMP:20260425T232931
CREATED:20231122T135914Z
LAST-MODIFIED:20231122T135914Z
UID:12281-1704931200-1705276799@www.aquadocinc.com
SUMMARY:Atlanta Boat Show
DESCRIPTION:Ticket Info\nAdult (13 & Up): $15 online\, $17 at the event site \nChildren 12 and younger – FREE (when accompanied by a paid adult) \n$5 after 5\, Thursday\, January 11 ONLY! \nAll ticket sales are now online \nCLICK HERE FOR TICKETS
URL:https://www.aquadocinc.com/event/atlanta-boat-show-2/
LOCATION:Georgia World Congress Center Hall C\, 285 Andrew Young International Blvd NW\, Atlanta\, GA\, 30313\, United States
ORGANIZER;CN="Atlanta Boat Show":MAILTO:info@atlantaboatshow.com
END:VEVENT
BEGIN:VEVENT
DTSTART;VALUE=DATE:20240109
DTEND;VALUE=DATE:20240112
DTSTAMP:20260425T232931
CREATED:20231122T135524Z
LAST-MODIFIED:20231122T135524Z
UID:12277-1704758400-1705017599@www.aquadocinc.com
SUMMARY:NEAPMS
DESCRIPTION:Northeast Aquatic Plant Management Society \nTuesday will feature an afternoon workshop followed by a welcome reception in the evening (dinner on your own). Wednesday will include a full day of technical presentations focused on active management of aquatic plants and algae to maximize creditable talks\, followed by a poster session\, and banquet. Thursday morning will include several technical presentations. We conclude with a luncheon and conference adjournment at 1pm.
URL:https://www.aquadocinc.com/event/neapms/
LOCATION:Wentworth By the Sea\, 588 Wentworth Rd\, New Castle\, NH\, 03854\, United States
END:VEVENT
BEGIN:VEVENT
DTSTART;VALUE=DATE:20240105
DTEND;VALUE=DATE:20240108
DTSTAMP:20260425T232931
CREATED:20230630T150137Z
LAST-MODIFIED:20230630T150137Z
UID:12117-1704412800-1704671999@www.aquadocinc.com
SUMMARY:Columbus Building & Renovation Expo
DESCRIPTION:The Columbus Building & Renovation Expo is the perfect event to kick-off your New Year and get you closer than ever to making your dream home a reality!  \nFrom top quality exhibits\, to insightful demonstrations and more\, you’ll discover thousands of smart\, stylish and cost-effective ways to design or renovate your home – including the latest ideas in: \nKitchens | Baths | Custom Remodeling | Windows | Siding | Roofing | Doors | Sunrooms | Room Additions | Basements | Cabinets | Countertops | Carpet & Hardwood Floors | Landscaping | Decks | Patios | Saunas & Spas | New Home Construction & Design | New Product Ideas & Much\, Much More! \nWhen you join us at the Columbus Building & Renovation Expo at the Ohio Expo Center\, you’ll get the answers\, advice\, insight and ideas you need – and have a lot of fun too!
URL:https://www.aquadocinc.com/event/columbus-building-renovation-expo-3/
LOCATION:Ohio Expo Center\, 717 E. 17th Ave.\, Columbus\, OH\, 43211\, United States
END:VEVENT
BEGIN:VEVENT
DTSTART;VALUE=DATE:20231204
DTEND;VALUE=DATE:20231208
DTSTAMP:20260425T232931
CREATED:20230630T144401Z
LAST-MODIFIED:20231122T134721Z
UID:12111-1701648000-1701993599@www.aquadocinc.com
SUMMARY:OTF (Ohio Turfgrass Foundation)
DESCRIPTION:We will be located at booth 120.
URL:https://www.aquadocinc.com/event/otf-ohio-turfgrass-foundation/
LOCATION:Greater Columbus Convention Center\, 400 N. High St\, Columbus\, OH\, 43215\, United States
END:VEVENT
BEGIN:VEVENT
DTSTART;VALUE=DATE:20231126
DTEND;VALUE=DATE:20231129
DTSTAMP:20260425T232931
CREATED:20231122T145322Z
LAST-MODIFIED:20231122T145342Z
UID:12294-1700956800-1701215999@www.aquadocinc.com
SUMMARY:North Atlanta Home Show
DESCRIPTION:Find us at booth 835
URL:https://www.aquadocinc.com/event/north-atlanta-home-show-2/
LOCATION:Gas South Convention Center\, 6400 Sugarloaf Pkwy\, Duluth\, OH\, 30097\, United States
END:VEVENT
BEGIN:VEVENT
DTSTART;VALUE=DATE:20231126
DTEND;VALUE=DATE:20231128
DTSTAMP:20260425T232931
CREATED:20231122T144105Z
LAST-MODIFIED:20231122T144105Z
UID:12286-1700956800-1701129599@www.aquadocinc.com
SUMMARY:Ohio Aquaculture Association
DESCRIPTION:
URL:https://www.aquadocinc.com/event/ohio-aquaculture-association/
LOCATION:Quest Conference Center\, 9200 Worthington Rd\, Westerville\, OH\, 43082\, United States
END:VEVENT
BEGIN:VEVENT
DTSTART;VALUE=DATE:20231022
DTEND;VALUE=DATE:20231027
DTSTAMP:20260425T232931
CREATED:20230630T143025Z
LAST-MODIFIED:20230630T143025Z
UID:12103-1697932800-1698364799@www.aquadocinc.com
SUMMARY:NALMS (North American Lake Management Society)
DESCRIPTION:At the time when climate change\, invasive species risks\, and cultural pressures threaten the natural environment and biodiversity of our fragile ecosystem\, the opportunity to highlight and mesh the State of Pennsylvania and its rich diversity of aquatic habitats is long overdue. \nThe Pennsylvania Lake Management Society is proud to welcome the 2023 North American Lake Management Society Conference to Lake Erie. As we endeavor to highlight our Great Lakes\, Local Solutions agenda\, Erie Pennsylvania provides the opportunity to explore Presque Isle State Park\, a National Natural Landmark and The Tom Ridge Environmental Center\, while indulging in the amenities of the Bayfront Convention Center and all that Erie has to offer.
URL:https://www.aquadocinc.com/event/nalms-north-american-lake-management-society/
LOCATION:Bayfront Convention Center\, 1 Sassafras Pier\, Erie\, PA\, 16507\, United States
END:VEVENT
BEGIN:VEVENT
DTSTART;VALUE=DATE:20230919
DTEND;VALUE=DATE:20230922
DTSTAMP:20260425T232931
CREATED:20230515T210044Z
LAST-MODIFIED:20230515T210044Z
UID:12021-1695081600-1695340799@www.aquadocinc.com
SUMMARY:Farm Science Review
DESCRIPTION:The Molly Caren Agricultural Center (MCAC) near London\, Ohio is home to the Farm Science Review and attracts over 100\,000 visitors from all over the United States and Canada\, who come for three days to peruse 4\,000 product lines from 600 commercial exhibitors\, and learn the latest in agricultural production. The educational programs feature Ohio State specialists and are second to none in the agricultural exhibition world. \n 
URL:https://www.aquadocinc.com/event/farm-science-review-2/
LOCATION:Ohio State’s 2\,100-acre Molly Caren Agricultural Center is located two miles north of London on U.S. Route 40.\, 135 SR-38\, London\, OH\, 43140\, United States
END:VEVENT
BEGIN:VEVENT
DTSTART;TZID=America/Detroit:20230910T100000
DTEND;TZID=America/Detroit:20230910T160000
DTSTAMP:20260425T232931
CREATED:20230606T162952Z
LAST-MODIFIED:20230606T162952Z
UID:12052-1694340000-1694361600@www.aquadocinc.com
SUMMARY:Rescue Village Woofstock
DESCRIPTION:It’s time to get those tails wagging and come down to the biggest outdoor dog and family friendly festival Northeast Ohio has to offer🐶 \nWe have partnered up with Rescue Village to help benefit all of the homeless animals under their care🥰
URL:https://www.aquadocinc.com/event/rescue-village-woofstock-2/
LOCATION:Cleveland Metroparks Polo Field\, 41324 Woodland Rd.\, Chagrin Falls\, OH\, 44022\, United States
END:VEVENT
BEGIN:VEVENT
DTSTART;TZID=America/Detroit:20230826T083000
DTEND;TZID=America/Detroit:20230826T120000
DTSTAMP:20260425T232931
CREATED:20230531T194403Z
LAST-MODIFIED:20230531T194403Z
UID:12034-1693038600-1693051200@www.aquadocinc.com
SUMMARY:Jog with a Frog 5K &1 Mile Walk Presented by AQUA DOC Lake & Pond Management
DESCRIPTION:Join us in the morning for the race and walk and then stick around for the awards and tours of the shelter afterward! \nJog with a Frog 5K\n$25\n\n\n1 Mile Walk\n$15
URL:https://www.aquadocinc.com/event/jog-with-a-frog-5k-1-mile-walk-presented-by-aqua-doc-lake-pond-management/
LOCATION:Project Hope\, 25 Freedom Rd\, Painesville\, OH\, 44077\, United States
END:VEVENT
BEGIN:VEVENT
DTSTART;TZID=America/Detroit:20230813T140000
DTEND;TZID=America/Detroit:20230813T160000
DTSTAMP:20260425T232931
CREATED:20230606T155501Z
LAST-MODIFIED:20230606T155501Z
UID:12047-1691935200-1691942400@www.aquadocinc.com
SUMMARY:Richfield Community Day Frog Jump
DESCRIPTION:Come on down and enjoy the annual Richfield Community Day festivities. We will be hosting the frog jump from 2 p.m. to 4 p.m. at Richfield Woods Park.🐸
URL:https://www.aquadocinc.com/event/richfield-community-day-frog-jump/
LOCATION:Richfield Woods Park\, 4100 Broadview Rd\, Richfield\, OH\, 44282\, United States
END:VEVENT
BEGIN:VEVENT
DTSTART;TZID=America/Detroit:20230809T110000
DTEND;TZID=America/Detroit:20230809T150000
DTSTAMP:20260425T232931
CREATED:20230512T141316Z
LAST-MODIFIED:20230512T141316Z
UID:12004-1691578800-1691593200@www.aquadocinc.com
SUMMARY:Columbus Apartment Association Expo
DESCRIPTION:“A Night At The Movies”!\nThe CAA will be celebrating their favorite movies from black and white to Pixar to action or romace….be sure to check out the CAA vendors to see which movie they have chosen!
URL:https://www.aquadocinc.com/event/columbus-apartment-association-expo/
LOCATION:Munson Township Community Hall\, 12210 Auburn Road\, Chardon\, OH\, 44024\, United States
END:VEVENT
BEGIN:VEVENT
DTSTART;TZID=America/Detroit:20230730T120000
DTEND;TZID=America/Detroit:20230730T210000
DTSTAMP:20260425T232931
CREATED:20230629T171403Z
LAST-MODIFIED:20230629T171403Z
UID:12098-1690718400-1690750800@www.aquadocinc.com
SUMMARY:Solon Home Days Parade
DESCRIPTION:Come and see Dr. Al G at the Solon Home Days Parade starting at 12p.m. at the Solon Community Park.
URL:https://www.aquadocinc.com/event/solon-home-days-parade/
LOCATION:Solon Community Park\, 6679 SOM Ctr Rd\, Solon\, OH\, 44139\, United States
END:VEVENT
BEGIN:VEVENT
DTSTART;VALUE=DATE:20230617
DTEND;VALUE=DATE:20230618
DTSTAMP:20260425T232931
CREATED:20230512T135654Z
LAST-MODIFIED:20230512T135654Z
UID:12000-1686960000-1687046399@www.aquadocinc.com
SUMMARY:Kirtland Strawberry Festival
DESCRIPTION:
URL:https://www.aquadocinc.com/event/kirtland-strawberry-festival/
LOCATION:Kirtland Highschool\, 9150 Chillicothe Rd\, Kirtland\, OH\, 44094\, United States
END:VEVENT
BEGIN:VEVENT
DTSTART;TZID=America/Detroit:20230528T140000
DTEND;TZID=America/Detroit:20230528T160000
DTSTAMP:20260425T232931
CREATED:20230512T134618Z
LAST-MODIFIED:20230512T134618Z
UID:11997-1685282400-1685289600@www.aquadocinc.com
SUMMARY:Blossom Time Parade (Jaycees)
DESCRIPTION:Stake your favorite spot. Actually\, that was just a joke. Wait a little bit longer. The annual Blossom Time parade goes from the Chagrin Falls High School all the way down to Triangle Park in the heart of Chagrin Falls
URL:https://www.aquadocinc.com/event/blossom-time-parade-jaycees/
LOCATION:Chagrin Falls High School\, 342 E Washington\, Chagrin Falls\, OH\, 44022\, United States
END:VEVENT
BEGIN:VEVENT
DTSTART;TZID=America/Detroit:20230513T090000
DTEND;TZID=America/Detroit:20230513T110000
DTSTAMP:20260425T232931
CREATED:20230405T163326Z
LAST-MODIFIED:20230405T163530Z
UID:11940-1683968400-1683975600@www.aquadocinc.com
SUMMARY:Chagrin Valley Chamber of Commerce Rubber Duck Race
DESCRIPTION:The Chagrin Valley Chamber is excited to announce our 3rd  Annual Rubber Ducky Race! What is a Rubber Ducky Race\, you ask?  A rubber ducky’s journey down the river\, under the bridge and over the falls to the finish line.  If your adoption paper’s number matches the number on the bottom of the winning duck… you win!. To participate\, adopt a duck or a flock and cheer on your ducks as they sail through the river to the finish line. One lucky duck will win the first place price of $1000.00\, second place winner $500.00 and third place an amazing gift basket!! Will you adopt the lucky duck?  AQUA DOC will make sure that no duck is left behind and will be handling everything in the River with the assistance of the Chagrin Valley Fire Department.
URL:https://www.aquadocinc.com/event/chagrin-valley-chamber-of-commerce-rubber-duck-race/
LOCATION:Chagrin River in Downtown Chagrin Falls\, 100 N Main St\, Chagrin Falls\, 44022\, United States
END:VEVENT
BEGIN:VEVENT
DTSTART;TZID=America/Detroit:20230510T090000
DTEND;TZID=America/Detroit:20230512T193000
DTSTAMP:20260425T232931
CREATED:20230126T184505Z
LAST-MODIFIED:20230126T185439Z
UID:11860-1683709200-1683919800@www.aquadocinc.com
SUMMARY:Ohio Stormwater Conference
DESCRIPTION:The conference has grown from 399 attendees to over 1\,000 in the past 15 years.  The Ohio Stormwater Conference  is an annual conference dedicated to advancing the knowledge and understanding of comprehensive stormwater and watershed management for those dealing in all aspects of planning\, design\, implementation and regulatory compliance. This year’s conference is held May 10-12\, 2023 at the Kalahari Resort and Conference Center located in Sandusky\, Ohio. The conference will provide updates on environmental issues\, new technologies\, regulatory information and pollution prevention. The 2023 Ohio Stormwater Conference is a great opportunity to strengthen your skills and knowledge in an intensive workshop setting with other colleagues. \nThe Tinker’s Creek Watershed Partners and the Ohio Stormwater Association are looking forward to another great program with experts in the stormwater and watershed management fields sharing their knowledge\, and experience. If you attend only one stormwater conference in 2023\, this is the one! The conference is an excellent opportunity to network with other professionals and to talk directly with vendors who will be exhibiting the latest technology. All of this is designed to benefit those of us working to comply with municipal\, industrial\, and construction NPDES stormwater permits by helping us keep up with the latest stormwater management information. \n  \nThursday 9am-7:30pm \nFriday 9am-1pm
URL:https://www.aquadocinc.com/event/ohio-stormwater-conference/
LOCATION:Kalahari Resorts & Conventions\, 7000 Kalahari Dr\, Sandusky\, OH\, 44870\, United States
END:VEVENT
END:VCALENDAR