BEGIN:VCALENDAR
VERSION:2.0
PRODID:-//AQUA DOC® - ECPv6.15.20//NONSGML v1.0//EN
CALSCALE:GREGORIAN
METHOD:PUBLISH
X-WR-CALNAME:AQUA DOC®
X-ORIGINAL-URL:https://www.aquadocinc.com
X-WR-CALDESC:Events for AQUA DOC®
REFRESH-INTERVAL;VALUE=DURATION:PT1H
X-Robots-Tag:noindex
X-PUBLISHED-TTL:PT1H
BEGIN:VTIMEZONE
TZID:America/Detroit
BEGIN:DAYLIGHT
TZOFFSETFROM:-0500
TZOFFSETTO:-0400
TZNAME:EDT
DTSTART:20220313T070000
END:DAYLIGHT
BEGIN:STANDARD
TZOFFSETFROM:-0400
TZOFFSETTO:-0500
TZNAME:EST
DTSTART:20221106T060000
END:STANDARD
BEGIN:DAYLIGHT
TZOFFSETFROM:-0500
TZOFFSETTO:-0400
TZNAME:EDT
DTSTART:20230312T070000
END:DAYLIGHT
BEGIN:STANDARD
TZOFFSETFROM:-0400
TZOFFSETTO:-0500
TZNAME:EST
DTSTART:20231105T060000
END:STANDARD
BEGIN:DAYLIGHT
TZOFFSETFROM:-0500
TZOFFSETTO:-0400
TZNAME:EDT
DTSTART:20240310T070000
END:DAYLIGHT
BEGIN:STANDARD
TZOFFSETFROM:-0400
TZOFFSETTO:-0500
TZNAME:EST
DTSTART:20241103T060000
END:STANDARD
END:VTIMEZONE
BEGIN:VEVENT
DTSTART;VALUE=DATE:20231126
DTEND;VALUE=DATE:20231128
DTSTAMP:20260425T232753
CREATED:20231122T144105Z
LAST-MODIFIED:20231122T144105Z
UID:12286-1700956800-1701129599@www.aquadocinc.com
SUMMARY:Ohio Aquaculture Association
DESCRIPTION:
URL:https://www.aquadocinc.com/event/ohio-aquaculture-association/
LOCATION:Quest Conference Center\, 9200 Worthington Rd\, Westerville\, OH\, 43082\, United States
END:VEVENT
BEGIN:VEVENT
DTSTART;VALUE=DATE:20231022
DTEND;VALUE=DATE:20231027
DTSTAMP:20260425T232753
CREATED:20230630T143025Z
LAST-MODIFIED:20230630T143025Z
UID:12103-1697932800-1698364799@www.aquadocinc.com
SUMMARY:NALMS (North American Lake Management Society)
DESCRIPTION:At the time when climate change\, invasive species risks\, and cultural pressures threaten the natural environment and biodiversity of our fragile ecosystem\, the opportunity to highlight and mesh the State of Pennsylvania and its rich diversity of aquatic habitats is long overdue. \nThe Pennsylvania Lake Management Society is proud to welcome the 2023 North American Lake Management Society Conference to Lake Erie. As we endeavor to highlight our Great Lakes\, Local Solutions agenda\, Erie Pennsylvania provides the opportunity to explore Presque Isle State Park\, a National Natural Landmark and The Tom Ridge Environmental Center\, while indulging in the amenities of the Bayfront Convention Center and all that Erie has to offer.
URL:https://www.aquadocinc.com/event/nalms-north-american-lake-management-society/
LOCATION:Bayfront Convention Center\, 1 Sassafras Pier\, Erie\, PA\, 16507\, United States
END:VEVENT
BEGIN:VEVENT
DTSTART;VALUE=DATE:20230919
DTEND;VALUE=DATE:20230922
DTSTAMP:20260425T232753
CREATED:20230515T210044Z
LAST-MODIFIED:20230515T210044Z
UID:12021-1695081600-1695340799@www.aquadocinc.com
SUMMARY:Farm Science Review
DESCRIPTION:The Molly Caren Agricultural Center (MCAC) near London\, Ohio is home to the Farm Science Review and attracts over 100\,000 visitors from all over the United States and Canada\, who come for three days to peruse 4\,000 product lines from 600 commercial exhibitors\, and learn the latest in agricultural production. The educational programs feature Ohio State specialists and are second to none in the agricultural exhibition world. \n 
URL:https://www.aquadocinc.com/event/farm-science-review-2/
LOCATION:Ohio State’s 2\,100-acre Molly Caren Agricultural Center is located two miles north of London on U.S. Route 40.\, 135 SR-38\, London\, OH\, 43140\, United States
END:VEVENT
BEGIN:VEVENT
DTSTART;TZID=America/Detroit:20230910T100000
DTEND;TZID=America/Detroit:20230910T160000
DTSTAMP:20260425T232753
CREATED:20230606T162952Z
LAST-MODIFIED:20230606T162952Z
UID:12052-1694340000-1694361600@www.aquadocinc.com
SUMMARY:Rescue Village Woofstock
DESCRIPTION:It’s time to get those tails wagging and come down to the biggest outdoor dog and family friendly festival Northeast Ohio has to offer🐶 \nWe have partnered up with Rescue Village to help benefit all of the homeless animals under their care🥰
URL:https://www.aquadocinc.com/event/rescue-village-woofstock-2/
LOCATION:Cleveland Metroparks Polo Field\, 41324 Woodland Rd.\, Chagrin Falls\, OH\, 44022\, United States
END:VEVENT
BEGIN:VEVENT
DTSTART;TZID=America/Detroit:20230826T083000
DTEND;TZID=America/Detroit:20230826T120000
DTSTAMP:20260425T232753
CREATED:20230531T194403Z
LAST-MODIFIED:20230531T194403Z
UID:12034-1693038600-1693051200@www.aquadocinc.com
SUMMARY:Jog with a Frog 5K &1 Mile Walk Presented by AQUA DOC Lake & Pond Management
DESCRIPTION:Join us in the morning for the race and walk and then stick around for the awards and tours of the shelter afterward! \nJog with a Frog 5K\n$25\n\n\n1 Mile Walk\n$15
URL:https://www.aquadocinc.com/event/jog-with-a-frog-5k-1-mile-walk-presented-by-aqua-doc-lake-pond-management/
LOCATION:Project Hope\, 25 Freedom Rd\, Painesville\, OH\, 44077\, United States
END:VEVENT
BEGIN:VEVENT
DTSTART;TZID=America/Detroit:20230813T140000
DTEND;TZID=America/Detroit:20230813T160000
DTSTAMP:20260425T232753
CREATED:20230606T155501Z
LAST-MODIFIED:20230606T155501Z
UID:12047-1691935200-1691942400@www.aquadocinc.com
SUMMARY:Richfield Community Day Frog Jump
DESCRIPTION:Come on down and enjoy the annual Richfield Community Day festivities. We will be hosting the frog jump from 2 p.m. to 4 p.m. at Richfield Woods Park.🐸
URL:https://www.aquadocinc.com/event/richfield-community-day-frog-jump/
LOCATION:Richfield Woods Park\, 4100 Broadview Rd\, Richfield\, OH\, 44282\, United States
END:VEVENT
BEGIN:VEVENT
DTSTART;TZID=America/Detroit:20230809T110000
DTEND;TZID=America/Detroit:20230809T150000
DTSTAMP:20260425T232753
CREATED:20230512T141316Z
LAST-MODIFIED:20230512T141316Z
UID:12004-1691578800-1691593200@www.aquadocinc.com
SUMMARY:Columbus Apartment Association Expo
DESCRIPTION:“A Night At The Movies”!\nThe CAA will be celebrating their favorite movies from black and white to Pixar to action or romace….be sure to check out the CAA vendors to see which movie they have chosen!
URL:https://www.aquadocinc.com/event/columbus-apartment-association-expo/
LOCATION:Munson Township Community Hall\, 12210 Auburn Road\, Chardon\, OH\, 44024\, United States
END:VEVENT
BEGIN:VEVENT
DTSTART;TZID=America/Detroit:20230730T120000
DTEND;TZID=America/Detroit:20230730T210000
DTSTAMP:20260425T232753
CREATED:20230629T171403Z
LAST-MODIFIED:20230629T171403Z
UID:12098-1690718400-1690750800@www.aquadocinc.com
SUMMARY:Solon Home Days Parade
DESCRIPTION:Come and see Dr. Al G at the Solon Home Days Parade starting at 12p.m. at the Solon Community Park.
URL:https://www.aquadocinc.com/event/solon-home-days-parade/
LOCATION:Solon Community Park\, 6679 SOM Ctr Rd\, Solon\, OH\, 44139\, United States
END:VEVENT
BEGIN:VEVENT
DTSTART;VALUE=DATE:20230617
DTEND;VALUE=DATE:20230618
DTSTAMP:20260425T232753
CREATED:20230512T135654Z
LAST-MODIFIED:20230512T135654Z
UID:12000-1686960000-1687046399@www.aquadocinc.com
SUMMARY:Kirtland Strawberry Festival
DESCRIPTION:
URL:https://www.aquadocinc.com/event/kirtland-strawberry-festival/
LOCATION:Kirtland Highschool\, 9150 Chillicothe Rd\, Kirtland\, OH\, 44094\, United States
END:VEVENT
BEGIN:VEVENT
DTSTART;TZID=America/Detroit:20230528T140000
DTEND;TZID=America/Detroit:20230528T160000
DTSTAMP:20260425T232753
CREATED:20230512T134618Z
LAST-MODIFIED:20230512T134618Z
UID:11997-1685282400-1685289600@www.aquadocinc.com
SUMMARY:Blossom Time Parade (Jaycees)
DESCRIPTION:Stake your favorite spot. Actually\, that was just a joke. Wait a little bit longer. The annual Blossom Time parade goes from the Chagrin Falls High School all the way down to Triangle Park in the heart of Chagrin Falls
URL:https://www.aquadocinc.com/event/blossom-time-parade-jaycees/
LOCATION:Chagrin Falls High School\, 342 E Washington\, Chagrin Falls\, OH\, 44022\, United States
END:VEVENT
BEGIN:VEVENT
DTSTART;TZID=America/Detroit:20230513T090000
DTEND;TZID=America/Detroit:20230513T110000
DTSTAMP:20260425T232753
CREATED:20230405T163326Z
LAST-MODIFIED:20230405T163530Z
UID:11940-1683968400-1683975600@www.aquadocinc.com
SUMMARY:Chagrin Valley Chamber of Commerce Rubber Duck Race
DESCRIPTION:The Chagrin Valley Chamber is excited to announce our 3rd  Annual Rubber Ducky Race! What is a Rubber Ducky Race\, you ask?  A rubber ducky’s journey down the river\, under the bridge and over the falls to the finish line.  If your adoption paper’s number matches the number on the bottom of the winning duck… you win!. To participate\, adopt a duck or a flock and cheer on your ducks as they sail through the river to the finish line. One lucky duck will win the first place price of $1000.00\, second place winner $500.00 and third place an amazing gift basket!! Will you adopt the lucky duck?  AQUA DOC will make sure that no duck is left behind and will be handling everything in the River with the assistance of the Chagrin Valley Fire Department.
URL:https://www.aquadocinc.com/event/chagrin-valley-chamber-of-commerce-rubber-duck-race/
LOCATION:Chagrin River in Downtown Chagrin Falls\, 100 N Main St\, Chagrin Falls\, 44022\, United States
END:VEVENT
BEGIN:VEVENT
DTSTART;TZID=America/Detroit:20230510T090000
DTEND;TZID=America/Detroit:20230512T193000
DTSTAMP:20260425T232753
CREATED:20230126T184505Z
LAST-MODIFIED:20230126T185439Z
UID:11860-1683709200-1683919800@www.aquadocinc.com
SUMMARY:Ohio Stormwater Conference
DESCRIPTION:The conference has grown from 399 attendees to over 1\,000 in the past 15 years.  The Ohio Stormwater Conference  is an annual conference dedicated to advancing the knowledge and understanding of comprehensive stormwater and watershed management for those dealing in all aspects of planning\, design\, implementation and regulatory compliance. This year’s conference is held May 10-12\, 2023 at the Kalahari Resort and Conference Center located in Sandusky\, Ohio. The conference will provide updates on environmental issues\, new technologies\, regulatory information and pollution prevention. The 2023 Ohio Stormwater Conference is a great opportunity to strengthen your skills and knowledge in an intensive workshop setting with other colleagues. \nThe Tinker’s Creek Watershed Partners and the Ohio Stormwater Association are looking forward to another great program with experts in the stormwater and watershed management fields sharing their knowledge\, and experience. If you attend only one stormwater conference in 2023\, this is the one! The conference is an excellent opportunity to network with other professionals and to talk directly with vendors who will be exhibiting the latest technology. All of this is designed to benefit those of us working to comply with municipal\, industrial\, and construction NPDES stormwater permits by helping us keep up with the latest stormwater management information. \n  \nThursday 9am-7:30pm \nFriday 9am-1pm
URL:https://www.aquadocinc.com/event/ohio-stormwater-conference/
LOCATION:Kalahari Resorts & Conventions\, 7000 Kalahari Dr\, Sandusky\, OH\, 44870\, United States
END:VEVENT
BEGIN:VEVENT
DTSTART;TZID=America/Detroit:20230429T150000
DTEND;TZID=America/Detroit:20230429T160000
DTSTAMP:20260425T232753
CREATED:20230401T150653Z
LAST-MODIFIED:20230401T150653Z
UID:11928-1682780400-1682784000@www.aquadocinc.com
SUMMARY:Maple Festival Parade
DESCRIPTION:​𝟸𝟶𝟸𝟹 𝚃𝚑𝚎𝚖𝚎: 𝙲𝚑𝚎𝚛𝚒𝚜𝚑  𝙼𝚊𝚙𝚕𝚎  𝚂𝚞𝚐𝚊𝚛  𝙼𝚎𝚖𝚘𝚛𝚒𝚎𝚜\nThe Grand Parade takes place on Saturday and Sunday of the Maple Festival. \nThe parade showcases many local companies\, city officials and other city groups. The local high schools dance team and cheerleaders participate as well as the King and Queen of the Maple Festival and other state festivals. \nMost of the rides are not in operation during the Parade. \nCome line the streets of the square while those participating throw candy or other goodies to the crowd.
URL:https://www.aquadocinc.com/event/maple-festival-parade/
LOCATION:Chardon Square\, Chardon\, OH\, 44024\, United States
END:VEVENT
BEGIN:VEVENT
DTSTART;TZID=America/Detroit:20230429T083000
DTEND;TZID=America/Detroit:20230430T170000
DTSTAMP:20260425T232753
CREATED:20230126T183118Z
LAST-MODIFIED:20230126T183217Z
UID:11856-1682757000-1682874000@www.aquadocinc.com
SUMMARY:Wayne County Home & Garden Show
DESCRIPTION:We hope you will join us for the 32nd Annual Wayne County Home and Garden Show! With children’s activities\, a plant sale and traditional fair food concessions in addition to exhibits\, the event offers something for everyone. The Wayne County Home & Garden Show is the longest-running spring show in the area with an amazing variety of innovative home products and services.
URL:https://www.aquadocinc.com/event/wayne-country-home-garden-show/
LOCATION:Wayne County Fairgrounds\, 199 Vanover St\, Wooster\, OH\, 44691\, United States
END:VEVENT
BEGIN:VEVENT
DTSTART;TZID=America/Detroit:20230423T120000
DTEND;TZID=America/Detroit:20230423T160000
DTSTAMP:20260425T232753
CREATED:20230126T182303Z
LAST-MODIFIED:20230126T182529Z
UID:11853-1682251200-1682265600@www.aquadocinc.com
SUMMARY:Lake Metroparks Earth Day Presented by AQUA DOC
DESCRIPTION:Earth Day brings about an opportunity for change and a time to explore more about our planet. This year\, discover what you can do to help restore our planet. \n\nFREE event!\nEco-fair with local conservation organizations\nEarth Day Marketplace with locally-made and fair-trade merchandise\nFREE tree for each family\nWildlife programs\nGames and crafts\nShop in The Nature Store\nMiniature train rides (1 to 3 pm\, weather permitting).\nNOTE: For safety reasons\, pregnant women are not permitted to ride the trains. All children must be able to sit in their own designated seat; lap sitting is not permitted.
URL:https://www.aquadocinc.com/event/lake-metroparks-earth-day-presented-by-aqua-doc/
LOCATION:Penitentiary Glen Reservation\, 8668 Kirtland Chardon Rd\, Kirtland\, 44094\, United States
END:VEVENT
BEGIN:VEVENT
DTSTART;TZID=America/Detroit:20230421T120000
DTEND;TZID=America/Detroit:20230422T200000
DTSTAMP:20260425T232753
CREATED:20230126T181750Z
LAST-MODIFIED:20230126T204007Z
UID:11850-1682078400-1682193600@www.aquadocinc.com
SUMMARY:Stark County Home and Garden Show
DESCRIPTION:The Stark County Home & Garden Show\, presented by the BIA of Stark & East Central Ohio\, is the largest indoor home show in the region\, featuring more than 100 area vendors\, demonstrations and beautiful landscape displays. \nFriday\, Noon – 8:00pm; Saturday\, 10:00am – 6:00pm \nAdmission is $5 for adults. Children 12 and under are free. FREE parking.
URL:https://www.aquadocinc.com/event/stark-county-home-and-garden-show/
LOCATION:Hall of Fame Village Center for Performance\, 1901 Champions Gateway\, Canton\, OH\, 44708\, United States
END:VEVENT
BEGIN:VEVENT
DTSTART;TZID=America/Detroit:20230408T080000
DTEND;TZID=America/Detroit:20230408T110000
DTSTAMP:20260425T232753
CREATED:20230401T144351Z
LAST-MODIFIED:20230401T144351Z
UID:11926-1680940800-1680951600@www.aquadocinc.com
SUMMARY:Portage Lakes Run to the Beach 5K
DESCRIPTION:Run to the Beach 5k & 1 Mile Easter Egg Scramble\n6th Annual Run to the Beach 5K and 1 Mile Easter Egg Scramble fundraising event for 2023. \nThis family friendly race is open to everyone.  The course traverses Portage Lakes State Park and includes road\, trail\, and beach running.  Additionally\, a 1-mile Easter Egg Scramble/Hunt will take place prior to the 5K for children under 10. \nCommunity support is vital to the success of the Portage Lakes Advisory Council and allows us to further the Council initiatives including: \n\nPublic education\, outreach\, and awareness programs\nWater quality testing and reporting\nPromoting active and passive recreation on the Portage Lakes\nCollaboration with ODNR\, Summit Metro Parks\, local non-profits\, and our local governments
URL:https://www.aquadocinc.com/event/portage-lakes-run-to-the-beach-5k-2/
LOCATION:Portage Lakes State Park\, 5031 Manchester Road\, Akron\, OH\, 44319\, United States
END:VEVENT
BEGIN:VEVENT
DTSTART;TZID=America/Detroit:20230401T110000
DTEND;TZID=America/Detroit:20230401T140000
DTSTAMP:20260425T232753
CREATED:20230126T180218Z
LAST-MODIFIED:20230401T144639Z
UID:11842-1680346800-1680357600@www.aquadocinc.com
SUMMARY:Rain and Garden Show
DESCRIPTION:As in past years\, the event is free and open to the public. Families of all ages will enjoy a variety of vendors\, demonstrations and exhibitors. \nThe Kid Zone has been extended by an hour this year\, from 11 a.m. to 1 p.m. This popular feature includes newly-added Child Passport stops\, a face painter\, balloon clown\, special guests and contests.
URL:https://www.aquadocinc.com/event/rain-and-garden-show/
LOCATION:Community Service Center\, 28975 Hilliard Blvd\, Westlake\, OH\, 44145\, United States
END:VEVENT
BEGIN:VEVENT
DTSTART;TZID=America/Detroit:20230331T120000
DTEND;TZID=America/Detroit:20230402T190000
DTSTAMP:20260425T232753
CREATED:20230126T175105Z
LAST-MODIFIED:20230126T175105Z
UID:11837-1680264000-1680462000@www.aquadocinc.com
SUMMARY:Columbus Home Improvement Show
DESCRIPTION:Friday\, March 31\n12:00 PM – 7:00 PM\nSaturday\, April 1\n10:00 AM – 7:00 PM\nSunday\, April 2\n10:00 AM – 5:00 PM\nAdmission Price\nAdults $6.00\nChildren Under 18 FREE
URL:https://www.aquadocinc.com/event/columbus-home-improvement-show-2/
LOCATION:Ohio Expo Center\, 717 E. 17th Ave.\, Columbus\, OH\, 43211\, United States
END:VEVENT
BEGIN:VEVENT
DTSTART;TZID=America/Detroit:20230331T100000
DTEND;TZID=America/Detroit:20230402T200000
DTSTAMP:20260425T232753
CREATED:20230126T175449Z
LAST-MODIFIED:20230126T175502Z
UID:11839-1680256800-1680465600@www.aquadocinc.com
SUMMARY:Central KY Home & Garden Show
DESCRIPTION:Friday\, March 31\, 2023\n10:00am – 8:00pm\n\n\nSaturday\, April 1\, 2023\n10:00am – 8:00pm\n\n\nSunday\, April 2\, 2023\n11:00am – 5:00pm
URL:https://www.aquadocinc.com/event/central-ky-home-garden-show/
LOCATION:Central Bank Center\, 430 W Vine St\, Lexington\, KY\, 40507\, United States
END:VEVENT
BEGIN:VEVENT
DTSTART;TZID=America/Detroit:20230324T120000
DTEND;TZID=America/Detroit:20230326T210000
DTSTAMP:20260425T232753
CREATED:20230126T174320Z
LAST-MODIFIED:20230126T174320Z
UID:11835-1679659200-1679864400@www.aquadocinc.com
SUMMARY:Cleveland Home and Remodeling Expo
DESCRIPTION:Friday\, March 24\nNoon – 9:00 pm\n\n\nSaturday\, March 25\n10:00 am – 9:00 pm\n\n\nSunday\, March 26\n10:00 am – 6:00 pm
URL:https://www.aquadocinc.com/event/cleveland-home-and-remodeling-expo/
LOCATION:Cleveland IX Center\, 1 I-X Center Drive\, Cleveland\, OH\, 44135\, United States
END:VEVENT
BEGIN:VEVENT
DTSTART;TZID=America/Detroit:20230317T120000
DTEND;TZID=America/Detroit:20230319T190000
DTSTAMP:20260425T232753
CREATED:20230126T174004Z
LAST-MODIFIED:20230126T174004Z
UID:11833-1679054400-1679252400@www.aquadocinc.com
SUMMARY:Greater Cincinnati Home Expo
DESCRIPTION:Friday 12pm – 7pm \nSaturday 10am-7pm \nSunday 10:30am-5pm \n  \nAdmission Price\nAdults $5.00\nChildren Under 18 FREE\nParking FREE
URL:https://www.aquadocinc.com/event/greater-cincinnati-home-expo-2/
LOCATION:Sharonville Convention Center\, 11355 Chester Rd\, Sharonville\, OH\, 45246\, United States
END:VEVENT
BEGIN:VEVENT
DTSTART;TZID=America/Detroit:20230313T080000
DTEND;TZID=America/Detroit:20230316T170000
DTSTAMP:20260425T232753
CREATED:20230126T172639Z
LAST-MODIFIED:20230126T172639Z
UID:11830-1678694400-1678986000@www.aquadocinc.com
SUMMARY:Midwest Aquatic Plant Management Society (MAPMS)
DESCRIPTION:
URL:https://www.aquadocinc.com/event/midwest-aquatic-plant-management-society-mapms/
LOCATION:Amway Grand Plaza\, 187 Monroe Ave NW\, Grand Rapids\, MI\, 49503\, United States
END:VEVENT
BEGIN:VEVENT
DTSTART;TZID=America/Detroit:20230311T090000
DTEND;TZID=America/Detroit:20230312T190000
DTSTAMP:20260425T232753
CREATED:20230126T171832Z
LAST-MODIFIED:20230126T171832Z
UID:11827-1678525200-1678647600@www.aquadocinc.com
SUMMARY:Mid Ohio Home Show
DESCRIPTION:Sat. 9am-7pm\nSun. 11am-4pm
URL:https://www.aquadocinc.com/event/mid-ohio-home-show/
LOCATION:Richland County Fair Grounds\, 750 Home Rd\, Mansfield\, OH\, 44903\, United States
END:VEVENT
BEGIN:VEVENT
DTSTART;TZID=America/Detroit:20230310T120000
DTEND;TZID=America/Detroit:20230312T200000
DTSTAMP:20260425T232753
CREATED:20230126T171244Z
LAST-MODIFIED:20230126T171244Z
UID:11825-1678449600-1678651200@www.aquadocinc.com
SUMMARY:Louisville Home Garden and Remodeling
DESCRIPTION:FEATURE GARDENS\nStroll through this year’s Feature Gardens to get inspired for your own outdoor living spaces with gorgeous greenery\, landscaping & hardscaping trends plus beautiful florals to kick off spring! Learn more about our local landscapers creating this space. \n  \n\n\n\nFriday\, March 10\, 2023\n12:00 pm- 8:00pm\n\n\nSaturday\, March 11\, 2023\n10:00am – 8:00pm\n\n\nSunday\, March 12\, 2023\n11:00am – 5:00pm
URL:https://www.aquadocinc.com/event/louisville-home-garden-and-remodeling/
LOCATION:Kentucky Exposition Center\, 937 Phillips Ln\, Louisville\, KY\, 40209\, United States
END:VEVENT
BEGIN:VEVENT
DTSTART;TZID=America/Detroit:20230304T080000
DTEND;TZID=America/Detroit:20230305T170000
DTSTAMP:20260425T232753
CREATED:20230126T164955Z
LAST-MODIFIED:20230126T164955Z
UID:11822-1677916800-1678035600@www.aquadocinc.com
SUMMARY:Medina County Home and Garden Show
DESCRIPTION:Medina County Home & Garden Show\n2023 DATES:\nSaturday\, March 4 – 10am to 5 pm\nSunday\, March 5 – 10 am to 5 pm\nMedina County Community Center on the Fairgrounds\nAdmission\n$5/Adults\n$4/Seniors 60+\nChildren 12 & under are free.\nFree parking.
URL:https://www.aquadocinc.com/event/medina-county-home-and-garden-show/
LOCATION:Medina Fair Grounds\, 735 W Lafayette Rd\, Medina\, OH\, 44256\, United States
END:VEVENT
BEGIN:VEVENT
DTSTART;TZID=America/Detroit:20230302T120000
DTEND;TZID=America/Detroit:20230304T170000
DTSTAMP:20260425T232753
CREATED:20230126T164408Z
LAST-MODIFIED:20230126T164511Z
UID:11820-1677758400-1677949200@www.aquadocinc.com
SUMMARY:Amish Home and Garden Show
DESCRIPTION:ABOUT THE SHOW\nThe Amish Country Spring Home and Garden Show will take place March 2nd through March 4th\, 2023 at the Mt. Hope Event Center.  This will be the seventh year that this special event will be in Mt. Hope\, Ohio. \n  \nSHOW HOURS\nIf you would like to attend the show\, the 2023 show hours are as follows; \nThursday March 2nd  – 12pm-8pm\nFriday March 3rd – 9am – 8pm\nSaturday March 4th – 9am – 5pm
URL:https://www.aquadocinc.com/event/amish-home-and-garden-show/
LOCATION:Mt. Hope Event Center\, 8076 Oh-241\, Millersburg\, OH\, 44654\, United States
END:VEVENT
BEGIN:VEVENT
DTSTART;VALUE=DATE:20230228
DTEND;VALUE=DATE:20230302
DTSTAMP:20260425T232753
CREATED:20230113T211917Z
LAST-MODIFIED:20230113T211917Z
UID:11807-1677542400-1677715199@www.aquadocinc.com
SUMMARY:PALMS Annual Conference
DESCRIPTION:Come join AQUADOC at PALMS Annual Conference! \nPALMS will be hosting their 33rd Annual Conference\, Feb 28th-March 1st\, 2023!
URL:https://www.aquadocinc.com/event/palms-annual-conference-2/
LOCATION:Wyndham Garden State College\, 310 Elks Club Rd\, Boalsburg\, PA\, 16827\, United States
END:VEVENT
BEGIN:VEVENT
DTSTART;VALUE=DATE:20230225
DTEND;VALUE=DATE:20230306
DTSTAMP:20260425T232753
CREATED:20230113T211243Z
LAST-MODIFIED:20230113T211243Z
UID:11805-1677283200-1678060799@www.aquadocinc.com
SUMMARY:Cincinnati Home & Garden Show
DESCRIPTION:Come join AQUADOC at the Cincinnati Home & Garden Show! \nThe Cincinnati Home + Garden Show is a vibrant marketplace where you can shop for home-related products and services\, experience stunning displays to help inspire your next home project\, connect with industry experts\, and enjoy informative presentations from renowned local and international home professionals. \nSave $2 by purchasing tickets ahead time online!
URL:https://www.aquadocinc.com/event/cincinnati-home-garden-show-2/
LOCATION:Duke Energy Convention Center\, 525 Elm Street\, Cincinnati\, OH\, 45202\, United States
END:VEVENT
BEGIN:VEVENT
DTSTART;VALUE=DATE:20230225
DTEND;VALUE=DATE:20230227
DTSTAMP:20260425T232753
CREATED:20230113T200521Z
LAST-MODIFIED:20230116T172326Z
UID:11801-1677283200-1677455999@www.aquadocinc.com
SUMMARY:NCBIA Home & Remodeling Show
DESCRIPTION:Come join AQUADOC at the NCBIA Home & Remodeling Show! \nThe NCBIA Home & Remodeling Show features a variety of local and national vendors in home building\, remodeling\, outdoor living\, decor\, and more! \nFREE ADMISSION – FREE PARKING
URL:https://www.aquadocinc.com/event/ncbia-home-remodeling-show/
LOCATION:Emerald Event Center\, 33040 Just Imagine Dr\, Avon\, OH\, 44011\, United States
END:VEVENT
END:VCALENDAR