BEGIN:VCALENDAR
VERSION:2.0
PRODID:-//AQUA DOC® - ECPv6.15.20//NONSGML v1.0//EN
CALSCALE:GREGORIAN
METHOD:PUBLISH
X-ORIGINAL-URL:https://www.aquadocinc.com
X-WR-CALDESC:Events for AQUA DOC®
REFRESH-INTERVAL;VALUE=DURATION:PT1H
X-Robots-Tag:noindex
X-PUBLISHED-TTL:PT1H
BEGIN:VTIMEZONE
TZID:America/Detroit
BEGIN:DAYLIGHT
TZOFFSETFROM:-0500
TZOFFSETTO:-0400
TZNAME:EDT
DTSTART:20230312T070000
END:DAYLIGHT
BEGIN:STANDARD
TZOFFSETFROM:-0400
TZOFFSETTO:-0500
TZNAME:EST
DTSTART:20231105T060000
END:STANDARD
BEGIN:DAYLIGHT
TZOFFSETFROM:-0500
TZOFFSETTO:-0400
TZNAME:EDT
DTSTART:20240310T070000
END:DAYLIGHT
BEGIN:STANDARD
TZOFFSETFROM:-0400
TZOFFSETTO:-0500
TZNAME:EST
DTSTART:20241103T060000
END:STANDARD
BEGIN:DAYLIGHT
TZOFFSETFROM:-0500
TZOFFSETTO:-0400
TZNAME:EDT
DTSTART:20250309T070000
END:DAYLIGHT
BEGIN:STANDARD
TZOFFSETFROM:-0400
TZOFFSETTO:-0500
TZNAME:EST
DTSTART:20251102T060000
END:STANDARD
BEGIN:DAYLIGHT
TZOFFSETFROM:-0500
TZOFFSETTO:-0400
TZNAME:EDT
DTSTART:20260308T070000
END:DAYLIGHT
BEGIN:STANDARD
TZOFFSETFROM:-0400
TZOFFSETTO:-0500
TZNAME:EST
DTSTART:20261101T060000
END:STANDARD
END:VTIMEZONE
BEGIN:VEVENT
DTSTART;VALUE=DATE:20250131
DTEND;VALUE=DATE:20250210
DTSTAMP:20260423T173633
CREATED:20241111T191951Z
LAST-MODIFIED:20241111T192547Z
UID:13060-1738281600-1739145599@www.aquadocinc.com
SUMMARY:2025 Cleveland Great Big Home and Garden Show
DESCRIPTION:Get ready for the GREAT BIG Home and Garden Show at the Cleveland I-X Center from January 31 to February 9! This highly anticipated event is one of the largest and best-attended home and garden expos in the U.S.\, drawing over 112\,000+ attendees and featuring more than 600+ exhibitors! Whether you’re a gardening enthusiast\, a home improvement DIYer\, or just looking for inspiration\, this is the place to be.\n\n\n\n\n\nAQUA DOC will be at Booth 2930 showcasing our top-tier lake and pond care services\, solutions for water features\, and expert advice on maintaining beautiful outdoor spaces year-round. Stop by our booth to meet our team\, learn more about how we can enhance your backyard oasis\, and even snag some special offers! From water gardens to pond care to stormwater\, we’ve got you covered with expert advice and tailored solutions for every need. Don’t miss your chance to be part of this incredible event – join us for a splash of excitement at the GREAT BIG Home and Garden Show! \n  \nEvent Hours: \n\nFriday\, January 31: 10am – 9pm\nSaturday\, February 1: 10am – 9pm\nSunday\, February 2: 10am – 6pm\nMonday\, February 3: 10am – 8pm\nTuesday\, February 4: 10am – 8pm\nWednesday\, February 5: 10am – 8pm\nThursday\, February 6: 10am – 8pm\nFriday\, February 7: 10am – 9pm\nSaturday\, February 8: 10am – 9pm\nSunday\, February 9: 10am – 5pm\n\n  \nTicket Selection \n\n\nFree admission for children ages 5 & Under. \nChildren (Ages 6-12)  $5.00 (Tickets available at box office). \nAdults (Age 13+) $13.00 when ordered online $15.00 at the box office. \nSeniors (Ages 65+\, with ID) $11.00 (Monday-Thursday only\, tickets available at box office).
URL:https://www.aquadocinc.com/event/13060/
LOCATION:Cleveland IX Center\, 1 I-X Center Drive\, Cleveland\, OH\, 44135\, United States
END:VEVENT
BEGIN:VEVENT
DTSTART;VALUE=DATE:20250129
DTEND;VALUE=DATE:20250201
DTSTAMP:20260423T173633
CREATED:20241211T171949Z
LAST-MODIFIED:20241211T171949Z
UID:13116-1738108800-1738367999@www.aquadocinc.com
SUMMARY:OTA Ohio Township Association
DESCRIPTION:
URL:https://www.aquadocinc.com/event/ota-ohio-township-association/
LOCATION:Greater Columbus Convention Center\, 400 N. High St\, Columbus\, OH\, 43215\, United States
END:VEVENT
BEGIN:VEVENT
DTSTART;VALUE=DATE:20250124
DTEND;VALUE=DATE:20250127
DTSTAMP:20260423T173633
CREATED:20241111T185358Z
LAST-MODIFIED:20241111T192201Z
UID:13055-1737676800-1737935999@www.aquadocinc.com
SUMMARY:Join us at the 27th Annual North Atlanta Home Show
DESCRIPTION:Join AQUA DOC at the 27th Annual North Atlanta Home Show\, taking place January 24-26\, 2025\, at the Gas South Convention Center! This exciting event is the perfect opportunity to explore the latest in home improvement and water feature solutions. AQUA DOC will be showcasing our expertise in pond care and water management at Booth 417. Whether you’re a homeowner looking to enhance your outdoor space or a professional seeking innovative solutions\, our team will be available to provide valuable advice and answer your questions. \nEvent Details: \n\nFriday\, January 24\, 2025: 10:00 AM – 6:00 PM\nSaturday\, January 25\, 2025: 10:00 AM – 7:00 PM\nSunday\, January 26\, 2025: 11:00 AM – 5:00 PM\n\nTicket Information: \n\nAdults (Ages 13+): $9.00 at the box office; $7.00 online (save $2)\nSeniors (Ages 65+): FREE with ID\nChildren (Ages 12 and under): FREE\nHero Day (Friday): FREE for Veterans\, Active & Retired Military\, Teachers\, Fire\, Police\, and Healthcare Workers (with ID)\nTrade Day (Friday): FREE for home-related tradespeople and members of industry organizations (with ID)\n\nDon’t miss out on this opportunity to connect with AQUA DOC and discover how we can enhance your home with expert maintenance services. We look forward to seeing you at the show!
URL:https://www.aquadocinc.com/event/join-us-at-the-27th-annual-north-atlanta-home-show/
LOCATION:Gas South Convention Center\, 6400 Sugarloaf Pkwy\, Duluth\, OH\, 30097\, United States
END:VEVENT
BEGIN:VEVENT
DTSTART;VALUE=DATE:20250124
DTEND;VALUE=DATE:20250126
DTSTAMP:20260423T173633
CREATED:20241211T171900Z
LAST-MODIFIED:20241211T171900Z
UID:13114-1737676800-1737849599@www.aquadocinc.com
SUMMARY:Ohio Aquaculture Association
DESCRIPTION:
URL:https://www.aquadocinc.com/event/ohio-aquaculture-association-2/
LOCATION:Quest Conference Center\, 9200 Worthington Rd\, Westerville\, OH\, 43082\, United States
END:VEVENT
BEGIN:VEVENT
DTSTART;VALUE=DATE:20250122
DTEND;VALUE=DATE:20250127
DTSTAMP:20260423T173633
CREATED:20241111T181717Z
LAST-MODIFIED:20241111T181717Z
UID:13049-1737504000-1737935999@www.aquadocinc.com
SUMMARY:Join AQUA DOC at the 2025 Louisville Boat\, RV\, & Sportshow!
DESCRIPTION:📅 When: January 22-26\, 2025\n📍 Where: Kentucky Exposition Center\, Louisville\, KY \nAQUA DOC is excited to be part of the ultimate showcase for boating\, RVs\, and outdoor fun! Visit our booth to learn how we can help you maintain pristine waters and enjoy your lake lifestyle to the fullest. Whether you’re a seasoned boat owner or just discovering life on the water\, we’re here to help make your aquatic adventures stress-free and enjoyable. \nWhile you’re at the show\, check out these incredible activities:\n🌊 Discover Boating Lake Life Lounge – Dive into tips and inspiration for enjoying the lake life.\n🍳 NEW! Cooking Demonstrations by Tim Farmer – Savor expert cooking tips and delicious recipes.\n🚤 Wake Zone – Explore the latest in wake sports gear and activities.\n🚣 Paddle Sports Pool – Test your paddling skills with demo rides.\n🔧 Fred’s Shed – How-To-Center Presented by Progressive – Get hands-on repair and maintenance tips.\n🎣 Kids’ Trout Pond – FREE fishing fun for kids 12 and under!\n🦖 NEW! Dinosaur Dimensions – A roaring good time for the whole family.\n🐶 NEW! Puppy Pals – Enjoy an exciting canine performance.\n🥃 Four Roses Bourbon Lounge – Relax and sample iconic Kentucky bourbon.\n🎶 Live Music with Roger Weber – Unwind with great tunes.\n🚤 Hydroplane Boat Displays – See high-speed watercraft up close.\n🚤 FREE Boating Safety Courses – Ensure you’re ready for safe adventures on the water. \nDon’t forget to stop by AQUA DOC’s booth to chat with our experts about water management and services tailored to your outdoor lifestyle. We can’t wait to see you there! \n🎟 Learn more and get your tickets: https://www.louisvilleboatshow.com/ \nLet’s make 2025 your best year on the water! 🌊
URL:https://www.aquadocinc.com/event/join-aqua-doc-at-the-2025-louisville-boat-rv-sportshow/
LOCATION:Kentucky Exposition Center\, 937 Phillips Ln\, Louisville\, KY\, 40209\, United States
END:VEVENT
BEGIN:VEVENT
DTSTART;VALUE=DATE:20250121
DTEND;VALUE=DATE:20250124
DTSTAMP:20260423T173633
CREATED:20241211T170942Z
LAST-MODIFIED:20241211T170942Z
UID:13106-1737417600-1737676799@www.aquadocinc.com
SUMMARY:OFSWCD
DESCRIPTION:
URL:https://www.aquadocinc.com/event/ofswcd-2/
LOCATION:Columbus Hilton Downtown\, 402 North High St\, Columbus\, OH\, 43215\, United States
END:VEVENT
BEGIN:VEVENT
DTSTART;VALUE=DATE:20250120
DTEND;VALUE=DATE:20250124
DTSTAMP:20260423T173633
CREATED:20241211T171157Z
LAST-MODIFIED:20241211T171157Z
UID:13110-1737331200-1737676799@www.aquadocinc.com
SUMMARY:SLMP (Society of Lake Management Professionals)
DESCRIPTION:
URL:https://www.aquadocinc.com/event/slmp-society-of-lake-management-professionals/
LOCATION:Embassy Suites Myrtle Beach Oceanfront\, Myrtle Beach\, SC\, United States
END:VEVENT
BEGIN:VEVENT
DTSTART;VALUE=DATE:20250116
DTEND;VALUE=DATE:20250119
DTSTAMP:20260423T173633
CREATED:20241111T180019Z
LAST-MODIFIED:20241111T180019Z
UID:13045-1736985600-1737244799@www.aquadocinc.com
SUMMARY:2025 NE OH Sportsman Show
DESCRIPTION:Join AQUA DOC at the 2025 Northeast Ohio Sportsman Show! From January 16-18\, we’ll be at the largest gathering of hunting and fishing enthusiasts in the area\, held in the massive 79\,000+ sq ft venue of Mt. Hope Event Center. \nSwing by our booth to learn about our top services for pond and lake management\, fish stocking\, and water feature maintenance. Our experts are here to help you enhance your outdoor spaces\, keeping them in pristine condition year-round. We’ll also have insider tips on water care\, fish habitat management\, and equipment to improve the health and beauty of your lakes and ponds. \nShow Hours: \n\nThursday\, Jan. 16: 2 pm – 8 pm\nFriday\, Jan. 17: 9 am – 9 pm\nSaturday\, Jan. 18: 9 am – 4 pm\n\nAdmission: \n\nAdults: $15/day\nChildren 12 & under: Free\n2-Day Pass: $25\nFree parking and shuttle services!\n\n📍 Where: Mt. Hope Event Center\, Millersburg\, OH \nDiscover everything from seminars on fishing techniques using the Giant Hawg Trough\, to hundreds of exhibitors showcasing the latest innovations in hunting and fishing gear. It’s a fantastic family-friendly event with food\, amenities\, and a welcoming outdoor-loving community. \nWe can’t wait to see you there—visit AQUA DOC and let’s talk about your outdoor water needs!
URL:https://www.aquadocinc.com/event/2025-ne-oh-sportsman-show/
LOCATION:Mt. Hope Event Center\, 8076 Oh-241\, Millersburg\, OH\, 44654\, United States
END:VEVENT
BEGIN:VEVENT
DTSTART;VALUE=DATE:20250116
DTEND;VALUE=DATE:20250118
DTSTAMP:20260423T173633
CREATED:20241211T170314Z
LAST-MODIFIED:20241211T170314Z
UID:13098-1736985600-1737158399@www.aquadocinc.com
SUMMARY:Aquatic Control Annual Workshop
DESCRIPTION:
URL:https://www.aquadocinc.com/event/aquatic-control-annual-workshop/
LOCATION:Embassy Suites Noblesville Indianapolis Conference Center\, 13700 Conference Ctr Dr\, Noblesville\, IN\, 46060\, United States
END:VEVENT
BEGIN:VEVENT
DTSTART;VALUE=DATE:20250109
DTEND;VALUE=DATE:20250113
DTSTAMP:20260423T173633
CREATED:20241111T175127Z
LAST-MODIFIED:20241111T175127Z
UID:13041-1736380800-1736726399@www.aquadocinc.com
SUMMARY:🎣🚤 Catch Us at the 2025 Atlanta Boat Show! 🚤🎣
DESCRIPTION:AQUA DOC is excited to kick off the new year at the 2025 Atlanta Boat Show\, happening January 9-12 at the Georgia World Congress Center! \nWhether you’re a seasoned boater or just dipping your toes into waterfront living\, this is your chance to connect with us and learn how we can help you ensure your aquatic adventures are smooth sailing all year long. \n🌊 What to Expect:\n✅ Expert advice on pond and lake care\n✅ Insights on keeping your waterfront property in top shape\n✅ Exclusive show specials and giveaways \n📍 Visit Our Booth: Find us among the industry’s best to talk all things water management and discover how AQUA DOC can elevate your aquatic lifestyle. \nWe can’t wait to meet you! Mark your calendars and join us at the 2025 Atlanta Boat Show for a splash-tacular experience. \nFor more details about the event\, visit www.atlantaboatshow.com
URL:https://www.aquadocinc.com/event/%f0%9f%8e%a3%f0%9f%9a%a4-catch-us-at-the-2025-atlanta-boat-show-%f0%9f%9a%a4%f0%9f%8e%a3/
LOCATION:Georgia World Congress Center Hall C\, 285 Andrew Young International Blvd NW\, Atlanta\, GA\, 30313\, United States
END:VEVENT
BEGIN:VEVENT
DTSTART;VALUE=DATE:20250107
DTEND;VALUE=DATE:20250110
DTSTAMP:20260423T173633
CREATED:20241211T170640Z
LAST-MODIFIED:20241211T170640Z
UID:13102-1736208000-1736467199@www.aquadocinc.com
SUMMARY:NEAPMS (Northeast Aquatic Plant Management Society)
DESCRIPTION:
URL:https://www.aquadocinc.com/event/neapms-northeast-aquatic-plant-management-society/
LOCATION:Holiday Inn Saratoga Springs\, 232 Broadway\, Saratoga Springs\, NY\, 12866\, United States
END:VEVENT
BEGIN:VEVENT
DTSTART;VALUE=DATE:20250103
DTEND;VALUE=DATE:20250106
DTSTAMP:20260423T173633
CREATED:20241111T145818Z
LAST-MODIFIED:20241111T145818Z
UID:13038-1735862400-1736121599@www.aquadocinc.com
SUMMARY:Columbus Building & Renovation Expo
DESCRIPTION:Join AQUA DOC at the 2025 Columbus Building and Renovation Expo\, taking place January 3-5 at the Ohio Expo Center! \nVisit us at Booth 1010 to learn how we can help transform your outdoor spaces with our expert lake and pond management services. \nOur team of professionals will be on hand to answer your questions\, showcase innovative solutions\, and provide tips to keep your aquatic ecosystems healthy and beautiful year-round. Whether you’re a homeowner\, builder\, or property manager\, discover how AQUA DOC can enhance your projects with sustainable water management practices. \nWe can’t wait to connect with you! Mark your calendars and stop by Booth 1010 for expert advice\, exciting giveaways\, and much more. See you there! \n🗓️ Dates: January 3-5\, 2025\n📍 Location: Ohio Expo Center\, Columbus\, OH\n🎟️ For more details\, visit the event website. \nLet’s make your water features extraordinary!
URL:https://www.aquadocinc.com/event/columbus-building-renovation-expo-4/
LOCATION:Ohio Expo Center\, 717 E. 17th Ave.\, Columbus\, OH\, 43211\, United States
END:VEVENT
BEGIN:VEVENT
DTSTART;VALUE=DATE:20241210
DTEND;VALUE=DATE:20241212
DTSTAMP:20260423T173633
CREATED:20241111T190548Z
LAST-MODIFIED:20241111T190548Z
UID:13057-1733788800-1733961599@www.aquadocinc.com
SUMMARY:61st Annual PCOA Convention & Trade Show
DESCRIPTION:AQUA DOC is excited to be attending the 61st Annual PCOA Convention & Trade Show\, happening December 10-11 at the Double Tree by Hilton in Pittsburgh-Cranberry! \nJoin us on Tuesday\, December 10 from 12:00 PM to 6:00 PM and Wednesday\, December 11 from 8:00 AM to 1:00 PM for two days of valuable networking\, industry insights\, and innovative solutions. Our team will be on hand to showcase our expert services in lake and pond care\, offering tips on maintenance\, eco-friendly treatments\, and water quality management. Don’t miss this opportunity to connect with us and discover how AQUA DOC can help enhance your aquatic environments! We look forward to seeing you there!
URL:https://www.aquadocinc.com/event/61st-annual-pcoa-convention-trade-show/
LOCATION:Double Tree by Hilton Pittsburgh-Cranberry\, 910 Sheraton Dr\, Mars\, PA\, 16046\, United States
END:VEVENT
BEGIN:VEVENT
DTSTART;TZID=America/Detroit:20240824T083000
DTEND;TZID=America/Detroit:20240824T110000
DTSTAMP:20260423T173633
CREATED:20240507T205013Z
LAST-MODIFIED:20240513T133836Z
UID:12531-1724488200-1724497200@www.aquadocinc.com
SUMMARY:2024 Jog with A Frog
DESCRIPTION:Welcome to the 2024 Jog with a Frog 5K and 1 Mile Walk presented by Aqua Doc Lake and Pond Management! \nOnline Registration for 5K/1 Mile Walk at: https://runsignup.com/Race/OH/Painesville/JogwithaFrog5K. \nTo download a paper registration form click here. \nPresenting Sponsor: AQUA DOC Lake and Pond Management \nInterested in becoming a sponsor? Visit: http://weblink.donorperfect.com/jogwithafrog2024 \nWhy: This race is to raise awareness and support for Project Hope for the Homeless\, the only emergency homeless shelter in Lake County \nWhen: Saturday\, August 24\, 2024. Day of race registration and check-in opens at 7:30 a.m. Race Start Time at 8:30 a.m. \nWhere: Project Hope for the Homeless\, 25 Freedom Rd in Painesville Township\, OH 44077 \nWhat: Join us for a 5K race or an untimed 1 mile walk. Enjoy a tour of the shelter after the awards ceremony! \nPrices: Early registration is $25 for the 5K\, price increases to $30 starting August 16 at 11:59pm EDT; Early registration is $15 for the walk\, price increases to $20 after August 16 at 11:59pm EDT. Free t-shirt for the first 150 registered by August 16.
URL:https://www.aquadocinc.com/event/2024-jog-with-a-frog/
LOCATION:Project Hope for the Homeless\, 25 Freedom Rd\, Painesville\, OH\, 44077\, United States
ATTACH;FMTTYPE=image/jpeg:https://www.aquadocinc.com/wp-content/uploads/2024/05/10-scaled.jpeg
END:VEVENT
BEGIN:VEVENT
DTSTART;TZID=America/Detroit:20240811T130000
DTEND;TZID=America/Detroit:20240811T210000
DTSTAMP:20260423T173633
CREATED:20240513T144523Z
LAST-MODIFIED:20240513T144523Z
UID:12553-1723381200-1723410000@www.aquadocinc.com
SUMMARY:52nd Annual Richfield Community Days Frog Jump
DESCRIPTION:1:00 pm until dusk will feature food\, games\, inflatables\, contests\, and fun for all ages! Entertainment throughout the day! \n  \nVillage of Richfield’s Fabulous Fireworks begins at dark!
URL:https://www.aquadocinc.com/event/52nd-annual-richfield-community-days-frog-jump/
LOCATION:Richfield Woods\, 4100 Broadview Road\, Richfield\, OH\, 44286\, United States
END:VEVENT
BEGIN:VEVENT
DTSTART;TZID=America/Detroit:20240615T090000
DTEND;TZID=America/Detroit:20240615T160000
DTSTAMP:20260423T173633
CREATED:20240513T143848Z
LAST-MODIFIED:20240513T143903Z
UID:12550-1718442000-1718467200@www.aquadocinc.com
SUMMARY:Moreland Hills Fishing Derby
DESCRIPTION:The Ninth Annual Community Kids Fishing Day Event will be held on Saturday\, June 15\, 2024\, at Potts Pier.  Register for this event at https://forms.gle/AKSwVmnrZkzRczrq8
URL:https://www.aquadocinc.com/event/moreland-hills-fishing-derby/
LOCATION:Community Garden | Moreland Hills\, 3800 Chagrin River Road\, Moreland Hills\, OH\, 44022\, United States
END:VEVENT
BEGIN:VEVENT
DTSTART;TZID=America/Detroit:20240526T140000
DTEND;TZID=America/Detroit:20240526T150000
DTSTAMP:20260423T173633
CREATED:20240513T142547Z
LAST-MODIFIED:20240513T143143Z
UID:12546-1716732000-1716735600@www.aquadocinc.com
SUMMARY:Blossom Time Chagrin Valley Jayceees Parade
DESCRIPTION:On Sunday of Blossom weekend\, a parade will commence heading from Chagrin Falls Highschool\, down East Washington Street and into the heart of the Village. \n\n\n​This celebration was held annually prior to World War II  and was revived by the Jaycees with excellent success.  Bands\, Floats\, Fire Engineers\, Marching Units and more are featured in this parade. ​ \nPrevious parades have estimated 60\,000 in attendance.
URL:https://www.aquadocinc.com/event/blossom-time-chagrin-valley-jayceees-parade/
LOCATION:Chagring Falls Highscool\, East Washington Street\, Chagrin Falls\, OH\, 44022\, United States
END:VEVENT
BEGIN:VEVENT
DTSTART;TZID=America/Detroit:20240511T090000
DTEND;TZID=America/Detroit:20240511T110000
DTSTAMP:20260423T173633
CREATED:20240507T202630Z
LAST-MODIFIED:20240507T202630Z
UID:12526-1715418000-1715425200@www.aquadocinc.com
SUMMARY:2024 Rubber Ducky Race Over the Falls!
DESCRIPTION:The Chagrin Valley Chamber is excited to announce our 4th Annual Rubber Ducky Race! What is a Rubber Ducky Race\, you ask?  A rubber ducky’s journey down the river\, under the bridge and over the falls to the finish line.  If your adoption paper’s number matches the number on the bottom of the winning duck… you win! \nTo participate\, adopt a duck or a flock and cheer on your ducks as they sail through the river to the finish line. One lucky duck will win the first place price of $1000.00\, second place winner $500.00 and third place an amazing gift basket!! Will you adopt the lucky duck? \nAQUA DOC will make sure that no duck is left behind and will be handling everything in the River with the assistance of the Chagrin Valley Fire Department. \nFREE Family Fun Event!\n\nBalloon Twister\nDJ\nCharacters – AQUADOC’s Dr. Al G and Mighty Ducts Sqeaky McClean\nDucky Merch\nShaved Ice\nFamily Yoga at 10:30am
URL:https://www.aquadocinc.com/event/2024-rubber-ducky-race-over-the-falls/
LOCATION:Riverside Park\, E Orange St\, Chagrin Falls\, OH\, 44022\, United States
ATTACH;FMTTYPE=image/png:https://www.aquadocinc.com/wp-content/uploads/2024/05/Untitled-design.png
END:VEVENT
BEGIN:VEVENT
DTSTART;VALUE=DATE:20240419
DTEND;VALUE=DATE:20240421
DTSTAMP:20260423T173633
CREATED:20240320T184919Z
LAST-MODIFIED:20240320T184919Z
UID:12435-1713484800-1713657599@www.aquadocinc.com
SUMMARY:Stark County Home & Garden Show
DESCRIPTION:
URL:https://www.aquadocinc.com/event/stark-county-home-garden-show-2/
LOCATION:Hall of Fame Village Center for Performance\, 1901 Champions Gateway\, Canton\, OH\, 44708\, United States
END:VEVENT
BEGIN:VEVENT
DTSTART;VALUE=DATE:20240419
DTEND;VALUE=DATE:20240421
DTSTAMP:20260423T173633
CREATED:20230630T184004Z
LAST-MODIFIED:20230630T184004Z
UID:12132-1713484800-1713657599@www.aquadocinc.com
SUMMARY:Stark County Home & Garden Show
DESCRIPTION:
URL:https://www.aquadocinc.com/event/stark-county-home-garden-show/
LOCATION:Hall of Fame Village Center for Performance\, 1901 Champions Gateway\, Canton\, OH\, 44708\, United States
END:VEVENT
BEGIN:VEVENT
DTSTART;VALUE=DATE:20240406
DTEND;VALUE=DATE:20240407
DTSTAMP:20260423T173633
CREATED:20240320T183809Z
LAST-MODIFIED:20240320T183809Z
UID:12433-1712361600-1712447999@www.aquadocinc.com
SUMMARY:Rain & Garden Show
DESCRIPTION:
URL:https://www.aquadocinc.com/event/rain-garden-show-2/
LOCATION:Westlake Community Services Center\, 28975 Hilliard Blvd.\, Westlake\, OH\, 44145\, United States
END:VEVENT
BEGIN:VEVENT
DTSTART;VALUE=DATE:20240405
DTEND;VALUE=DATE:20240408
DTSTAMP:20260423T173633
CREATED:20240320T183722Z
LAST-MODIFIED:20240320T183722Z
UID:12431-1712275200-1712534399@www.aquadocinc.com
SUMMARY:Central KY Home & Garden Show
DESCRIPTION:
URL:https://www.aquadocinc.com/event/central-ky-home-garden-show-2/
LOCATION:Central Bank Center\, 430 W Vine St\, Lexington\, KY\, 40507\, United States
END:VEVENT
BEGIN:VEVENT
DTSTART;VALUE=DATE:20240330
DTEND;VALUE=DATE:20240331
DTSTAMP:20260423T173633
CREATED:20240320T183618Z
LAST-MODIFIED:20240320T183618Z
UID:12429-1711756800-1711843199@www.aquadocinc.com
SUMMARY:Run to the Beach 5k
DESCRIPTION:
URL:https://www.aquadocinc.com/event/run-to-the-beach-5k/
LOCATION:Portage Lakes State Park\, 5031 Manchester Road\, Akron\, OH\, 44319\, United States
END:VEVENT
BEGIN:VEVENT
DTSTART;TZID=America/Detroit:20240328T170000
DTEND;TZID=America/Detroit:20240328T190000
DTSTAMP:20260423T173633
CREATED:20240219T202112Z
LAST-MODIFIED:20240219T202112Z
UID:12375-1711645200-1711652400@www.aquadocinc.com
SUMMARY:Columbus Job Fair
DESCRIPTION:
URL:https://www.aquadocinc.com/event/columbus-job-fair/
LOCATION:Edison Peak\, 781 Science Blvd\, Gahanna\, OH\, 43230\, United States
END:VEVENT
BEGIN:VEVENT
DTSTART;VALUE=DATE:20240322
DTEND;VALUE=DATE:20240325
DTSTAMP:20260423T173633
CREATED:20240219T201557Z
LAST-MODIFIED:20240219T201557Z
UID:12369-1711065600-1711324799@www.aquadocinc.com
SUMMARY:Cleveland Home & Remodeling Expo
DESCRIPTION:
URL:https://www.aquadocinc.com/event/cleveland-home-remodeling-expo-2/
LOCATION:I-X Center\, 1 I-X Center\, Cleveland\, OH\, 44135\, United States
END:VEVENT
BEGIN:VEVENT
DTSTART;VALUE=DATE:20240315
DTEND;VALUE=DATE:20240316
DTSTAMP:20260423T173633
CREATED:20240219T201825Z
LAST-MODIFIED:20240219T201825Z
UID:12372-1710460800-1710547199@www.aquadocinc.com
SUMMARY:CAI Michigan Annual Conference
DESCRIPTION:
URL:https://www.aquadocinc.com/event/cai-michigan-annual-conference/
LOCATION:Suburban Collection Showplace\, 46100 Grand River Ave\, Novi\, MI\, 48374\, United States
END:VEVENT
BEGIN:VEVENT
DTSTART;VALUE=DATE:20240309
DTEND;VALUE=DATE:20240311
DTSTAMP:20260423T173633
CREATED:20240219T200707Z
LAST-MODIFIED:20240219T200707Z
UID:12367-1709942400-1710115199@www.aquadocinc.com
SUMMARY:Mid-Ohio Home Show
DESCRIPTION:
URL:https://www.aquadocinc.com/event/mid-ohio-home-show-2/
LOCATION:Richland County Fair Grounds\, 750 Home Rd\, Mansfield\, OH\, 44903\, United States
END:VEVENT
BEGIN:VEVENT
DTSTART;VALUE=DATE:20240308
DTEND;VALUE=DATE:20240311
DTSTAMP:20260423T173633
CREATED:20240219T195256Z
LAST-MODIFIED:20240219T195256Z
UID:12363-1709856000-1710115199@www.aquadocinc.com
SUMMARY:Summit County JDM Fishing & Outdoor Show
DESCRIPTION:
URL:https://www.aquadocinc.com/event/summit-county-jdm-fishing-outdoor-show/
LOCATION:Summit County Fairgrounds Arena Complex\, 1050 North Ave\, Tallmadge\, OH\, 44278\, United States
END:VEVENT
BEGIN:VEVENT
DTSTART;VALUE=DATE:20240306
DTEND;VALUE=DATE:20240307
DTSTAMP:20260423T173633
CREATED:20240219T195122Z
LAST-MODIFIED:20240219T195122Z
UID:12361-1709683200-1709769599@www.aquadocinc.com
SUMMARY:Ohio Woodland Water and Wildlife Conference
DESCRIPTION:
URL:https://www.aquadocinc.com/event/ohio-woodland-water-and-wildlife-conference/
LOCATION:Mid-Ohio Conference Center\, 890 West 4th\, Ste # 100\, Mansfield
END:VEVENT
BEGIN:VEVENT
DTSTART;VALUE=DATE:20240305
DTEND;VALUE=DATE:20240306
DTSTAMP:20260423T173633
CREATED:20240219T195037Z
LAST-MODIFIED:20240219T195037Z
UID:12358-1709596800-1709683199@www.aquadocinc.com
SUMMARY:GGP Career Exploration Open House
DESCRIPTION:
URL:https://www.aquadocinc.com/event/ggp-career-exploration-open-house/
LOCATION:Kent State University at Geauga\, 14111 Claridon-Troy Rd\, Burton\, OH\, 44021\, United States
END:VEVENT
END:VCALENDAR