BEGIN:VCALENDAR
VERSION:2.0
PRODID:-//AQUA DOC® - ECPv6.15.20//NONSGML v1.0//EN
CALSCALE:GREGORIAN
METHOD:PUBLISH
X-WR-CALNAME:AQUA DOC®
X-ORIGINAL-URL:https://www.aquadocinc.com
X-WR-CALDESC:Events for AQUA DOC®
REFRESH-INTERVAL;VALUE=DURATION:PT1H
X-Robots-Tag:noindex
X-PUBLISHED-TTL:PT1H
BEGIN:VTIMEZONE
TZID:America/Detroit
BEGIN:DAYLIGHT
TZOFFSETFROM:-0500
TZOFFSETTO:-0400
TZNAME:EDT
DTSTART:20210314T070000
END:DAYLIGHT
BEGIN:STANDARD
TZOFFSETFROM:-0400
TZOFFSETTO:-0500
TZNAME:EST
DTSTART:20211107T060000
END:STANDARD
BEGIN:DAYLIGHT
TZOFFSETFROM:-0500
TZOFFSETTO:-0400
TZNAME:EDT
DTSTART:20220313T070000
END:DAYLIGHT
BEGIN:STANDARD
TZOFFSETFROM:-0400
TZOFFSETTO:-0500
TZNAME:EST
DTSTART:20221106T060000
END:STANDARD
BEGIN:DAYLIGHT
TZOFFSETFROM:-0500
TZOFFSETTO:-0400
TZNAME:EDT
DTSTART:20230312T070000
END:DAYLIGHT
BEGIN:STANDARD
TZOFFSETFROM:-0400
TZOFFSETTO:-0500
TZNAME:EST
DTSTART:20231105T060000
END:STANDARD
BEGIN:DAYLIGHT
TZOFFSETFROM:-0500
TZOFFSETTO:-0400
TZNAME:EDT
DTSTART:20240310T070000
END:DAYLIGHT
BEGIN:STANDARD
TZOFFSETFROM:-0400
TZOFFSETTO:-0500
TZNAME:EST
DTSTART:20241103T060000
END:STANDARD
END:VTIMEZONE
BEGIN:VEVENT
DTSTART;VALUE=DATE:20230210
DTEND;VALUE=DATE:20230213
DTSTAMP:20260423T233508
CREATED:20230113T171237Z
LAST-MODIFIED:20230126T193021Z
UID:11784-1675987200-1676246399@www.aquadocinc.com
SUMMARY:National Fishing Expo
DESCRIPTION:Come join AQUADOC at the National Fishing Expo! \nFor three information-packed days\, hundreds of vendors come to showcase\, demonstrate and sell their innovative products at the Ohio Expo Center. Get ready to explore over 150\,000 square feet of indoor exhibit space featuring nearly 300 vendors representing every corner of fishing! \nSkip the lines in person and click here to buy them online! \nBooth 610 \n 
URL:https://www.aquadocinc.com/event/national-fishing-expo/
LOCATION:Bricker Building\, Ohio Expo Center\, 717 E. 17th Ave.\, Columbus\, OH\, 43211\, United States
END:VEVENT
BEGIN:VEVENT
DTSTART;VALUE=DATE:20230203
DTEND;VALUE=DATE:20230213
DTSTAMP:20260423T233508
CREATED:20230113T170205Z
LAST-MODIFIED:20230126T203223Z
UID:11782-1675382400-1676246399@www.aquadocinc.com
SUMMARY:The Great Big Home & Garden Show
DESCRIPTION:Come join AQUA DOC at The Great Big Home & Garden Show! \nThe Great Big Home + Garden Show will return February 3-12\, 2023 to the IX Center! \nClick here to buy tickets online ahead of time and save $2! \nBooth 2930
URL:https://www.aquadocinc.com/event/the-great-big-home-garden-show-2/
LOCATION:Cleveland IX Center\, 1 I-X Center Drive\, Cleveland\, OH\, 44135\, United States
END:VEVENT
BEGIN:VEVENT
DTSTART;VALUE=DATE:20230129
DTEND;VALUE=DATE:20230202
DTSTAMP:20260423T233508
CREATED:20221109T160151Z
LAST-MODIFIED:20221111T131300Z
UID:11711-1674950400-1675295999@www.aquadocinc.com
SUMMARY:OPRA Conference & Trade Show
DESCRIPTION:Come join AQUA DOC at the Ohio Parks & Recreation Association Conference & Trade Show! \nGather with parks and recreation leaders from around Ohio for training\, networking and more!
URL:https://www.aquadocinc.com/event/opra-conference-trade-show-3/
LOCATION:Kalahari Convention Center\, 7000 Kalahari Dr.\, Sandusky\, OH\, 44870\, United States
END:VEVENT
BEGIN:VEVENT
DTSTART;TZID=America/Detroit:20230127T080000
DTEND;TZID=America/Detroit:20230127T160000
DTSTAMP:20260423T233508
CREATED:20230126T192231Z
LAST-MODIFIED:20230126T192743Z
UID:11868-1674806400-1674835200@www.aquadocinc.com
SUMMARY:CAI South Carolina
DESCRIPTION:FOOD • PRIZES • NETWORKING • FUN • CASH BAR
URL:https://www.aquadocinc.com/event/cai-south-carolina/
LOCATION:Lowcountry Conference Center\, 406 Sigma Dr\, Summerville\, 29486\, United States
END:VEVENT
BEGIN:VEVENT
DTSTART;VALUE=DATE:20230127
DTEND;VALUE=DATE:20230130
DTSTAMP:20260423T233508
CREATED:20221109T154901Z
LAST-MODIFIED:20230126T190956Z
UID:11702-1674777600-1675036799@www.aquadocinc.com
SUMMARY:North Atlanta Home Show
DESCRIPTION:Come join AQUA DOC at the 25th Annual North Atlanta Home Show! \nThe largest home show in Atlanta\, Georgia\, this show features landscaping companies\, remodeling contractors\, interior design companies\, and more! \nBooth 707
URL:https://www.aquadocinc.com/event/north-atlanta-home-show/
LOCATION:Gas South Convention Center\, 6400 Sugarloaf Pkwy\, Duluth\, OH\, 30097\, United States
END:VEVENT
BEGIN:VEVENT
DTSTART;VALUE=DATE:20230125
DTEND;VALUE=DATE:20230130
DTSTAMP:20260423T233508
CREATED:20221109T153031Z
LAST-MODIFIED:20221111T133445Z
UID:11693-1674604800-1675036799@www.aquadocinc.com
SUMMARY:2023 Louisville Boat\, RV\, & Sportshow
DESCRIPTION:Come join AQUA DOC at the 2023 Louisville Boat\, RV\, & Sportshow! \nThe Louisville Boat\, RV & Sportshow showcases products like power boats\, fishing boats\, pontoon boats\, and more! This event also covers a variety of topics\, including demonstrations of techniques and tools on boat and motor cutaways. Also\, bring the family along to enjoy the kids’ trout pond\, boating simulator\, and family friendly vendors!
URL:https://www.aquadocinc.com/event/2023-louisville-boat-rv-sportshow/
LOCATION:Kentucky Exposition Center\, 937 Phillips Ln\, Louisville\, KY\, 40209\, United States
ORGANIZER;CN="Louisville Boat%2C RV%2C & Sportshow":MAILTO:info@louisvilleboatshow.com
END:VEVENT
BEGIN:VEVENT
DTSTART;VALUE=DATE:20230125
DTEND;VALUE=DATE:20230128
DTSTAMP:20260423T233508
CREATED:20221109T150533Z
LAST-MODIFIED:20221111T133500Z
UID:11689-1674604800-1674863999@www.aquadocinc.com
SUMMARY:2023 Ohio Township Association Winter Conference
DESCRIPTION:Come join AQUA DOC at the 2023 OTA Winter Conference! \nThe Ohio Township Association’s annual conference is held in Columbus each year to further the education of township officials and staff\, and to provide networking opportunities to meet fellow township officials and staff from all across Ohio. With more than 80 educational workshops\, a trade show with over 100 vendors\, and several networking and entertainment events\, the conference is a great opportunity for OTA members to advance their knowledge of Ohio’s townships!
URL:https://www.aquadocinc.com/event/2023-ohio-township-association-winter-conference/
LOCATION:Greater Columbus Convention Center\, 400 N. High St\, Columbus\, OH\, 43215\, United States
END:VEVENT
BEGIN:VEVENT
DTSTART;VALUE=DATE:20230123
DTEND;VALUE=DATE:20230127
DTSTAMP:20260423T233508
CREATED:20221109T145515Z
LAST-MODIFIED:20221111T133517Z
UID:11683-1674432000-1674777599@www.aquadocinc.com
SUMMARY:Society of Lake Management Professionals 2023 Summit
DESCRIPTION:Come join AQUA DOC at the 7th Annual SLMP Summit and celebrate the theme of this year’s summit — Evolution of an Industry: 40 years of Innovation! \nJoin this summit for multiple interactive round-table Socratic discussions on a variety of topics that you told us are meaningful to you. YOU will be part of the program every step of the way with collaboration and problem solving on issues affecting YOU!
URL:https://www.aquadocinc.com/event/society-of-lake-management-professionals-2023-summit/
LOCATION:Hard Rock Hotel\, 918 N Atlantic Ave\, Daytona Beach\, FL\, 32118\, United States
END:VEVENT
BEGIN:VEVENT
DTSTART;VALUE=DATE:20230120
DTEND;VALUE=DATE:20230123
DTSTAMP:20260423T233508
CREATED:20230113T194435Z
LAST-MODIFIED:20230113T194435Z
UID:11795-1674172800-1674431999@www.aquadocinc.com
SUMMARY:OFSWCD
DESCRIPTION:Come join AQUADOC at the Ohio Federation of Soil & Water Conservation Districts Annual Meeting! \nThe Ohio Federation of Soil and Water Conservation Districts supports the work of Ohio’s 88 Soil and Water Conservation Districts who for 75 years have been providing locally-driven solutions to natural resource concerns at both the rural and urban settings of the SWCD’s in various capacities.
URL:https://www.aquadocinc.com/event/ofswcd/
LOCATION:Columbus Renaissance Hotel\, 50 North 3rd St\, Columbus\, OH\, 43215\, United States
END:VEVENT
BEGIN:VEVENT
DTSTART;VALUE=DATE:20230120
DTEND;VALUE=DATE:20230123
DTSTAMP:20260423T233508
CREATED:20221109T143758Z
LAST-MODIFIED:20221111T133538Z
UID:11674-1674172800-1674431999@www.aquadocinc.com
SUMMARY:Cincinnati Travel Sports & Boat Show
DESCRIPTION:Come join AQUA DOC at the 2023 Cincinnati Travel Sports & Boat Show! \nYour next adventure awaits Jan. 20-22 & 25-29\, 2023 at Duke Energy Convention Center! This show features everything from travel destinations to boating\, fishing and hunting – your next adventures can be found here!
URL:https://www.aquadocinc.com/event/cincinnati-travel-sports-boat-show-2/
LOCATION:Duke Energy Convention Center\, 525 Elm Street\, Cincinnati\, OH\, 45202\, United States
END:VEVENT
BEGIN:VEVENT
DTSTART;VALUE=DATE:20230120
DTEND;VALUE=DATE:20230122
DTSTAMP:20260423T233508
CREATED:20221109T141353Z
LAST-MODIFIED:20221111T133614Z
UID:11666-1674172800-1674345599@www.aquadocinc.com
SUMMARY:2023 Ohio Aquaculture Association Conference
DESCRIPTION:Come join AQUA DOC at the 2023 Ohio Aquaculture Association Conference! \nThis conference features a variety of talks on industry updates\, aquaponics\, marketing\, and producer experiences. Come meet with exhibitors from across the country and mingle with friends and fellow aquaculturists from around Ohio!
URL:https://www.aquadocinc.com/event/2023-ohio-aquaculture-association-conference/
LOCATION:Quest Conference Center\, 9200 Worthington Rd\, Westerville\, OH\, 43082\, United States
END:VEVENT
BEGIN:VEVENT
DTSTART;VALUE=DATE:20230112
DTEND;VALUE=DATE:20230116
DTSTAMP:20260423T233508
CREATED:20221109T135723Z
LAST-MODIFIED:20221111T133638Z
UID:11651-1673481600-1673827199@www.aquadocinc.com
SUMMARY:Atlanta Boat Show
DESCRIPTION:Come join AQUA DOC at the 2023 Atlanta Boat Show! \nThis family friendly event has a lot to offer with everything from fishing simulators\, sailing simulators\, a career day\, and more! Bring your kids along for nautical story times and the Kid Zone which includes a bounce house\, face painting\, balloon animals\, and coloring. \nClick here to get your tickets online ahead of time for a discounted price (if purchased by January 9th\, 2023)!
URL:https://www.aquadocinc.com/event/atlanta-boat-show/
LOCATION:Georgia World Congress Center Hall C\, 285 Andrew Young International Blvd NW\, Atlanta\, GA\, 30313\, United States
ORGANIZER;CN="Atlanta Boat Show":MAILTO:info@atlantaboatshow.com
END:VEVENT
BEGIN:VEVENT
DTSTART;VALUE=DATE:20230110
DTEND;VALUE=DATE:20230113
DTSTAMP:20260423T233508
CREATED:20221108T215008Z
LAST-MODIFIED:20221111T133654Z
UID:11639-1673308800-1673567999@www.aquadocinc.com
SUMMARY:Northeast Aquatic Plant Management Society Conference
DESCRIPTION:24th Meeting of the NORTHEAST AQUATIC PLANT MANAGEMENT SOCIETY\nThe NEAPMS 24th Annual Meeting will be held at The Resort and Conference Center at Hyannis \, Cape Cod\, Massachusetts from January 10-12\, 2023. \nTuesday will feature a 3pm workshop followed by a welcome reception in the evening. Dinner is on your own Tuesday night\, either at the hotel or at a nearby eatery in Hyannis. Wednesday will include a full day of technical presentations focused on active management of aquatic plants and algae to maximize creditable talks\, followed by a poster session\, and banquet. Thursday morning will include several technical presentations. We conclude with a luncheon and conference adjournment at 1pm. Please mark your calendars and plan to join us for our annual meeting! \n\n\n\n\nConference registration includes the Tuesday afternoon workshop; breakfast\, lunch and coffee breaks on Wednesday and Thursday; and the dinner banquet on Wednesday evening.  There are options to only attend a portion of the conference. \nWe hope to see you in Massachusetts in January!
URL:https://www.aquadocinc.com/event/northeast-aquatic-plant-management-society-conference/
LOCATION:The Resort and Conference Center at Hyannis\, 35 Scudder Ave\, Hyannis\, MA\, 02601\, United States
ORGANIZER;CN="Northest APMS":MAILTO:neapms@gmail.com
END:VEVENT
BEGIN:VEVENT
DTSTART;VALUE=DATE:20230106
DTEND;VALUE=DATE:20230109
DTSTAMP:20260423T233508
CREATED:20221108T212838Z
LAST-MODIFIED:20221111T133711Z
UID:11625-1672963200-1673222399@www.aquadocinc.com
SUMMARY:Columbus Building & Renovation Expo
DESCRIPTION:The Columbus Building & Renovation Expo is the perfect event to kick-off your New Year and get you closer than ever to making your dream home a reality!  \nFrom top quality exhibits\, to informative seminars\, to insightful demonstrations and more\, you’ll discover thousands of smart\, stylish and cost-effective ways to design or renovate your home – including the latest ideas in: \nKitchens | Baths | Custom Remodeling | Windows | Siding | Roofing | Doors | Sunrooms | Room Additions | Basements | Cabinets | Countertops | Carpet & Hardwood Floors | Landscaping | Decks | Patios | Saunas & Spas | New Home Construction & Design | New Product Ideas & Much\, Much More! \nWhen you join us at the Columbus Building & Renovation Expo at the Ohio Expo Center\, you’ll get the answers\, advice\, insight and ideas you need – and have a lot of fun too! \nClick here for a ticket discount!
URL:https://www.aquadocinc.com/event/columbus-building-renovation-expo-2/
LOCATION:Ohio Expo Center – Kasich Hall\, 717 E 17th Ave\, Columbus\, OH\, 43211\, United States
ORGANIZER;CN="L and L Exhibition":MAILTO:info@homeshowcenter.com
END:VEVENT
BEGIN:VEVENT
DTSTART;VALUE=DATE:20220920
DTEND;VALUE=DATE:20220923
DTSTAMP:20260423T233508
CREATED:20220606T183205Z
LAST-MODIFIED:20220606T192136Z
UID:11207-1663632000-1663891199@www.aquadocinc.com
SUMMARY:Farm Science Review 2022
DESCRIPTION:Booth 56
URL:https://www.aquadocinc.com/event/farm-science-review-2022/
LOCATION:The Ohio State University\, 135 SR-38\, London\, OH\, 43140\, United States
END:VEVENT
BEGIN:VEVENT
DTSTART;TZID=America/Detroit:20220903T080000
DTEND;TZID=America/Detroit:20220903T170000
DTSTAMP:20260423T233508
CREATED:20220329T161745Z
LAST-MODIFIED:20220329T161745Z
UID:10889-1662192000-1662224400@www.aquadocinc.com
SUMMARY:PPANO
DESCRIPTION:
URL:https://www.aquadocinc.com/event/ppano/
LOCATION:Corporate College Conf Ctr\, Warrensville Heights\, OH\, 44128\, United States
END:VEVENT
BEGIN:VEVENT
DTSTART;VALUE=DATE:20220827
DTEND;VALUE=DATE:20220828
DTSTAMP:20260423T233508
CREATED:20220606T191417Z
LAST-MODIFIED:20220606T191458Z
UID:11211-1661558400-1661644799@www.aquadocinc.com
SUMMARY:Jog with the Frog 5K & 1 Mile
DESCRIPTION:Jog with a Frog 5K\n$25\n8:30AM EDT–11:59PM\n\n\n1 Mile Walk\n$15\n8:30AM EDT–11:59AM\n\n\nRace Start time: 8:30AM\nT-Shirts for the first 100 people who register. Guaranteed shirt size available for those who registered by August 19\, 2022. \nWhy: This race is to raise awareness and support for Project Hope for the Homeless\, the only emergency homeless shelter in Lake County \nFor the 5K race: The top 3 male finishers and top 3 female finishers will be awarded.\nAwards will also be given to the top finishers in these age groups: 14 and younger\, 15-19\, 20-29\, 30-39\, 40-49\, 50-59\, 60-69\, 70+ \nThe 1 Mile Walk is untimed and no awards will be given.
URL:https://www.aquadocinc.com/event/job-with-the-frog-5k-1-mile/
LOCATION:Jog with the Frog\, 415 Riverside Dr\, Painesville\, OH\, 44077\, United States
ATTACH;FMTTYPE=image/jpeg:https://www.aquadocinc.com/wp-content/uploads/2022/06/DRALG3.jpg
END:VEVENT
BEGIN:VEVENT
DTSTART;VALUE=DATE:20220704
DTEND;VALUE=DATE:20220705
DTSTAMP:20260423T233508
CREATED:20220329T154749Z
LAST-MODIFIED:20220329T154856Z
UID:10886-1656892800-1656979199@www.aquadocinc.com
SUMMARY:Conquer the Hill
DESCRIPTION:
URL:https://www.aquadocinc.com/event/conquer-the-hill/
LOCATION:Village of Evendale\, 10500 Reading Road\, Cincinnati\, OH\, 45241\, United States
END:VEVENT
BEGIN:VEVENT
DTSTART;VALUE=DATE:20220510
DTEND;VALUE=DATE:20220515
DTSTAMP:20260423T233508
CREATED:20220329T153553Z
LAST-MODIFIED:20220407T183802Z
UID:10882-1652140800-1652572799@www.aquadocinc.com
SUMMARY:Ohio Stormwater
DESCRIPTION:Come visit us at booth 518!
URL:https://www.aquadocinc.com/event/ohio-stormwater/
LOCATION:Kalahari Convention Center\, 7000 Kalahari Dr.\, Sandusky\, OH\, 44870\, United States
END:VEVENT
BEGIN:VEVENT
DTSTART;TZID=America/Detroit:20220416T080000
DTEND;TZID=America/Detroit:20220416T170000
DTSTAMP:20260423T233508
CREATED:20220329T153308Z
LAST-MODIFIED:20220329T153308Z
UID:10879-1650096000-1650128400@www.aquadocinc.com
SUMMARY:Portage Lakes Run to the Beach 5K
DESCRIPTION:
URL:https://www.aquadocinc.com/event/portage-lakes-run-to-the-beach-5k/
LOCATION:Portage Lakes State Park\, 5031 Manchester Road\, Akron\, OH\, 44319\, United States
END:VEVENT
BEGIN:VEVENT
DTSTART;VALUE=DATE:20220409
DTEND;VALUE=DATE:20220410
DTSTAMP:20260423T233508
CREATED:20220329T151746Z
LAST-MODIFIED:20220329T151746Z
UID:10876-1649462400-1649548799@www.aquadocinc.com
SUMMARY:Rain & Garden Show
DESCRIPTION:
URL:https://www.aquadocinc.com/event/rain-garden-show/
LOCATION:Westlake Community Services Center\, 28975 Hilliard Blvd.\, Westlake\, OH\, 44145\, United States
END:VEVENT
BEGIN:VEVENT
DTSTART;VALUE=DATE:20220408
DTEND;VALUE=DATE:20220411
DTSTAMP:20260423T233508
CREATED:20220329T150243Z
LAST-MODIFIED:20220329T150433Z
UID:10871-1649376000-1649635199@www.aquadocinc.com
SUMMARY:Spring Fairgrounds Southern Ideal Home Show
DESCRIPTION:Visit us at booth 217
URL:https://www.aquadocinc.com/event/spring-fairgrounds-southern-ideal-home-show/
LOCATION:North Carolina State Fairgrounds\, 4285 Trinity Road\, Raleigh\, 27607\, United States
END:VEVENT
BEGIN:VEVENT
DTSTART;TZID=America/Detroit:20220406T150000
DTEND;TZID=America/Detroit:20220406T190000
DTSTAMP:20260423T233508
CREATED:20220228T180355Z
LAST-MODIFIED:20220228T180355Z
UID:10526-1649257200-1649271600@www.aquadocinc.com
SUMMARY:CAA Expo
DESCRIPTION:
URL:https://www.aquadocinc.com/event/caa-expo/
LOCATION:CAA Expo\, 717 E 17th Ave.\, Columbus\, OH\, 43211\, United States
END:VEVENT
BEGIN:VEVENT
DTSTART;VALUE=DATE:20220401
DTEND;VALUE=DATE:20220404
DTSTAMP:20260423T233508
CREATED:20220329T145533Z
LAST-MODIFIED:20220329T145647Z
UID:10865-1648771200-1649030399@www.aquadocinc.com
SUMMARY:Columbus Home Improvement Show
DESCRIPTION:
URL:https://www.aquadocinc.com/event/columbus-home-improvement-show/
LOCATION:Ohio Expo Center\, 717 E. 17th Ave.\, Columbus\, OH\, 43211\, United States
END:VEVENT
BEGIN:VEVENT
DTSTART;VALUE=DATE:20220318
DTEND;VALUE=DATE:20220321
DTSTAMP:20260423T233508
CREATED:20220228T173558Z
LAST-MODIFIED:20220228T173627Z
UID:10521-1647561600-1647820799@www.aquadocinc.com
SUMMARY:Greater Cincinnati Home Expo
DESCRIPTION:Come visit us @ booth 164!
URL:https://www.aquadocinc.com/event/greater-cincinnati-home-expo/
LOCATION:Sharonville Convetion Center\, 11355 Chester Road\, Sharonville\, OH\, 45246\, United States
END:VEVENT
BEGIN:VEVENT
DTSTART;VALUE=DATE:20220318
DTEND;VALUE=DATE:20220321
DTSTAMP:20260423T233508
CREATED:20220228T172536Z
LAST-MODIFIED:20220228T173015Z
UID:10516-1647561600-1647820799@www.aquadocinc.com
SUMMARY:Atlanta Home Show (Spring)
DESCRIPTION:Come visit us @ booth 2712!
URL:https://www.aquadocinc.com/event/atlanta-home-show-spring/
LOCATION:Atlanta Home Show (Spring)\, 2 Galleria Parkway\, Atlanta\, OH\, 30339\, United States
END:VEVENT
BEGIN:VEVENT
DTSTART;VALUE=DATE:20220304
DTEND;VALUE=DATE:20220314
DTSTAMP:20260423T233508
CREATED:20220224T152110Z
LAST-MODIFIED:20220224T152110Z
UID:10431-1646352000-1647215999@www.aquadocinc.com
SUMMARY:Pittsburgh Home & Garden Show
DESCRIPTION:Come Visit Us @ Booth # 322
URL:https://www.aquadocinc.com/event/pittsburgh-home-garden-show/
LOCATION:Pittsburgh Convention Center Downtown\, 1000 Ft. Duquesne Blvd.\, Pittsburgh\, OH\, 15222\, United States
END:VEVENT
BEGIN:VEVENT
DTSTART;VALUE=DATE:20220304
DTEND;VALUE=DATE:20220306
DTSTAMP:20260423T233508
CREATED:20220228T171705Z
LAST-MODIFIED:20220228T171705Z
UID:10513-1646352000-1646524799@www.aquadocinc.com
SUMMARY:OCOA Trade Show
DESCRIPTION:
URL:https://www.aquadocinc.com/event/ocoa-trade-show/
LOCATION:Embassy Suites Columbus-Airport\, 2886 Airport Dr\, Columbus\, OH\, United States
END:VEVENT
BEGIN:VEVENT
DTSTART;VALUE=DATE:20220303
DTEND;VALUE=DATE:20220306
DTSTAMP:20260423T233508
CREATED:20220216T145503Z
LAST-MODIFIED:20220216T145503Z
UID:10232-1646265600-1646524799@www.aquadocinc.com
SUMMARY:Amish Country Home & Garden Show
DESCRIPTION:
URL:https://www.aquadocinc.com/event/amish-country-home-garden-show/
LOCATION:Mt. Hope Event Center\, 8076 Oh-241\, Millersburg\, OH\, 44654\, United States
END:VEVENT
BEGIN:VEVENT
DTSTART;VALUE=DATE:20220302
DTEND;VALUE=DATE:20220304
DTSTAMP:20260423T233508
CREATED:20220216T144751Z
LAST-MODIFIED:20220216T144751Z
UID:10227-1646179200-1646351999@www.aquadocinc.com
SUMMARY:PALMS Annual Conference
DESCRIPTION:
URL:https://www.aquadocinc.com/event/palms-annual-conference/
LOCATION:Wyndham Garden State College\, 310 Elks Club Road\, Boalsburg\, PA\, 16827\, United States
END:VEVENT
END:VCALENDAR