BEGIN:VCALENDAR
VERSION:2.0
PRODID:-//AQUA DOC® - ECPv6.15.20//NONSGML v1.0//EN
CALSCALE:GREGORIAN
METHOD:PUBLISH
X-ORIGINAL-URL:https://www.aquadocinc.com
X-WR-CALDESC:Events for AQUA DOC®
REFRESH-INTERVAL;VALUE=DURATION:PT1H
X-Robots-Tag:noindex
X-PUBLISHED-TTL:PT1H
BEGIN:VTIMEZONE
TZID:America/Detroit
BEGIN:DAYLIGHT
TZOFFSETFROM:-0500
TZOFFSETTO:-0400
TZNAME:EDT
DTSTART:20200308T070000
END:DAYLIGHT
BEGIN:STANDARD
TZOFFSETFROM:-0400
TZOFFSETTO:-0500
TZNAME:EST
DTSTART:20201101T060000
END:STANDARD
BEGIN:DAYLIGHT
TZOFFSETFROM:-0500
TZOFFSETTO:-0400
TZNAME:EDT
DTSTART:20210314T070000
END:DAYLIGHT
BEGIN:STANDARD
TZOFFSETFROM:-0400
TZOFFSETTO:-0500
TZNAME:EST
DTSTART:20211107T060000
END:STANDARD
BEGIN:DAYLIGHT
TZOFFSETFROM:-0500
TZOFFSETTO:-0400
TZNAME:EDT
DTSTART:20220313T070000
END:DAYLIGHT
BEGIN:STANDARD
TZOFFSETFROM:-0400
TZOFFSETTO:-0500
TZNAME:EST
DTSTART:20221106T060000
END:STANDARD
BEGIN:DAYLIGHT
TZOFFSETFROM:-0500
TZOFFSETTO:-0400
TZNAME:EDT
DTSTART:20230312T070000
END:DAYLIGHT
BEGIN:STANDARD
TZOFFSETFROM:-0400
TZOFFSETTO:-0500
TZNAME:EST
DTSTART:20231105T060000
END:STANDARD
END:VTIMEZONE
BEGIN:VEVENT
DTSTART;VALUE=DATE:20220409
DTEND;VALUE=DATE:20220410
DTSTAMP:20260424T010422
CREATED:20220329T151746Z
LAST-MODIFIED:20220329T151746Z
UID:10876-1649462400-1649548799@www.aquadocinc.com
SUMMARY:Rain & Garden Show
DESCRIPTION:
URL:https://www.aquadocinc.com/event/rain-garden-show/
LOCATION:Westlake Community Services Center\, 28975 Hilliard Blvd.\, Westlake\, OH\, 44145\, United States
END:VEVENT
BEGIN:VEVENT
DTSTART;VALUE=DATE:20220408
DTEND;VALUE=DATE:20220411
DTSTAMP:20260424T010422
CREATED:20220329T150243Z
LAST-MODIFIED:20220329T150433Z
UID:10871-1649376000-1649635199@www.aquadocinc.com
SUMMARY:Spring Fairgrounds Southern Ideal Home Show
DESCRIPTION:Visit us at booth 217
URL:https://www.aquadocinc.com/event/spring-fairgrounds-southern-ideal-home-show/
LOCATION:North Carolina State Fairgrounds\, 4285 Trinity Road\, Raleigh\, 27607\, United States
END:VEVENT
BEGIN:VEVENT
DTSTART;TZID=America/Detroit:20220406T150000
DTEND;TZID=America/Detroit:20220406T190000
DTSTAMP:20260424T010422
CREATED:20220228T180355Z
LAST-MODIFIED:20220228T180355Z
UID:10526-1649257200-1649271600@www.aquadocinc.com
SUMMARY:CAA Expo
DESCRIPTION:
URL:https://www.aquadocinc.com/event/caa-expo/
LOCATION:CAA Expo\, 717 E 17th Ave.\, Columbus\, OH\, 43211\, United States
END:VEVENT
BEGIN:VEVENT
DTSTART;VALUE=DATE:20220401
DTEND;VALUE=DATE:20220404
DTSTAMP:20260424T010422
CREATED:20220329T145533Z
LAST-MODIFIED:20220329T145647Z
UID:10865-1648771200-1649030399@www.aquadocinc.com
SUMMARY:Columbus Home Improvement Show
DESCRIPTION:
URL:https://www.aquadocinc.com/event/columbus-home-improvement-show/
LOCATION:Ohio Expo Center\, 717 E. 17th Ave.\, Columbus\, OH\, 43211\, United States
END:VEVENT
BEGIN:VEVENT
DTSTART;VALUE=DATE:20220318
DTEND;VALUE=DATE:20220321
DTSTAMP:20260424T010422
CREATED:20220228T173558Z
LAST-MODIFIED:20220228T173627Z
UID:10521-1647561600-1647820799@www.aquadocinc.com
SUMMARY:Greater Cincinnati Home Expo
DESCRIPTION:Come visit us @ booth 164!
URL:https://www.aquadocinc.com/event/greater-cincinnati-home-expo/
LOCATION:Sharonville Convetion Center\, 11355 Chester Road\, Sharonville\, OH\, 45246\, United States
END:VEVENT
BEGIN:VEVENT
DTSTART;VALUE=DATE:20220318
DTEND;VALUE=DATE:20220321
DTSTAMP:20260424T010422
CREATED:20220228T172536Z
LAST-MODIFIED:20220228T173015Z
UID:10516-1647561600-1647820799@www.aquadocinc.com
SUMMARY:Atlanta Home Show (Spring)
DESCRIPTION:Come visit us @ booth 2712!
URL:https://www.aquadocinc.com/event/atlanta-home-show-spring/
LOCATION:Atlanta Home Show (Spring)\, 2 Galleria Parkway\, Atlanta\, OH\, 30339\, United States
END:VEVENT
BEGIN:VEVENT
DTSTART;VALUE=DATE:20220304
DTEND;VALUE=DATE:20220314
DTSTAMP:20260424T010422
CREATED:20220224T152110Z
LAST-MODIFIED:20220224T152110Z
UID:10431-1646352000-1647215999@www.aquadocinc.com
SUMMARY:Pittsburgh Home & Garden Show
DESCRIPTION:Come Visit Us @ Booth # 322
URL:https://www.aquadocinc.com/event/pittsburgh-home-garden-show/
LOCATION:Pittsburgh Convention Center Downtown\, 1000 Ft. Duquesne Blvd.\, Pittsburgh\, OH\, 15222\, United States
END:VEVENT
BEGIN:VEVENT
DTSTART;VALUE=DATE:20220304
DTEND;VALUE=DATE:20220306
DTSTAMP:20260424T010422
CREATED:20220228T171705Z
LAST-MODIFIED:20220228T171705Z
UID:10513-1646352000-1646524799@www.aquadocinc.com
SUMMARY:OCOA Trade Show
DESCRIPTION:
URL:https://www.aquadocinc.com/event/ocoa-trade-show/
LOCATION:Embassy Suites Columbus-Airport\, 2886 Airport Dr\, Columbus\, OH\, United States
END:VEVENT
BEGIN:VEVENT
DTSTART;VALUE=DATE:20220303
DTEND;VALUE=DATE:20220306
DTSTAMP:20260424T010422
CREATED:20220216T145503Z
LAST-MODIFIED:20220216T145503Z
UID:10232-1646265600-1646524799@www.aquadocinc.com
SUMMARY:Amish Country Home & Garden Show
DESCRIPTION:
URL:https://www.aquadocinc.com/event/amish-country-home-garden-show/
LOCATION:Mt. Hope Event Center\, 8076 Oh-241\, Millersburg\, OH\, 44654\, United States
END:VEVENT
BEGIN:VEVENT
DTSTART;VALUE=DATE:20220302
DTEND;VALUE=DATE:20220304
DTSTAMP:20260424T010422
CREATED:20220216T144751Z
LAST-MODIFIED:20220216T144751Z
UID:10227-1646179200-1646351999@www.aquadocinc.com
SUMMARY:PALMS Annual Conference
DESCRIPTION:
URL:https://www.aquadocinc.com/event/palms-annual-conference/
LOCATION:Wyndham Garden State College\, 310 Elks Club Road\, Boalsburg\, PA\, 16827\, United States
END:VEVENT
BEGIN:VEVENT
DTSTART;VALUE=DATE:20220302
DTEND;VALUE=DATE:20220303
DTSTAMP:20260424T010422
CREATED:20220216T144334Z
LAST-MODIFIED:20220216T144459Z
UID:10221-1646179200-1646265599@www.aquadocinc.com
SUMMARY:Ohio Woodland Water & Wildlife Conference
DESCRIPTION:Join us for the 2021 Ohio Woodland Water and Wildlife Conference.  ISA\, and SAF continuing education credits will be offered including ODA pesticide credits.  Each talk will run approximately 60 minutes with an additional 15 minutes allowed for Q&A.  In order to receive continuing education credits for the talk you must be present for the live presentation
URL:https://www.aquadocinc.com/event/ohio-woodland-water-wildlife-conference/
LOCATION:Mid-Ohio Conference Center\, 890 West 4th\, Ste # 100\, Mansfield
END:VEVENT
BEGIN:VEVENT
DTSTART;TZID=America/Detroit:20220301T090000
DTEND;TZID=America/Detroit:20220301T160000
DTSTAMP:20260424T010422
CREATED:20220228T171333Z
LAST-MODIFIED:20220228T171333Z
UID:10509-1646125200-1646150400@www.aquadocinc.com
SUMMARY:Ohio Clean Marinas Conference
DESCRIPTION:The Ohio Marina Conference provides marina owners and operators with updates on environmental regulations and best practices\, as well as training for professional development.
URL:https://www.aquadocinc.com/event/ohio-clean-marinas-conference/
LOCATION:The Lodge at Geneva-on-the-Lake\, 4888 N Broadway\, Geneva\, OH\, 44041\, United States
END:VEVENT
BEGIN:VEVENT
DTSTART;VALUE=DATE:20220228
DTEND;VALUE=DATE:20220304
DTSTAMP:20260424T010422
CREATED:20220209T144027Z
LAST-MODIFIED:20220209T144027Z
UID:10069-1646006400-1646351999@www.aquadocinc.com
SUMMARY:Midwest Aquatic Plant Management Conference
DESCRIPTION:
URL:https://www.aquadocinc.com/event/midwest-aquatic-plant-management-conference/
LOCATION:Grand Geneva\, 7036 Grand Geneva Way\, Lake Geneva\, OH\, 53147\, United States
END:VEVENT
BEGIN:VEVENT
DTSTART;VALUE=DATE:20220226
DTEND;VALUE=DATE:20220228
DTSTAMP:20260424T010422
CREATED:20220224T143828Z
LAST-MODIFIED:20220224T150211Z
UID:10426-1645833600-1646006399@www.aquadocinc.com
SUMMARY:Cincinnati Home & Garden Show
DESCRIPTION:Come Visit  Us @ Booth # 328
URL:https://www.aquadocinc.com/event/cincinnati-home-garden-show-3/
LOCATION:Duke Energy Convention Center\, 525 Elm Street\, Cincinnati\, OH\, 45202\, United States
END:VEVENT
BEGIN:VEVENT
DTSTART;VALUE=DATE:20220225
DTEND;VALUE=DATE:20220228
DTSTAMP:20260424T010422
CREATED:20220207T161143Z
LAST-MODIFIED:20220207T161143Z
UID:10014-1645747200-1646006399@www.aquadocinc.com
SUMMARY:PRO Home & Garden Show
DESCRIPTION:Every year\, PRO teams up with their members and the area’s highest rated group of contractors\, remodelers and landscapers to put on the most attended home and garden show in the region. Our exhibitors get access to thousands of area homeowners\, looking for ideas and assistance in remodeling their Toledo homes\, both interior and exterior improvements.
URL:https://www.aquadocinc.com/event/pro-home-garden-show/
LOCATION:Glass City Centre\, 401 Jefferson Ave.\, Toledo\, 43604\, United States
ATTACH;FMTTYPE=image/jpeg:https://www.aquadocinc.com/wp-content/uploads/2022/02/PRO-Home-Show._Digital-Invite_2022-scaled.jpg
END:VEVENT
BEGIN:VEVENT
DTSTART;VALUE=DATE:20220225
DTEND;VALUE=DATE:20220228
DTSTAMP:20260424T010422
CREATED:20220207T154934Z
LAST-MODIFIED:20220224T152632Z
UID:10011-1645747200-1646006399@www.aquadocinc.com
SUMMARY:Downtown Raleigh Home Show
DESCRIPTION:Solve all your projects in one place in one weekend at the Downtown Raleigh Home Show! You’ll find the latest products and services for your home: builders\, remodelers\, contractors\, building materials\, decks\, spas\, entertainment systems\, storage solutions\, kitchenware\, home accessories and so much more. \n  \nVisit Us @ Booth 707
URL:https://www.aquadocinc.com/event/downtown-raleigh-home-show/
LOCATION:Raleigh Convention Center\, 500 South Salisbury Street\, Raleigh\, OH\, 27601\, United States
END:VEVENT
BEGIN:VEVENT
DTSTART;TZID=America/Detroit:20220224T070000
DTEND;TZID=America/Detroit:20220224T170000
DTSTAMP:20260424T010422
CREATED:20220209T134628Z
LAST-MODIFIED:20220209T134628Z
UID:10066-1645686000-1645722000@www.aquadocinc.com
SUMMARY:Clean Water Contractor Expo
DESCRIPTION:
URL:https://www.aquadocinc.com/event/clean-water-contractor-expo-2/
LOCATION:Huron County Fairgrounds\, 940 Fair Road\, Norwalk\, OH\, 44857\, United States
END:VEVENT
BEGIN:VEVENT
DTSTART;VALUE=DATE:20220219
DTEND;VALUE=DATE:20220228
DTSTAMP:20260424T010422
CREATED:20220207T153934Z
LAST-MODIFIED:20220207T153934Z
UID:10000-1645228800-1646006399@www.aquadocinc.com
SUMMARY:Spring Dispatch Home & Garden Show
DESCRIPTION:Kick off the spring season at the Columbus Dispatch Home & Garden Show! Each year homeowners flock to the Ohio Expo Center to see the magnificent indoor gardens\, get the hottest home & garden advice and knock out their next big home improvement project — all under one roof.
URL:https://www.aquadocinc.com/event/spring-dispatch-home-garden-show/
LOCATION:Spring Dispatch Home & Garden Show\, 717 E. 17th Ave.\, Columbus\, OH\, 43211\, United States
END:VEVENT
BEGIN:VEVENT
DTSTART;VALUE=DATE:20220218
DTEND;VALUE=DATE:20220228
DTSTAMP:20260424T010422
CREATED:20220209T134317Z
LAST-MODIFIED:20220209T134356Z
UID:10062-1645142400-1646006399@www.aquadocinc.com
SUMMARY:Indianapolis Boat\, Sport & Travel Show
DESCRIPTION:Find Your Adventure with over\n750\,000 Square Feet of the\nGreat Outdoors\, Indoors.
URL:https://www.aquadocinc.com/event/indianapolis-boat-sport-travel/
LOCATION:Southwest Pavilion\, 1202 E 38th St\, Indianapolis\, OH\, 46205\, United States
END:VEVENT
BEGIN:VEVENT
DTSTART;VALUE=DATE:20220218
DTEND;VALUE=DATE:20220221
DTSTAMP:20260424T010422
CREATED:20220209T133649Z
LAST-MODIFIED:20220209T133649Z
UID:10060-1645142400-1645401599@www.aquadocinc.com
SUMMARY:Akron Home & Garden Show
DESCRIPTION:Akron Home & Garden Show showcases your products and services in a dedicated\, Building Industry\, environment to the local community. \nJust in time to get the community’s creative juices flowing to plan their spring projects.
URL:https://www.aquadocinc.com/event/akron-home-garden-show-3/
LOCATION:John S. Knight Center\, 77 E Mill St\, Akron\, OH\, 44308\, United States
END:VEVENT
BEGIN:VEVENT
DTSTART;VALUE=DATE:20220211
DTEND;VALUE=DATE:20220214
DTSTAMP:20260424T010422
CREATED:20220207T152115Z
LAST-MODIFIED:20220207T152115Z
UID:9996-1644537600-1644796799@www.aquadocinc.com
SUMMARY:Columbus Fishing Expo
DESCRIPTION:Get ready to explore over 150\,000 square feet of indoor exhibit space featuring nearly 300 vendors representing every corner of fishing — from national trusted brands to custom-made items. Don’t miss this exclusive product showcase!
URL:https://www.aquadocinc.com/event/columbus-fishing-expo-2/
LOCATION:Bricker Building\, Ohio Expo Center\, 717 E. 17th Ave.\, Columbus\, OH\, 43211\, United States
END:VEVENT
BEGIN:VEVENT
DTSTART;TZID=America/Detroit:20220206T080000
DTEND;TZID=America/Detroit:20220209T170000
DTSTAMP:20260424T010422
CREATED:20220207T150522Z
LAST-MODIFIED:20220207T150522Z
UID:9984-1644134400-1644426000@www.aquadocinc.com
SUMMARY:OPRA Conference & Trade Show
DESCRIPTION:The 2022 OPRA Conference & Trade Show will take place February 6-9\, 2022 at the Kalahari Convention Center in Sandusky\, Ohio.  This year’s Conference Committee is made up of professionals from around the state and is led by Conference Board Liaison Kristin Otley.
URL:https://www.aquadocinc.com/event/opra-conference-trade-show-2/
LOCATION:Kalahari Convention Center\, 7000 Kalahari Dr.\, Sandusky\, OH\, 44870\, United States
END:VEVENT
BEGIN:VEVENT
DTSTART;VALUE=DATE:20220204
DTEND;VALUE=DATE:20220214
DTSTAMP:20260424T010422
CREATED:20220207T145843Z
LAST-MODIFIED:20220207T151521Z
UID:9974-1643932800-1644796799@www.aquadocinc.com
SUMMARY:The Great Big Home & Garden Show
DESCRIPTION:ADMISSION\nAdults (at the door)  $15.00\nAdults (online only)  $13.00 \nSeniors (65+ Mon-Thurs) with ID $11.00 (Monday-Thursday only\, tickets must be purchased at show box office)\nGroups (min. 20) $10.00\nChildren Ages 6-12  $5.00\nChildren Ages 5 & Under FREE\n\nDiscount tickets available at Petitti Garden Center \nGroup Discounts \nFor more information on group ticket discounts and eligibility please contact Scott McGorty\, Group Sales Specialist at ScottM@mpeshows.com or 440.373.8218. \nI’m unable to find my tickets!\nYou may have your ticket confirmation email resent to you by visiting the following link: https://www.microspec.com/tix123/Resend.cfm \nClick here to contact a representative if you still need assistance. \nInterested in Corporate Tickets?\nClick here to contact a representative about the Corporate Ticket Program. \n\n\n\n\nTHEME DAYS\nHERO DAY – Friday\, February 4th and Friday\, February 11th. All active military personnel\, veterans\, fire\, police\, and first responders receive FREE admission to the show with valid ID. For your service and sacrifice\, we thank you. \nRED HAT SOCIETY DAYS – Friday\, February 4th and Friday\, February 11th. Wear your Red Hat Society attire on either of those days and purchase a discounted ticket for $10.00/4 ticket max. per Red Hat purchase. \nOHIO LOTTERY DAY – Thursday\, February 10th. Visitors bringing in a non-winning OH Lottery ticket will receive $5.00 off at the Box Office. ohiolottery.com
URL:https://www.aquadocinc.com/event/the-great-big-home-garden-show/
LOCATION:I-X Center\, 1 I-X Center\, Cleveland\, OH\, 44135\, United States
END:VEVENT
BEGIN:VEVENT
DTSTART;TZID=America/Detroit:20211209T170000
DTEND;TZID=America/Detroit:20211209T200000
DTSTAMP:20260424T010422
CREATED:20210825T185634Z
LAST-MODIFIED:20210825T185634Z
UID:9011-1639069200-1639080000@www.aquadocinc.com
SUMMARY:Weatherhead 100 Award Ceremony
DESCRIPTION:Spirited black-tie event\, held to honor the 33rd Annual Weatherhead 100. The ceremony is always a rewarding and memorable event that puts Northeast Ohio’s best companies center stage.
URL:https://www.aquadocinc.com/event/weatherhead-100-award-ceremony/
LOCATION:Hilton Cleveland Downtown\, 100 Lakeside Ave.\, East Cleveland\, OH\, 44114\, United States
ATTACH;FMTTYPE=image/png:https://www.aquadocinc.com/wp-content/uploads/2021/08/Weatherhead-logo.png
END:VEVENT
BEGIN:VEVENT
DTSTART;TZID=America/Detroit:20211206T073000
DTEND;TZID=America/Detroit:20211208T170000
DTSTAMP:20260424T010422
CREATED:20210825T181603Z
LAST-MODIFIED:20210825T181603Z
UID:9006-1638775800-1638982800@www.aquadocinc.com
SUMMARY:58th Annual Pennsylvania Camp Trade Show
DESCRIPTION:
URL:https://www.aquadocinc.com/event/58th-annual-pennsylvania-camp-trade-show/
LOCATION:The Penn Stater Hotel & Conference Center\, 215 Innovation Blvd.\, State College\, PA\, 16803\, United States
ATTACH;FMTTYPE=image/png:https://www.aquadocinc.com/wp-content/uploads/2021/08/PCOA-Logo.png
END:VEVENT
BEGIN:VEVENT
DTSTART;TZID=America/Detroit:20211103T080000
DTEND;TZID=America/Detroit:20211104T170000
DTSTAMP:20260424T010422
CREATED:20210825T173349Z
LAST-MODIFIED:20210825T173636Z
UID:8999-1635926400-1636045200@www.aquadocinc.com
SUMMARY:50th Annual WMAO Meeting & Symposium
DESCRIPTION:We invite all who work in water resources to join us for this networking event as a special breakfast that will include a chef hosted omelet bar to officially kick-off the start of the 50th Annual WMAO Conference. In particular\, WMAO Water Buffalo are encouraged to attend. Let us reconnect and share our reminiscent stories about WMAO and past efforts to be agents of change towards the betterment of Ohio’s water quality throughout five decades. Early career professionals will also enjoy the lively conversation that is always welcomed as we gather annually. This event requires a separate registration from conference attendance.
URL:https://www.aquadocinc.com/event/50th-annual-amao-meeting-symposium/
LOCATION:Crowne Plaza Columbus North\, Worthington\, 6500 Doubletree Ave.\, Columbus\, OH\, 43229\, United States
ATTACH;FMTTYPE=image/png:https://www.aquadocinc.com/wp-content/uploads/2021/08/wmao_logo_originalsmall_1298605967.png
END:VEVENT
BEGIN:VEVENT
DTSTART;TZID=America/Detroit:20211006T100000
DTEND;TZID=America/Detroit:20211006T140000
DTSTAMP:20260424T010422
CREATED:20210825T161905Z
LAST-MODIFIED:20210825T161905Z
UID:8985-1633514400-1633528800@www.aquadocinc.com
SUMMARY:South Carolina Community Association Institute Networking Expo
DESCRIPTION:
URL:https://www.aquadocinc.com/event/south-carolina-community-association-institute-networking-expo/
LOCATION:Myrtle Beach Sports Center\, 2115 Farlow St.\, Myrtle Beach\, SC\, 29577\, United States
ATTACH;FMTTYPE=image/jpeg:https://www.aquadocinc.com/wp-content/uploads/2021/08/CAI-Networking.jpeg
END:VEVENT
BEGIN:VEVENT
DTSTART;TZID=America/Detroit:20210930T150000
DTEND;TZID=America/Detroit:20210930T190000
DTSTAMP:20260424T010422
CREATED:20210825T155407Z
LAST-MODIFIED:20210825T160018Z
UID:8979-1633014000-1633028400@www.aquadocinc.com
SUMMARY:AQUA DOC: Columbus Open House
DESCRIPTION:
URL:https://www.aquadocinc.com/event/aqua-doc-columbus-open-house/
LOCATION:AQUA DOC Lake & Pond Management\, 255 Enterprise Dr\, Columbus\, OH\, 43035
ATTACH;FMTTYPE=image/jpeg:https://www.aquadocinc.com/wp-content/uploads/2021/08/COLUMBUS-BUILDING-1-scaled.jpg
END:VEVENT
BEGIN:VEVENT
DTSTART;TZID=America/Detroit:20210929T150000
DTEND;TZID=America/Detroit:20210929T190000
DTSTAMP:20260424T010422
CREATED:20210825T154405Z
LAST-MODIFIED:20210825T154405Z
UID:8975-1632927600-1632942000@www.aquadocinc.com
SUMMARY:AQUA DOC: Cincinnati Open House
DESCRIPTION:
URL:https://www.aquadocinc.com/event/aqua-doc-cincinnati-open-house/
LOCATION:AQUA DOC Lake & Pond Management\, 255 Enterprise Dr\, Columbus\, OH\, 43035
ATTACH;FMTTYPE=image/png:https://www.aquadocinc.com/wp-content/uploads/2021/08/Cinci-Home.png
END:VEVENT
BEGIN:VEVENT
DTSTART;TZID=America/Detroit:20210924T110000
DTEND;TZID=America/Detroit:20210924T133000
DTSTAMP:20260424T010422
CREATED:20210825T153623Z
LAST-MODIFIED:20210825T163932Z
UID:8969-1632481200-1632490200@www.aquadocinc.com
SUMMARY:Northern Community Association Institute Trade Show
DESCRIPTION:Habits of Success \nCraig Huntington\, Alliance Association Bank\, Speaker
URL:https://www.aquadocinc.com/event/community-association-institute-trade-show/
LOCATION:Embassy Suites\, 4955 Kyngs Heath Rd.\, Kissimmee\, Florida\, 34746\, United States
ATTACH;FMTTYPE=image/jpeg:https://www.aquadocinc.com/wp-content/uploads/2021/08/CAI-Logo.jpg
END:VEVENT
END:VCALENDAR